Workbook
Name ____kk1: #REF!
Name ___kk1: #REF!
Name ___kk1: #REF!
Name ___kk1: #REF!
Name __kk1: #REF!
Name __kk1: #REF!
Name __kk1: #REF!
Name _kk1: #REF!
Name _kk1: #REF!
Name _kk1: #REF!
Name _kk1: #REF!
Name _kk1: #REF!
Name _kk1: #REF!
Name ▼選択してください。: #REF!
Name ▼選択してください。: #REF!
Name ▼選択してください。: #REF!
Name ▼選択してください。: #REF!
Name ▼選択してください。: #REF!
Name ▼選択してください。: #REF!
Name ▼選択してください。: #REF!
Name ▼選択してください。: #REF!
Name ▼選択してください。: #REF!
Name ▼選択してください。: #REF!
Name ▼選択してください。: #REF!
Name ▼選択してください。: #REF!
Name ▼選択してください。: #REF!
Name ▼選択してください。: #REF!
Name ▼選択してください。: #REF!
Name ▼選択してください。: #REF!
Name ▼選択してください。: #REF!
Name ▼選択してください。: #REF!
Name ▼選択してください。: #REF!
Name ▼選択してください。: #REF!
Name ▼選択してください。: #REF!
Name ▼選択してください。: #REF!
Name ▼選択してください。: #REF!
Name ▼選択してください。: #REF!
Name ▼選択してください。: #REF!
Name ▼選択してください。: #REF!
Name aa: #REF!
Name aa: #REF!
Name aa: #REF!
Name aaaaa: #REF!
Name aaaaa: #REF!
Name aaaaa: #REF!
Name Avrg: #REF!
Name Avrg: #REF!
Name Avrg: #REF!
Name Avrg: #REF!
Name Avrg: #REF!
Name CSV_サービス情報: #REF!
Name CSV_サービス情報: #REF!
Name CSV_サービス情報: #REF!
Name CSV_サービス情報: #REF!
Name CSV_サービス情報: #REF!
Name CSV_サービス情報: #REF!
Name CSV_サービス情報: #REF!
Name CSV_サービス情報: #REF!
Name CSV_サービス情報: #REF!
Name CSV_サービス情報: #REF!

Sheet はじめに
A3: 児童福祉法に基づく指定障害児通所支援事業所等 給付費算定に係る体制等に関する届出書
A4: 令和５年４月～
A7: ◆ | B7: このファイルは、児童福祉法に基づく指定障害児通所支援事業所・指定障害児入所施設の「給付費算定に係る体制等に関する届出書」の様式集です。
A9: ◆ | B9: この届出は、現状の給付日算定に係る体制を届け出てください。また、加算の新規取得や取得内容の変更を行う場合は、変更が生じる月の前月の15日までに提出してください。なお、指定申請において県に提出した書類と矛盾が生じる場合は、あわせて指定申請書類の変更届（別様式）もご提出ください。
A11: ◆ | B11: 各様式の役割
B12: 「様式第1号」･･･届出書の表紙となるものです。提出の際は必ず作成してください。
B13: 「別紙1」･･･届出内容の総括表となるものです。提出の際は、サービス種類に合ったものを作成してください。
B15: 「別紙2～別紙21」･･･各加算、体制等の算定要件を満たしていることを示していただくものです。提出の際
B16: は該当する様式を作成してください。
B17: ※「確認シート」を使用していただき、提出する届出書にもれがないかの確認をしてください。
M20: 届出書一式の完成 （届出を行う場合は、左の黄色の様式は毎回必ず提出してください。）
C22: ＋ | E22: ＋ | H22: ＋ | L22: ＝
M26: Ver23.0

Sheet サービス種類別提出書類一覧
A1: 障害児（通所・入所）給付費算定に係る体制等に関する届出書 【※ 新規の事業所指定申請の際にも、該当する書類が必要になります】
A5: （◎は必須 ▲は該当する場合提出）
A6: 書類の提出時期 | B6: 提出書類（書類略称） | C6: 児童発達支援センター | D6: 児童発達支援 （センター以外） | E6: 医療型児童発達支援 | F6: 居宅訪問型児童発達支援 | G6: 医療型児童発達支援（センター以外) | H6: 放課後等デイｻｰﾋﾞｽ | I6: 保育所等訪問支援 | J6: 福祉型障害児入所施設 | K6: 医療型障害児入所施設
A9: 事業所指定 申請時 ・ 毎年4月 （前年度実績によるサービス費の見直し） | B9: 様式第1号（体制届出書） | C9: ◎ | D9: ◎ | E9: ◎ | F9: ◎ | G9: ◎ | H9: ◎ | I9: ◎ | J9: ◎ | K9: ◎
B10: 別紙1 | C10: ◎ | D10: ◎ | E10: ◎ | F10: ◎ | G10: ◎ | H10: ◎ | I10: ◎ | J10: ◎ | K10: ◎
B11: 別紙2-0（児発支） | D11: ◎
B12: 別紙2-1（放課後ﾃﾞｲ） | H12: ◎
B13: 別紙2-2（センター･医療型児発支） | C13: ◎ | E13: ◎ | G13: ◎
B14: 別紙2-3（保育所等訪問支援） | I14: ◎
B15: 別紙2-4（入所施設） | J15: ◎ | K15: ◎
B16: 別紙2-5(居宅訪問型児童発達支援） | F16: ◎
B17: 別紙3（福祉専門職員配置等加算） | C17: ▲ | D17: ▲ | E17: ▲ | G17: ▲ | H17: ▲ | J17: ▲ | K17: ▲
B18: 別紙4（栄養士・栄養マネジメント） （※栄養マネジメント加算は福祉型入所のみ） | C18: ▲ | J18: ▲
B19: 別紙5（特別支援） | C19: ▲ | D19: ▲ | E19: ▲ | G19: ▲ | H19: ▲
B20: 別紙6（延長支援） | C20: ▲ | D20: ▲ | E20: ▲ | G20: ▲ | H20: ▲
B21: 別紙7（職業指導員） | J21: ▲
B22: 別紙8-1（重度障害児・重度重複） | J22: ▲ | K22: ▲
B23: 別紙8-2（重度障害児加算・強度行動障害） | J23: ▲
B24: 別紙9-1（強度行動障害児特別支援加算） | J24: ▲
B25: 別紙9-2（強度行動障害児特別支援加算） | C25: ▲ | D25: ▲ | G25: ▲ | H25: ▲
B26: 別紙10-1（心理担当職員配置加算） | J26: ▲ | K26: ▲
B27: 別紙10-2（心理関係の確認書） | J27: ▲
B28: 別紙11（看護師配置加算） | J28: ▲
B29: 別紙12（自活訓練加算） | J29: ▲ | K29: ▲
B30: 別紙13（小規模ｸﾞﾙｰﾌﾟｹｱ） | J30: ▲ | K30: ▲
B31: 別紙13-2（小規模ｸﾞﾙｰﾌﾟｹｱ）（ｻﾃﾗｲﾄ型） | J31: ▲
B32: 別紙14（食事提供加算） | C32: ▲ | E32: ▲ | G32: ▲
B33: 別紙16-1（送迎加算 重症心身障害児） | C33: ▲ | D33: ▲ | E33: ▲ | H33: ▲
B34: 別紙16-2（送迎加算 重身を除く） | C34: ▲ | D34: ▲ | G34: ▲ | H34: ▲
B35: 別紙17-1(報酬算定区分) | C35: ▲ | D35: ▲
B36: 別紙17-2(報酬算定区分) | H36: ▲
B37: 別紙18-1(看護職員加配加算)重心以外 | C37: ▲ | D37: ▲ | E37: ▲ | G37: ▲ | H37: ▲
B38: 別紙17-3（医療的ケア区分に応じた報酬） | C38: ▲ | D38: ▲ | E38: ▲ | H38: ▲
B39: ※17-2（別添）医療的ケア区分に応じた基本報酬の算定に関する届出書 | H39: ▲
B40: 別紙18(看護職員加配加算)重心 | H40: ▲
B41: 別紙19(訪問支援員特別加算) | F41: ▲ | I41: ▲
B42: 別紙20(共生型サービス体制強化加算) | C42: ▲ | D42: ▲ | H42: ▲
B43: 別紙21（自己評価結果未公表減算） | C43: ▲ | D43: ▲ | G43: ◎ | H43: ▲
B44: 別紙22（ソーシャルワーカー配置加算） | J44: ▲ | K44: ▲
B45: （福祉・介護職員処遇改善加算） | C45: ▲ | D45: ▲ | E45: ▲ | F45: ▲ | H45: ▲ | I45: ▲ | J45: ▲ | K45: ▲
...

Sheet 様式第1号
A1: （様式第１号）
A2: 障害児（通所・入所）給付費算定に係る体制等に関する届出書
Y4: 令和 | AC4: 年 | AF4: 月 | AI4: 日
B6: 選択してください | L6: 殿
N8: 届出者 | Q8: 所 在 地
Q9: 法人名
Q10: 代表者名
A13: このことについて、関係書類を添えて以下のとおり届け出ます。（ 新規 ・ 変更 ・ 報告）
A15: 届出者（法人） | B15: フリガナ
B16: 名称
B17: 主たる事務所 の所在地 | J17: （郵便番号 － ）
J18: 県 郡市
B21: 連絡先 | J21: 電話番号 | X21: ＦＡＸ番号
B22: 代表者の職・氏名 | J22: 職名 | X22: 氏名 | AT22: 選択してください。
A23: 事業所・施設の状況 | B23: 主たる事業所の所在地 | J23: （郵便番号 － ） | AQ23: 児童発達支援 | AT23: 児童発達支援（センターで行う場合）
J24: 県 郡市 | AQ24: 医療型児童発達支援 | AT24: 児童発達支援（センターではない事業所）
AQ25: 放課後等デイサービス | AT25: 児童発達支援（主として重症心身障害児を受け入れる事業所）
AQ26: 保育所等訪問支援 | AT26: 医療型児童発達支援
B27: 事業所番号 | Q27: サービスの種類 | AA27: 児童発達支援（センターではない事業所） | AQ27: 福祉型障害児入所施設 | AT27: 医療型児童発達支援（指定医療機関） | BB27: まずはサービス種類を選択してください。
AT28: 居宅訪問型児童発達支援
AQ29: 医療型障害児入所施設 | AT29: 放課後等デイサービス
B30: 事業所名 | AQ30: 居宅訪問型児童発達支援 | AT30: 放課後等デイサービス（主として重症心身障害児を受け入れる事業所）
B31: 連絡先 | J31: 電話番号 | X31: ＦＡＸ番号 | AT31: 保育所等訪問支援
B32: 管理者の氏名 | J32: 職名 | X32: 氏名
A33: 指定年月日 | H33: 平成・令和 | O33: 年 | R33: 月 | U33: 日 | V33: 指定終了年月日 | AB33: 令和 | AF33: 年 | AI33: 月 | AL33: 日 | AT33: 福祉型障害児入所施設
A34: 変更の概要 | B34: ① 年度切替時 （令和５年４月時提出） | S34: 有 ・ 無 | V34: ② 通年 （変更がある場合に提出） | AT34: 医療型障害児入所施設
B35: ３月サービス提供分（４月請求分）から ４月サービス提供分（５月請求分）の報酬算定（加算及び区分）の変更 ※制度上、廃止される加算に関するものは除く | V35: 【例】 ４月サービス提供分（５月請求分）から ５月サービス提供分（６月請求分）の報酬算定（加算及び区分）の変更
B38: 変更前 | O38: 変更後
B39: 記載例 | C39: 福祉専門職員等配置加算（Ⅲ） 児童指導員等加配加算Ⅰ（児童指導員） | O39: 福祉専門職員等配置加算 無 児童指導員等加配加算Ⅰ（専門職員等）
O46: 変更年月日 [加算算定適用年月日] | Y46: 令和 | AD46: 年 | AH46: 月 | AL46: 日

Sheet 確認シート
A2: ※水色のセルのみ入力してください。
B4: 児童福祉法に基づく指定障害児通所支援事業所等 給付費算定に係る体制等に関する届出書類確認シート
B7: 法人名称 | D7: =様式第1号!J16 -> 0 | F7: ※黄色部分は第１号様式入力後、自動的に入力されます。
B8: 事業所番号 | D8: =様式第1号!J27 -> 0
B9: 事業所名称 | D9: =様式第1号!J30 -> 0
B10: サービス種類 | D10: =様式第1号!AA27 -> 児童発達支援（センターではない事業所）
B11: 担当者氏名
B12: 連絡先
C14: 様式 | D14: 提出書類 | F14: 備考 | G14: 確認欄
B15: 児童福祉法に基づく指定障害児通所支援事業 所等給付費算定に係る体制等に関する届出書 | C15: 本用紙 | D15: 届出書類確認シート | F15: 必須 | J15: 届出書類が用意できているものは、確認欄に「レ」、「○」等と記入し、漏れがないことを確認の上、提出してください。
C16: 第1号様式 | D16: 障害児（通所・入所）給付費算定に係る体制等に関する届出書 | F16: 必須
C17: 別紙１ | D17: 障害児通所・入所給付費の算定に係る体制等状況一覧表 | F17: 必須
C18: 別紙２ | D18: 人員基準等適合確認シート | F18: 必須
C19: 別紙３～21 | D19: 各加算算定届
C20: 別紙17－１ 又は 別紙17－２ | D20: 【児童発達支援及び放課後等デイサービスのみ】 報酬算定区分に関する届出書
C21: 別紙21 | D21: 【児童発達支援及び放課後等デイサービスのみ】 自己評価結果に関する届出書
D22: 処遇改善加算の届出書 | F22: 算定する場合は別途、届出書を作成し、添付してください。
B24: ○児童指導員、保育士、障害福祉サービス経験者及び児童発達支援管理責任者の要件を確認する書類 ※必要な書類の内容については、各指定権者からの通知をご確認ください。
B25: 職種 | D25: 要件を確認できる書類 | G25: 確認欄
B26: 児童指導員 | D26: 実務経験証明書、資格証の写し、卒業証明書、教員免許の写し 等（※）
B27: 保育士 | D27: 保育士登録証の写し
B28: 障害福祉サービス 経験者 | D28: 卒業証明書（高等学校）＋障害福祉サービスの実務経験証明書 （２年かつ360日以上の証明が必要です。）
B29: 児童発達支援 管理責任者 | D29: 実務経験証明書
D30: 資格証の写し（有資格者の場合）
D31: サービス管理責任者研修（分野別）又はサービス管理責任者等基礎研修の修了証の写し
D32: サービス管理責任者補足研修（相談支援従事者初任者研修の講義部分） の修了証の写し
D33: 児童発達支援管理責任者実践研修の修了証の写し
B34: （※）児童指導員の要件は一通りではありません。該当する要件によって提出する書類が異なります。 児童指導員の要件を十分に確認の上、必要書類を準備してください。
B36: 事業所における児童発達支援管理責任者研修受講済み従業者の人数（現在、配置されている児童発達支援管理責任者を除く） | G36: 人
B38: 最後にこの確認シートを同封し、郵送にて提出してください

Sheet 別紙１
A1: （別紙1）障害児通所給付費等の算定に係る体制等状況一覧表
B2: 項目 | C2: 内容 | D2: 必須
B3: 事業所名称 | C3: =様式第1号!J30 -> 0 | D3: ● | AH3: 【別紙１の記入方法】 ①事業所番号、サービス提供単位番号、 定員数を入力してください。 ②サービス種類を選んでください。 サービス種類を選ぶと、「必須」の欄に● がでます。●がついている項目が必須 項目です。主たる障害種別や地域区分、 減算、加算等の状況についてプルダウンで 選択してください。(無しの場合はプルダウン で「無し」を選択してください。) | AN3: Ⅰ
B4: 事業所番号 | C4: =様式第1号!J27 -> 0 | D4: ● | AN4: Ⅱ
B5: サービス提供単位番号 | D5: =IFERROR(D$16,"") -> ● | E5: ※ 半角 | AN5: 区分なし
B6: 定員数 | D6: =IFERROR(D$16,"") -> ● | E6: ※ 半角
B7: サービス種類 | C7: =様式第1号!AA27 -> 児童発達支援（センターではない事業所） | D7: ● | H7: 児童発達支援（センターで行う場合） | I7: 児童発達支援（センターではない事業所） | J7: 児童発達支援（主として重症心身障害児を受け入れる事業所） | K7: 医療型児童発達支援 | L7: 医療型児童発達支援（指定医療機関） | M7: 放課後等デイサービス | N7: 放課後等デイサービス（主として重症心身障害児を受け入れる事業所） | O7: 保育所等訪問支援 | P7: 居宅訪問型児童発達支援 | Q7: 福祉型障害児入所施設 | R7: 医療型障害児入所施設 | S7: 医療型障害児入所施設（指定発達支援医療機関）
B8: 施設等の区分 | D8: =IFERROR(IF($C$7<>"",IF(HLOOKUP($C$7,$H$7:$R$50,ROW()-ROW($H$6),FALSE)<>"","●",""),""),"") | Q8: =ADDRESS(ROW(),COLUMN(X8))&":"&ADDRESS(ROW(),COLUMN(Z8)) -> $X$8:$Z$8 | X8: 当該施設が単独施設 | Y8: 当該施設に併設する施設が主たる施設 | Z8: 当該施設が主たる施設
B9: 主たる障害種別 | D9: =IFERROR(IF($C$7<>"",IF(HLOOKUP($C$7,$H$7:$R$50,ROW()-ROW($H$6),FALSE)<>"","●",""),""),"") | H9: =ADDRESS(ROW(),COLUMN(T9))&":"&ADDRESS(ROW(),COLUMN(V9)) -> $T$9:$V$9 | Q9: =ADDRESS(ROW(),COLUMN(W9))&":"&ADDRESS(ROW(),COLUMN(AA9)) -> $W$9:$AA$9 | T9: その他障害 | U9: 重症心身障害 | V9: 難聴児 | W9: 知的障害児 | X9: 自閉症児 | Y9: 盲児 | Z9: ろうあ児 | AA9: 肢体不自由児
B10: 地域区分 | D10: =IFERROR(IF($C$7<>"",IF(HLOOKUP($C$7,$H$7:$R$50,ROW()-ROW($H$6),FALSE)<>"","●",""),""),"") -> ● | F10: =ADDRESS(ROW(),COLUMN(T10),4) -> T10 | G10: =ADDRESS(ROW(),COLUMN(T10)+COUNTA(T10:AF10)-1,4) -> AA10 | H10: =$F10&":"&$G10 -> T10:AA10 | I10: =$F10&":"&$G10 -> T10:AA10 | J10: =$F10&":"&$G10 -> T10:AA10 | K10: =$F10&":"&$G10 -> T10:AA10 | L10: =$F10&":"&$G10 -> T10:AA10 | M10: =$F10&":"&$G10 -> T10:AA10 | N10: =$F10&":"&$G10 -> T10:AA10 | O10: =$F10&":"&$G10 -> T10:AA10 | ... S10: =$F10&":"&$G10 -> T10:AA10 | T10: 一級地 | U10: 二級地 | V10: 三級地 | W10: 四級地 | X10: 五級地 | Y10: 六級地 | Z10: 七級地 | AA10: その他
B11: 処遇改善加算 | D11: =IFERROR(IF($C$7<>"",IF(HLOOKUP($C$7,$H$7:$S$50,ROW()-ROW($H$6),FALSE)<>"","●",""),""),"") -> ● | F11: =ADDRESS(ROW(),COLUMN(T11),4) -> T11 | G11: =ADDRESS(ROW(),COLUMN(T11)+COUNTA(T11:AF11)-1,4) -> W11 | H11: =$F11&":"&$G11 -> T11:W11 | I11: =$F11&":"&$G11 -> T11:W11 | J11: =$F11&":"&$G11 -> T11:W11 | K11: =$F11&":"&$G11 -> T11:W11 | L11: =$F11&":"&$G11 -> T11:W11 | M11: =$F11&":"&$G11 -> T11:W11 | N11: =$F11&":"&$G11 -> T11:W11 | O11: =$F11&":"&$G11 -> T11:W11 | ... S11: =$F11&":"&$G11 -> T11:W11 | T11: 無し | U11: 処遇改善加算Ⅰ | V11: 処遇改善加算Ⅱ | W11: 処遇改善加算Ⅲ
B12: 特定処遇改善加算 | D12: =IFERROR(IF($C$7<>"",IF(HLOOKUP($C$7,$H$7:$S$50,ROW()-ROW($H$6),FALSE)<>"","●",""),""),"") -> ● | F12: =ADDRESS(ROW(),COLUMN(T12),4) -> T12 | G12: =ADDRESS(ROW(),COLUMN(T12)+COUNTA(T12:AF12)-1,4) -> W12 | H12: =$F12&":"&$G12 -> T12:W12 | I12: =$F12&":"&$G12 -> T12:W12 | J12: =$F12&":"&$G12 -> T12:W12 | K12: =$F12&":"&$G12 -> T12:W12 | L12: =$F12&":"&$G12 -> T12:W12 | M12: =$F12&":"&$G12 -> T12:W12 | N12: =$F12&":"&$G12 -> T12:W12 | O12: =$F12&":"&$G12 -> T12:W12 | ... S12: =$F12&":"&$G12 -> T12:W12 | T12: 無し | U12: 特定処遇改善加算Ⅰ | V12: 特定処遇改善加算Ⅱ | W12: 区分なし
B13: ベースアップ支援加算 | D13: =IFERROR(IF($C$7<>"",IF(HLOOKUP($C$7,$H$7:$S$50,ROW()-ROW($H$6),FALSE)<>"","●",""),""),"") -> ● | F13: =ADDRESS(ROW(),COLUMN(T13),4) -> T13 | G13: =ADDRESS(ROW(),COLUMN(T13)+COUNTA(T13:AF13)-1,4) -> U13 | H13: =$F13&":"&$G13 -> T13:U13 | I13: =$F13&":"&$G13 -> T13:U13 | J13: =$F13&":"&$G13 -> T13:U13 | K13: =$F13&":"&$G13 -> T13:U13 | L13: =$F13&":"&$G13 -> T13:U13 | M13: =$F13&":"&$G13 -> T13:U13 | N13: =$F13&":"&$G13 -> T13:U13 | O13: =$F13&":"&$G13 -> T13:U13 | ... S13: =$F13&":"&$G13 -> T13:U13 | T13: 無し | U13: 有り
B14: 指定管理の有無 | D14: =IFERROR(IF($C$7<>"",IF(HLOOKUP($C$7,$H$7:$S$50,ROW()-ROW($H$6),FALSE)<>"","●",""),""),"") -> ● | F14: =ADDRESS(ROW(),COLUMN(T14),4) -> T14 | G14: =ADDRESS(ROW(),COLUMN(T14)+COUNTA(T14:AF14)-1,4) -> U14 | H14: =$F14&":"&$G14 -> T14:U14 | I14: =$F14&":"&$G14 -> T14:U14 | J14: =$F14&":"&$G14 -> T14:U14 | K14: =$F14&":"&$G14 -> T14:U14 | L14: =$F14&":"&$G14 -> T14:U14 | M14: =$F14&":"&$G14 -> T14:U14 | N14: =$F14&":"&$G14 -> T14:U14 | O14: =$F14&":"&$G14 -> T14:U14 | ... S14: =$F14&":"&$G14 -> T14:U14 | T14: 非該当 | U14: 該当
B15: 地域生活支援拠点等の有無 | D15: =IFERROR(IF($C$7<>"",IF(HLOOKUP($C$7,$H$7:$S$50,ROW()-ROW($H$6),FALSE)<>"","●",""),""),"") -> ● | F15: =ADDRESS(ROW(),COLUMN(T15),4) -> T15 | G15: =ADDRESS(ROW(),COLUMN(T15)+COUNTA(T15:AF15)-1,4) -> U15 | H15: =$F15&":"&$G15 -> T15:U15 | I15: =$F15&":"&$G15 -> T15:U15 | J15: =$F15&":"&$G15 -> T15:U15 | K15: =$F15&":"&$G15 -> T15:U15 | L15: =$F15&":"&$G15 -> T15:U15 | M15: =$F15&":"&$G15 -> T15:U15 | N15: =$F15&":"&$G15 -> T15:U15 | O15: =$F15&":"&$G15 -> T15:U15 | ... S15: =$F15&":"&$G15 -> T15:U15 | T15: 非該当 | U15: 該当
B16: 定員超過減算 | D16: =IFERROR(IF($C$7<>"",IF(HLOOKUP($C$7,$H$7:$S$50,ROW()-ROW($H$6),FALSE)<>"","●",""),""),"") -> ● | F16: =ADDRESS(ROW(),COLUMN(T16),4) -> T16 | G16: =ADDRESS(ROW(),COLUMN(T16)+COUNTA(T16:AF16)-1,4) -> U16 | H16: =$F16&":"&$G16 -> T16:U16 | I16: =$F16&":"&$G16 -> T16:U16 | J16: =$F16&":"&$G16 -> T16:U16 | K16: =$F16&":"&$G16 -> T16:U16 | L16: =$F16&":"&$G16 -> T16:U16 | M16: =$F16&":"&$G16 -> T16:U16 | N16: =$F16&":"&$G16 -> T16:U16 | Q16: =$F16&":"&$G16 -> T16:U16 | R16: =$F16&":"&$G16 -> T16:U16 | S16: =$F16&":"&$G16 -> T16:U16 | T16: 無し | U16: 有り
B17: 職員欠如減算 | D17: =IFERROR(IF($C$7<>"",IF(HLOOKUP($C$7,$H$7:$S$50,ROW()-ROW($H$6),FALSE)<>"","●",""),""),"") -> ● | F17: =ADDRESS(ROW(),COLUMN(T17),4) -> T17 | G17: =ADDRESS(ROW(),COLUMN(T17)+COUNTA(T17:AF17)-1,4) -> U17 | H17: =$F17&":"&$G17 -> T17:U17 | I17: =$F17&":"&$G17 -> T17:U17 | J17: =$F17&":"&$G17 -> T17:U17 | M17: =$F17&":"&$G17 -> T17:U17 | N17: =$F17&":"&$G17 -> T17:U17 | T17: 無し | U17: 有り
B18: 児童発達支援管理責任者欠如減算 | D18: =IFERROR(IF($C$7<>"",IF(HLOOKUP($C$7,$H$7:$S$50,ROW()-ROW($H$6),FALSE)<>"","●",""),""),"") -> ● | F18: =ADDRESS(ROW(),COLUMN(T18),4) -> T18 | G18: =ADDRESS(ROW(),COLUMN(T18)+COUNTA(T18:AF18)-1,4) -> U18 | H18: =$F18&":"&$G18 -> T18:U18 | I18: =$F18&":"&$G18 -> T18:U18 | J18: =$F18&":"&$G18 -> T18:U18 | M18: =$F18&":"&$G18 -> T18:U18 | N18: =$F18&":"&$G18 -> T18:U18 | O18: =$F18&":"&$G18 -> T18:U18 | P18: =$F18&":"&$G18 -> T18:U18 | T18: 無し | U18: 有り
B19: 開所時間減算 | D19: =IFERROR(IF($C$7<>"",IF(HLOOKUP($C$7,$H$7:$S$50,ROW()-ROW($H$6),FALSE)<>"","●",""),""),"") -> ● | F19: =ADDRESS(ROW(),COLUMN(T19),4) -> T19 | G19: =ADDRESS(ROW(),COLUMN(T19)+COUNTA(T19:AF19)-1,4) -> V19 | H19: =$F19&":"&$G19 -> T19:V19 | I19: =$F19&":"&$G19 -> T19:V19 | J19: =$F19&":"&$G19 -> T19:V19 | K19: =$F19&":"&$G19 -> T19:V19 | L19: =$F19&":"&$G19 -> T19:V19 | M19: =$F19&":"&$G19 -> T19:V19 | N19: =$F19&":"&$G19 -> T19:V19 | T19: 無し | U19: 有り(4時間以上6時間未満) | V19: 有り(4時間未満)
B20: 自己評価結果等未公表減算 | D20: =IFERROR(IF($C$7<>"",IF(HLOOKUP($C$7,$H$7:$S$50,ROW()-ROW($H$6),FALSE)<>"","●",""),""),"") -> ● | F20: =ADDRESS(ROW(),COLUMN(T20),4) -> T20 | G20: =ADDRESS(ROW(),COLUMN(T20)+COUNTA(T20:AF20)-1,4) -> U20 | H20: =$F20&":"&$G20 -> T20:U20 | I20: =$F20&":"&$G20 -> T20:U20 | J20: =$F20&":"&$G20 -> T20:U20 | M20: =$F20&":"&$G20 -> T20:U20 | N20: =$F20&":"&$G20 -> T20:U20 | T20: 無し | U20: 有り
B21: 児童発達支援【報酬算定区分】 | D21: =IFERROR(IF($C$7<>"",IF(HLOOKUP($C$7,$H$7:$S$50,ROW()-ROW($H$6),FALSE)<>"","●",""),""),"") -> ● | F21: =ADDRESS(ROW(),COLUMN(T21),4) -> T21 | G21: =ADDRESS(ROW(),COLUMN(T21)+COUNTA(T21:AF21)-1,4) -> V21 | H21: =$F21&":"&$G21 -> T21:V21 | I21: =$F21&":"&$G21 -> T21:V21 | J21: =$F21&":"&$G21 -> T21:V21 | T21: 非該当 | U21: Ⅰ（小学校就学前児70%以上） | V21: Ⅱ（小学校就学前児70%未満）
B22: 放課後等デイサービス【報酬算定区分】 | D22: =IFERROR(IF($C$7<>"",IF(HLOOKUP($C$7,$H$7:$S$50,ROW()-ROW($H$6),FALSE)<>"","●",""),""),"") | F22: =ADDRESS(ROW(),COLUMN(T22),4) -> T22 | G22: =ADDRESS(ROW(),COLUMN(T22)+COUNTA(T22:AF22)-1,4) -> U22 | M22: =$F22&":"&$G22 -> T22:U22 | T22: 区分１（サービス提供３時間以上） | U22: 区分２（サービス提供３時間未満）
B23: 児童指導員等配置加算 | D23: =IFERROR(IF($C$7<>"",IF(HLOOKUP($C$7,$H$7:$S$50,ROW()-ROW($H$6),FALSE)<>"","●",""),""),"") -> ● | F23: =ADDRESS(ROW(),COLUMN(T23),4) -> T23 | G23: =ADDRESS(ROW(),COLUMN(T23)+COUNTA(T23:AF23)-1,4) -> U23 | H23: =$F23&":"&$G23 -> T23:U23 | I23: =$F23&":"&$G23 -> T23:U23 | J23: =$F23&":"&$G23 -> T23:U23 | M23: =$F23&":"&$G23 -> T23:U23 | N23: =$F23&":"&$G23 -> T23:U23 | T23: 無し | U23: 有り
B24: 児童指導員等加配加算 | D24: =IFERROR(IF($C$7<>"",IF(HLOOKUP($C$7,$H$7:$S$50,ROW()-ROW($H$6),FALSE)<>"","●",""),""),"") -> ● | F24: =ADDRESS(ROW(),COLUMN(T24),4) -> T24 | G24: =ADDRESS(ROW(),COLUMN(T24)+COUNTA(T24:AF24)-1,4) -> X24 | H24: =$F24&":"&$G24 -> T24:X24 | I24: =$F24&":"&$G24 -> T24:X24 | J24: =$F24&":"&$G24 -> T24:X24 | M24: =$F24&":"&$G24 -> T24:X24 | N24: =$F24&":"&$G24 -> T24:X24 | T24: 無し | U24: 専門職員(PT等) | V24: 専門職員（保育士） | W24: 児童指導員等 | X24: その他の従業者
B25: 専門的支援加算 | D25: =IFERROR(IF($C$7<>"",IF(HLOOKUP($C$7,$H$7:$S$50,ROW()-ROW($H$6),FALSE)<>"","●",""),""),"") -> ● | H25: =ADDRESS(ROW(),COLUMN(T25))&":"&ADDRESS(ROW(),COLUMN(V25)) -> $T$25:$V$25 | I25: =ADDRESS(ROW(),COLUMN(T25))&":"&ADDRESS(ROW(),COLUMN(V25)) -> $T$25:$V$25 | J25: =ADDRESS(ROW(),COLUMN(T25))&":"&ADDRESS(ROW(),COLUMN(V25)) -> $T$25:$V$25 | M25: =ADDRESS(ROW(),COLUMN(T25))&":"&ADDRESS(ROW(),COLUMN(U25)) -> $T$25:$U$25 | N25: =ADDRESS(ROW(),COLUMN(T25))&":"&ADDRESS(ROW(),COLUMN(U25)) -> $T$25:$U$25 | T25: 無し | U25: 理学療法士等 | V25: 児童指導員
B26: 児童指導員等加配加算 | D26: =IFERROR(IF($C$7<>"",IF(HLOOKUP($C$7,$H$7:$S$50,ROW()-ROW($H$6),FALSE)<>"","●",""),""),"") | F26: =ADDRESS(ROW(),COLUMN(T26),4) -> T26 | G26: =ADDRESS(ROW(),COLUMN(T26)+COUNTA(T26:AF26)-1,4) -> V26 | Q26: =$F26&":"&$G26 -> T26:V26 | T26: 無し | U26: 専門職員(PT等) | V26: 児童指導員等
B27: 保育職員加配加算(医療型児発) | D27: =IFERROR(IF($C$7<>"",IF(HLOOKUP($C$7,$H$7:$S$50,ROW()-ROW($H$6),FALSE)<>"","●",""),""),"") | F27: =ADDRESS(ROW(),COLUMN(T27),4) -> T27 | G27: =ADDRESS(ROW(),COLUMN(T27)+COUNTA(T27:AF27)-1,4) -> V27 | K27: =$F27&":"&$G27 -> T27:V27 | L27: =$F27&":"&$G27 -> T27:V27 | T27: 無し | U27: Ⅰ | V27: Ⅱ
B28: 保育職員加配加算(医療型入所) | D28: =IFERROR(IF($C$7<>"",IF(HLOOKUP($C$7,$H$7:$S$50,ROW()-ROW($H$6),FALSE)<>"","●",""),""),"") | F28: =ADDRESS(ROW(),COLUMN(T28),4) -> T28 | G28: =ADDRESS(ROW(),COLUMN(T28)+COUNTA(T28:AF28)-1,4) -> U28 | R28: =$F28&":"&$G28 -> T28:U28 | S28: =$F28&":"&$G28 -> T28:U28 | T28: 無し | U28: 有り
B29: 看護職員加配加算 重心以外はとれないからカット？ | D29: =IFERROR(IF($C$7<>"",IF(HLOOKUP($C$7,$H$7:$S$50,ROW()-ROW($H$6),FALSE)<>"","●",""),""),"") | F29: =ADDRESS(ROW(),COLUMN(T29),4) -> T29 | G29: =ADDRESS(ROW(),COLUMN(T29)+COUNTA(T29:AF29)-1,4) -> W29 | T29: 無し | U29: Ⅰ | V29: Ⅱ | W29: Ⅲ
B30: 看護職員加配加算（重心） | D30: =IFERROR(IF($C$7<>"",IF(HLOOKUP($C$7,$H$7:$S$50,ROW()-ROW($H$6),FALSE)<>"","●",""),""),"") | F30: =ADDRESS(ROW(),COLUMN(T30),4) -> T30 | G30: =ADDRESS(ROW(),COLUMN(T30)+COUNTA(T30:AF30)-1,4) -> V30 | J30: =$F30&":"&$G30 -> T30:V30 | N30: =$F30&":"&$G30 -> T30:V30 | T30: 無し | U30: Ⅰ | V30: Ⅱ
B31: 看護職員配置加算 | D31: =IFERROR(IF($C$7<>"",IF(HLOOKUP($C$7,$H$7:$S$50,ROW()-ROW($H$6),FALSE)<>"","●",""),""),"") | F31: =ADDRESS(ROW(),COLUMN(T31),4) -> T31 | G31: =ADDRESS(ROW(),COLUMN(T31)+COUNTA(T31:AF31)-1,4) -> V31 | Q31: =$F31&":"&$G31 -> T31:V31 | T31: 無し | U31: Ⅰ | V31: Ⅱ
B32: 栄養士配置加算 | D32: =IFERROR(IF($C$7<>"",IF(HLOOKUP($C$7,$H$7:$S$50,ROW()-ROW($H$6),FALSE)<>"","●",""),""),"") | F32: =ADDRESS(ROW(),COLUMN(T32),4) -> T32 | G32: =ADDRESS(ROW(),COLUMN(T32)+COUNTA(T32:AF32)-1,4) -> W32 | H32: =$F32&":"&$G32 -> T32:W32 | Q32: =$F32&":"&$G32 -> T32:W32 | T32: 無し | U32: その他栄養士 | V32: 常勤栄養士 | W32: 常勤管理栄養士
B33: 福祉専門職員配置等加算 | D33: =IFERROR(IF($C$7<>"",IF(HLOOKUP($C$7,$H$7:$S$50,ROW()-ROW($H$6),FALSE)<>"","●",""),""),"") -> ● | F33: =ADDRESS(ROW(),COLUMN(T33),4) -> T33 | G33: =ADDRESS(ROW(),COLUMN(T33)+COUNTA(T33:AF33)-1,4) -> W33 | H33: =$F33&":"&$G33 -> T33:W33 | I33: =$F33&":"&$G33 -> T33:W33 | J33: =$F33&":"&$G33 -> T33:W33 | K33: =$F33&":"&$G33 -> T33:W33 | L33: =$F33&":"&$G33 -> T33:W33 | M33: =$F33&":"&$G33 -> T33:W33 | N33: =$F33&":"&$G33 -> T33:W33 | Q33: =$F33&":"&$G33 -> T33:W33 | R33: =$F33&":"&$G33 -> T33:W33 | S33: =$F33&":"&$G33 -> T33:W33 | T33: 無し | U33: Ⅰ | V33: Ⅱ | W33: Ⅲ
B34: 職業指導員加算 | D34: =IFERROR(IF($C$7<>"",IF(HLOOKUP($C$7,$H$7:$S$50,ROW()-ROW($H$6),FALSE)<>"","●",""),""),"") | F34: =ADDRESS(ROW(),COLUMN(T34),4) -> T34 | G34: =ADDRESS(ROW(),COLUMN(T34)+COUNTA(T34:AF34)-1,4) -> U34 | Q34: =$F34&":"&$G34 -> T34:U34 | T34: 無し | U34: 有り
B35: 心理担当職員配置加算 | D35: =IFERROR(IF($C$7<>"",IF(HLOOKUP($C$7,$H$7:$S$50,ROW()-ROW($H$6),FALSE)<>"","●",""),""),"") | F35: =ADDRESS(ROW(),COLUMN(T35),4) -> T35 | G35: =ADDRESS(ROW(),COLUMN(T35)+COUNTA(T35:AF35)-1,4) -> V35 | Q35: =$F35&":"&$G35 -> T35:V35 | R35: =$F35&":"&$G35 -> T35:V35 | S35: =$F35&":"&$G35 -> T35:V35 | T35: 無し | U35: Ⅰ | V35: Ⅱ
B36: 特別支援加算 | D36: =IFERROR(IF($C$7<>"",IF(HLOOKUP($C$7,$H$7:$S$50,ROW()-ROW($H$6),FALSE)<>"","●",""),""),"") -> ● | F36: =ADDRESS(ROW(),COLUMN(T36),4) -> T36 | G36: =ADDRESS(ROW(),COLUMN(T36)+COUNTA(T36:AF36)-1,4) -> U36 | H36: =$F36&":"&$G36 -> T36:U36 | I36: =$F36&":"&$G36 -> T36:U36 | J36: =$F36&":"&$G36 -> T36:U36 | K36: =$F36&":"&$G36 -> T36:U36 | L36: =$F36&":"&$G36 -> T36:U36 | M36: =$F36&":"&$G36 -> T36:U36 | N36: =$F36&":"&$G36 -> T36:U36 | T36: 無し | U36: 有り
B37: 訪問支援員特別加算 | D37: =IFERROR(IF($C$7<>"",IF(HLOOKUP($C$7,$H$7:$S$50,ROW()-ROW($H$6),FALSE)<>"","●",""),""),"") | F37: =ADDRESS(ROW(),COLUMN(T37),4) -> T37 | G37: =ADDRESS(ROW(),COLUMN(T37)+COUNTA(T37:AF37)-1,4) -> U37 | O37: =$F37&":"&$G37 -> T37:U37 | P37: =$F37&":"&$G37 -> T37:U37 | T37: 無し | U37: 有り
B38: 重度障害児支援（強度行動障害） | D38: =IFERROR(IF($C$7<>"",IF(HLOOKUP($C$7,$H$7:$S$50,ROW()-ROW($H$6),FALSE)<>"","●",""),""),"") | F38: =ADDRESS(ROW(),COLUMN(T38),4) -> T38 | G38: =ADDRESS(ROW(),COLUMN(T38)+COUNTA(T38:AF38)-1,4) -> U38 | Q38: =$F38&":"&$G38 -> T38:U38 | R38: =$F38&":"&$G38 -> T38:U38 | S38: =$F38&":"&$G38 -> T38:U38 | T38: 無し | U38: 有り
B39: 強度行動障害児支援加算 | D39: =IFERROR(IF($C$7<>"",IF(HLOOKUP($C$7,$H$7:$S$50,ROW()-ROW($H$6),FALSE)<>"","●",""),""),"") -> ● | F39: =ADDRESS(ROW(),COLUMN(T39),4) -> T39 | G39: =ADDRESS(ROW(),COLUMN(T39)+COUNTA(T39:AF39)-1,4) -> U39 | H39: =$F39&":"&$G39 -> T39:U39 | I39: =$F39&":"&$G39 -> T39:U39 | M39: =$F39&":"&$G39 -> T39:U39 | Q39: =$F39&":"&$G39 -> T39:U39 | T39: 無し | U39: 有り
B40: 自活訓練体制 | D40: =IFERROR(IF($C$7<>"",IF(HLOOKUP($C$7,$H$7:$S$50,ROW()-ROW($H$6),FALSE)<>"","●",""),""),"") | F40: =ADDRESS(ROW(),COLUMN(T40),4) -> T40 | G40: =ADDRESS(ROW(),COLUMN(T40)+COUNTA(T40:AF40)-1,4) -> V40 | Q40: =$F40&":"&$G40 -> T40:V40 | R40: =$F40&":"&$G40 -> T40:V40 | S40: =$F40&":"&$G40 -> T40:V40 | T40: 無し | U40: Ⅰ | V40: Ⅱ
...

Sheet 別紙2－0（児発支）
AC1: （児童発達支援（センター以外））
B2: 別紙2－0
B3: 人員基準等適合確認シート（児童発達支援（センター以外））
H4: （兼 児童指導員等配置加算、人員欠如確認、開所時減算確認シート） | BD4: 児童発達支援
B5: 事業所名 | M5: =様式第1号!J30 -> 0 | BD5: 放課後等デイサービス
B6: サービス種類 | M6: =様式第1号!AA27 -> 児童発達支援（センターではない事業所） | V6: ※黄色部分は第１号様式入力後、自動的に入力されます。
B7: サービス提供単位番号 | H7: 営業形態 | M7: 61 | Q7: 選択して下さい
B9: 職種 | H9: 勤務形態 | M9: 氏名 | Q9: 第１週 | X9: 第２週 | AE9: 第３週 | AL9: 第４週
O10: 曜日 | Q10: 月 | R10: 火 | S10: 水 | T10: 木 | U10: 金 | V10: 土 | W10: 日 | X10: 月 | Y10: 火 | Z10: 水 | AA10: 木 | AB10: 金 | AC10: 土 | AD10: 日 | AE10: 月 | AF10: 火 | AG10: 水 | AH10: 木 | AI10: 金 | AJ10: 土 | AK10: 日 | AL10: 月 | AM10: 火 | AN10: 水 | AO10: 木 | AP10: 金 | AQ10: 土 | AR10: 日
O11: 開所日 | BH11: ○
O12: 営業時間 | X12: =Q12 -> 0 | Y12: =R12 -> 0 | Z12: =S12 -> 0 | AA12: =T12 -> 0 | AB12: =U12 -> 0 | AC12: =V12 -> 0 | AD12: =W12 -> 0 | AE12: =Q12 -> 0 | AF12: =R12 -> 0 | AG12: =S12 -> 0 | AH12: =T12 -> 0 | AI12: =U12 -> 0 | AJ12: =V12 -> 0 | AK12: =W12 -> 0 | AL12: =Q12 -> 0 | AM12: =R12 -> 0 | AN12: =S12 -> 0 | AO12: =T12 -> 0 | AP12: =U12 -> 0 | AQ12: =V12 -> 0 | AR12: =W12 -> 0
O13: サービス提供時間 | X13: =Q13 -> 0 | Y13: =R13 -> 0 | Z13: 0 | AA13: =T13 -> 0 | AB13: =U13 -> 0 | AC13: =V13 -> 0 | AD13: =W13 -> 0 | AE13: =Q13 -> 0 | AF13: =R13 -> 0 | AG13: =S13 -> 0 | AH13: =T13 -> 0 | AI13: =U13 -> 0 | AJ13: =V13 -> 0 | AK13: =W13 -> 0 | AL13: =Q13 -> 0 | AM13: =R13 -> 0 | AN13: =S13 -> 0 | AO13: =T13 -> 0 | AP13: =U13 -> 0 | AQ13: =V13 -> 0 | AR13: =W13 -> 0
O14: 定員 | X14: =Q14 -> 0 | Y14: =R14 -> 0 | Z14: =S14 -> 0 | AA14: =T14 -> 0 | AB14: =U14 -> 0 | AC14: =V14 -> 0 | AD14: =W14 -> 0 | AE14: =Q14 -> 0 | AF14: =R14 -> 0 | AG14: =S14 -> 0 | AH14: =T14 -> 0 | AI14: =U14 -> 0 | AJ14: =V14 -> 0 | AK14: =W14 -> 0 | AL14: =Q14 -> 0 | AM14: =R14 -> 0 | AN14: =S14 -> 0 | AO14: =T14 -> 0 | AP14: =U14 -> 0 | AQ14: =V14 -> 0 | AR14: =W14 -> 0
B15: 児童発達支援管理責任者 | H15: ①常勤・専従
B16: 直接支援職員・・・最低基準の配置職員のみを記載してください。
A17: 1
A18: 2
A19: 3
A20: 4
A21: 5
A22: 6
A23: 7
A24: 8
B25: 合計 | Q25: =COUNTIF(Q17:Q24,">="&Q13) -> 0 | R25: =COUNTIF(R17:R24,">="&R13) -> 0 | S25: =COUNTIF(S17:S24,">="&S13) -> 0 | T25: =COUNTIF(T17:T24,">="&T13) -> 0 | U25: =COUNTIF(U17:U24,">="&U13) -> 0 | V25: =COUNTIF(V17:V24,">="&V13) -> 0 | W25: =COUNTIF(W17:W24,">="&W13) -> 0 | X25: =COUNTIF(X17:X24,">="&X13) -> 0 | ... AR25: =COUNTIF(AR17:AR24,">="&AR13) -> 0
B26: 指定基準上の必要職員 | Q26: =IF(Q14=0,"",VLOOKUP(Q14,SS,2,FALSE)) | R26: =IF(R14=0,"",VLOOKUP(R14,SS,2,FALSE)) | S26: =IF(S14=0,"",VLOOKUP(S14,SS,2,FALSE)) | T26: =IF(T14=0,"",VLOOKUP(T14,SS,2,FALSE)) | U26: =IF(U14=0,"",VLOOKUP(U14,SS,2,FALSE)) | V26: =IF(V14=0,"",VLOOKUP(V14,SS,2,FALSE)) | W26: =IF(W14=0,"",VLOOKUP(W14,SS,2,FALSE)) | X26: =IF(X14=0,"",VLOOKUP(X14,SS,2,FALSE)) | ... AR26: =IF(AR14=0,"",VLOOKUP(AR14,SS,2,FALSE))
B27: 人員の最低基準への適合（確認欄）
B28: 加配支援職員（児童指導員等加配加算）・・・指定基準に加えて多く配置している職員のサービス提供時間を含んだ勤務時間数を記載してください。
A29: 1
A30: 2
A31: 3
A32: 4
B33: 加配支援職員（専門的支援加算）・・・指定基準に加えて多く配置している職員のサービス提供時間を含んだ勤務時間数を記載してください。
A34: 6
A35: 5
A36: 6
A37: 7
B38: 指導員等の加配 | Q38: =IF(OR(Q25=0,Q27=""),"",IF(AND(Q27="適",SUM(Q29:Q37)>=Q12),"有","無")) | R38: =IF(OR(R25=0,R27=""),"",IF(AND(R27="適",SUM(R29:R37)>=R12),"有","無")) | S38: =IF(OR(S25=0,S27=""),"",IF(AND(S27="適",SUM(S29:S37)>=S12),"有","無")) | T38: =IF(OR(T25=0,T27=""),"",IF(AND(T27="適",SUM(T29:T37)>=T12),"有","無")) | U38: =IF(OR(U25=0,U27=""),"",IF(AND(U27="適",SUM(U29:U37)>=U12),"有","無")) | V38: =IF(OR(V25=0,V27=""),"",IF(AND(V27="適",SUM(V29:V37)>=V12),"有","無")) | W38: =IF(OR(W25=0,W27=""),"",IF(AND(W27="適",SUM(W29:W37)>=W12),"有","無")) | X38: =IF(OR(X25=0,X27=""),"",IF(AND(X27="適",SUM(X29:X37)>=X12),"有","無")) | ... AR38: =IF(OR(AR25=0,AR27=""),"",IF(AND(AR27="適",SUM(AR29:AR37)>=AR12),"有","無")) | BB38: 開所日数 | BE38: =COUNT(Q26:AR26) -> 0
BE39: =COUNTIF(Q27:AR27,"否") -> 0
A40: 注 | B40: 1 | C40: 複数のサービス提供単位がある場合には、単位ごとに作成してください。 | AC40: 事業所（法人）の定める常勤職員の１週間あたりの勤務時間数 | BE40: =COUNTIF(Q38:AR38,"無") -> 0
B41: 2 | C41: 放課後等デイサービスについては、学校長期休業期間の営業時間が異なる場合には、平常時と学校休業時それぞれの勤務体制を想定したシートを提出してください。 | AC41: 確認欄 | AE41: 指定基準上の人員基準への適合状況 | AL41: 適・不適
...

Sheet 別紙2－1（放課後デイ）
B1: 別紙2－1 | AC1: （放課後等デイサービス）
B2: 人員基準等適合確認シート（放課後等デイサービス）
H3: （兼 児童指導員等配置加算、人員欠如確認、開所時減算確認シート） | BD3: 児童発達支援
B4: 事業所名 | M4: =様式第1号!J30 -> 0 | BD4: 放課後等デイサービス
B5: サービス種類 | M5: =様式第1号!AA27 -> 児童発達支援（センターではない事業所） | V5: ※黄色部分は第１号様式入力後、自動的に入力されます。
B6: サービス提供単位番号 | H6: 営業形態 | M6: 63 | Q6: 放課後
B8: 職種 | H8: 勤務形態 | M8: 氏名 | Q8: 第１週 | X8: 第２週 | AE8: 第３週 | AL8: 第４週
O9: 曜日 | Q9: 月 | R9: 火 | S9: 水 | T9: 木 | U9: 金 | V9: 土 | W9: 日 | X9: 月 | Y9: 火 | Z9: 水 | AA9: 木 | AB9: 金 | AC9: 土 | AD9: 日 | AE9: 月 | AF9: 火 | AG9: 水 | AH9: 木 | AI9: 金 | AJ9: 土 | AK9: 日 | AL9: 月 | AM9: 火 | AN9: 水 | AO9: 木 | AP9: 金 | AQ9: 土 | AR9: 日
O10: 開所日 | BH10: ○
O11: 営業時間 | X11: =Q11 -> 0 | Y11: =R11 -> 0 | Z11: =S11 -> 0 | AA11: =T11 -> 0 | AB11: =U11 -> 0 | AC11: =V11 -> 0 | AD11: =W11 -> 0 | AE11: =Q11 -> 0 | AF11: =R11 -> 0 | AG11: =S11 -> 0 | AH11: =T11 -> 0 | AI11: =U11 -> 0 | AJ11: =V11 -> 0 | AK11: =W11 -> 0 | AL11: =Q11 -> 0 | AM11: =R11 -> 0 | AN11: =S11 -> 0 | AO11: =T11 -> 0 | AP11: =U11 -> 0 | AQ11: =V11 -> 0 | AR11: =W11 -> 0
O12: サービス提供時間 | X12: =Q12 -> 0 | Y12: =R12 -> 0 | Z12: =S12 -> 0 | AA12: =T12 -> 0 | AB12: =U12 -> 0 | AC12: =V12 -> 0 | AD12: =W12 -> 0 | AE12: =Q12 -> 0 | AF12: =R12 -> 0 | AG12: =S12 -> 0 | AH12: =T12 -> 0 | AI12: =U12 -> 0 | AJ12: =V12 -> 0 | AK12: =W12 -> 0 | AL12: =Q12 -> 0 | AM12: =R12 -> 0 | AN12: =S12 -> 0 | AO12: =T12 -> 0 | AP12: =U12 -> 0 | AQ12: =V12 -> 0 | AR12: =W12 -> 0
O13: 定員 | X13: =Q13 -> 0 | Y13: =R13 -> 0 | Z13: =S13 -> 0 | AA13: =T13 -> 0 | AB13: =U13 -> 0 | AC13: =V13 -> 0 | AD13: =W13 -> 0 | AE13: =Q13 -> 0 | AF13: =R13 -> 0 | AG13: =S13 -> 0 | AH13: =T13 -> 0 | AI13: =U13 -> 0 | AJ13: =V13 -> 0 | AK13: =W13 -> 0 | AL13: =Q13 -> 0 | AM13: =R13 -> 0 | AN13: =S13 -> 0 | AO13: =T13 -> 0 | AP13: =U13 -> 0 | AQ13: =V13 -> 0 | AR13: =W13 -> 0
B14: 児童発達支援管理責任者 | H14: ①常勤・専従
B15: 直接支援職員・・・最低基準の配置職員のみを記載してください。
A16: 1
A17: 2
A18: 3
A19: 4
A20: 5
A21: 6
A22: 7
A23: 8
B24: 合計 | Q24: =COUNTIF(Q16:Q23,">="&Q12) -> 0 | R24: =COUNTIF(R16:R23,">="&R12) -> 0 | S24: =COUNTIF(S16:S23,">="&S12) -> 0 | T24: =COUNTIF(T16:T23,">="&T12) -> 0 | U24: =COUNTIF(U16:U23,">="&U12) -> 0 | V24: =COUNTIF(V16:V23,">="&V12) -> 0 | W24: =COUNTIF(W16:W23,">="&W12) -> 0 | X24: =COUNTIF(X16:X23,">="&X12) -> 0 | ... AR24: =COUNTIF(AR16:AR23,">="&AR12) -> 0
B25: 指定基準上の必要職員 | Q25: =IF(Q13=0,"",VLOOKUP(Q13,SS,2,FALSE)) | R25: =IF(R13=0,"",VLOOKUP(R13,SS,2,FALSE)) | S25: =IF(S13=0,"",VLOOKUP(S13,SS,2,FALSE)) | T25: =IF(T13=0,"",VLOOKUP(T13,SS,2,FALSE)) | U25: =IF(U13=0,"",VLOOKUP(U13,SS,2,FALSE)) | V25: =IF(V13=0,"",VLOOKUP(V13,SS,2,FALSE)) | W25: =IF(W13=0,"",VLOOKUP(W13,SS,2,FALSE)) | X25: =IF(X13=0,"",VLOOKUP(X13,SS,2,FALSE)) | ... AR25: =IF(AR13=0,"",VLOOKUP(AR13,SS,2,FALSE))
B26: 人員の最低基準への適合（確認欄）
B27: 加配支援職員（児童指導員等加配加算）・・・指定基準に加えて多く配置している職員のサービス提供時間を含んだ勤務時間数を記載してください。
A28: 1
A29: 2
A30: 3
A31: 4
B32: 加配支援職員（専門的支援加算）・・・指定基準に加えて多く配置している職員のサービス提供時間を含んだ勤務時間数を記載してください。
A33: 6
A34: 5
A35: 6
A36: 7
BE37: =COUNTIF(Q26:AR26,"否") -> 0
A38: 注 | B38: 1 | C38: 複数のサービス提供単位がある場合には、単位ごとに作成してください。 | AC38: 事業所（法人）の定める常勤職員の１週間あたりの勤務時間数 | BE38: =COUNTIF(Q35:AR35,"無") -> 0
B39: 2 | C39: 放課後等デイサービスについては、学校長期休業期間の営業時間が異なる場合には、平常時と学校休業時それぞれの勤務体制を想定したシートを提出してください。 | AC39: 確 認 欄 | AE39: 指定基準上の人員基準への適合状況 | AL39: 適・不適
B40: 3 | C40: 児童指導員、保育士、障害福祉サービス経験者を配置する場合には、要件を満たしていることが確認できる書類(資格証、実務経験証明書等)を添付してください。 | AE40: 児童指導員等加配加算 | AL40: 専門職員等・児童指導員等・その他の従業者・無
B41: 4 | C41: ※児童指導員（実務経験2年+卒）とは、指導員の実務経験2年～3年未満の者。 高等学校以上の卒業証明書の写しが別途必要です。 | AE41: 専門的支援加算 | AL41: ・理学療法士等（保育士を除く） ・無
...

Sheet 別紙2-2（センター・医型児発支）
AI1: （福祉型・医療型児童発達支援（センター））
B2: 別紙2-2
B3: 人員基準等適合確認シート（児童発達支援(センター））
P4: （兼 開所時減算確認シート）
B5: 事業所名 | M5: =様式第1号!J30 -> 0
B6: サービス種類 | M6: 児童発達支援センター | V6: ※黄色部分は第１号様式入力後、自動的に入力されます。
B7: サービス提供単位番号 | M7: 1
B9: 職種 | H9: 勤務形態 | M9: 氏名 | Q9: 第１週 | X9: 第２週 | AE9: 第３週 | AL9: 第４週
O10: 曜日 | Q10: 月 | R10: 火 | S10: 水 | T10: 木 | U10: 金 | V10: 土 | W10: 日 | X10: 月 | Y10: 火 | Z10: 水 | AA10: 木 | AB10: 金 | AC10: 土 | AD10: 日 | AE10: 月 | AF10: 火 | AG10: 水 | AH10: 木 | AI10: 金 | AJ10: 土 | AK10: 日 | AL10: 月 | AM10: 火 | AN10: 水 | AO10: 木 | AP10: 金 | AQ10: 土 | AR10: 日
O11: 開所日 | BH11: ○
O12: 営業時間
O13: 障害児の数
B14: 児童発達管理責任者
B15: 直接支援職員・・・職員のサービス提供時間を含んだ勤務時間数を記載してください。
A16: 1
A17: 2
A18: 3
A19: 4
A20: 5
A21: 6
A22: 7
A23: 8
A24: 9
A25: 10
B26: 合計 | Q26: =COUNTIF(Q16:Q25,"○") -> 0 | R26: =COUNTIF(R16:R25,"○") -> 0 | S26: =COUNTIF(S16:S25,"○") -> 0 | T26: =COUNTIF(T16:T25,"○") -> 0 | U26: =COUNTIF(U16:U25,"○") -> 0 | V26: =COUNTIF(V16:V25,"○") -> 0 | W26: =COUNTIF(W16:W25,"○") -> 0 | X26: =COUNTIF(X16:X25,"○") -> 0 | ... AR26: =COUNTIF(AR16:AR25,"○") -> 0
B27: 指定基準上の必要職員 | Q27: =IF(Q13=0,"",VLOOKUP(Q13,SS,2,FALSE)) | R27: =IF(R13=0,"",VLOOKUP(R13,SS,2,FALSE)) | S27: =IF(S13=0,"",VLOOKUP(S13,SS,2,FALSE)) | T27: =IF(T13=0,"",VLOOKUP(T13,SS,2,FALSE)) | U27: =IF(U13=0,"",VLOOKUP(U13,SS,2,FALSE)) | V27: =IF(V13=0,"",VLOOKUP(V13,SS,2,FALSE)) | W27: =IF(W13=0,"",VLOOKUP(W13,SS,2,FALSE)) | X27: =IF(X13=0,"",VLOOKUP(X13,SS,2,FALSE)) | ... AR27: =IF(AR13=0,"",VLOOKUP(AR13,SS,2,FALSE))
B28: 人員基準の適合 | Q28: =IF(Q13="","",IF(Q26=0,"",IF(VLOOKUP(Q13,SS,2,FALSE)<=Q26,"適","否"))) | R28: =IF(R13="","",IF(R26=0,"",IF(VLOOKUP(R13,SS,2,FALSE)<=R26,"適","否"))) | S28: =IF(S13="","",IF(S26=0,"",IF(VLOOKUP(S13,SS,2,FALSE)<=S26,"適","否"))) | T28: =IF(T13="","",IF(T26=0,"",IF(VLOOKUP(T13,SS,2,FALSE)<=T26,"適","否"))) | U28: =IF(U13="","",IF(U26=0,"",IF(VLOOKUP(U13,SS,2,FALSE)<=U26,"適","否"))) | V28: =IF(V13="","",IF(V26=0,"",IF(VLOOKUP(V13,SS,2,FALSE)<=V26,"適","否"))) | W28: =IF(W13="","",IF(W26=0,"",IF(VLOOKUP(W13,SS,2,FALSE)<=W26,"適","否"))) | X28: =IF(X13="","",IF(X26=0,"",IF(VLOOKUP(X13,SS,2,FALSE)<=X26,"適","否"))) | ... AR28: =IF(AR13="","",IF(AR26=0,"",IF(VLOOKUP(AR13,SS,2,FALSE)<=AR26,"適","否")))
B29: 加配支援職員・・・指定基準に加えて多く配置している職員のサービス提供時間を含んだ勤務時間数を記載してください。
A30: 1
A31: 2
A32: 3
A33: 4
A34: 5
A35: 6
BB36: 適 | BC36: =COUNTIF(Q28:AR28,"適") -> 0 | BD36: 否 | BE36: =COUNTIF(Q28:AR28,"否") -> 0
B38: 注 複数のサービス提供単位がある場合には、単位ごとに作成してください。 | BB38: 有 | BC38: =COUNTIF(#REF!,"有") -> #REF! | BD38: 無 | BE38: =COUNTIF(#REF!,"無") -> #REF!
M45: 保育士
M46: 児童指導員（大卒・該当課程）
M47: 児童指導員（教員免許）
M48: 児童指導員（社会・精神保健福祉士）
...

Sheet 別紙2-3（保育所等訪問支援）
AA1: （保育所等訪問支援）
A2: 別紙2-3
A3: 人員基準等適合確認シート（保育所等訪問支援）
A4: 職員の勤務の体制及び勤務形態一覧表
A5: 事業所名 | C5: =様式第1号!J30 -> 0
A6: サービス種類 | C6: 保育所等訪問支援
A8: 職 種 | B8: 勤務形態 | C8: 氏 名 | E8: 第 １ 週 | L8: 第 ２ 週 | S8: 第 ３ 週 | Z8: 第 ４ 週
D9: 日 | E9: 1 | F9: 2 | G9: 3 | H9: 4 | I9: 5 | J9: 6 | K9: 7 | L9: 8 | M9: 9 | N9: 10 | O9: 11 | P9: 12 | Q9: 13 | R9: 14 | S9: 15 | T9: 16 | U9: 17 | V9: 18 | W9: 19 | X9: 20 | Y9: 21 | Z9: 22 | AA9: 23 | AB9: 24 | AC9: 25 | AD9: 26 | AE9: 27 | AF9: 28
D10: 曜日 | E10: 月 | F10: 火 | G10: 水 | H10: 木 | I10: 金 | J10: 土 | K10: 日 | L10: 月 | M10: 火 | N10: 水 | O10: 木 | P10: 金 | Q10: 土 | R10: 日 | S10: 月 | T10: 火 | U10: 水 | V10: 木 | W10: 金 | X10: 土 | Y10: 日 | Z10: 月 | AA10: 火 | AB10: 水 | AC10: 木 | AD10: 金 | AE10: 土 | AF10: 日
D11: 開所日 | AV11: ○
D12: 営業時間
I22: 管理者
I23: 管理者兼訪問支援員
I24: 管理者兼児童発達支援管理責任者
I25: 児童発達支援管理責任者
I26: 訪問支援員
I27: 言語聴覚士
I28: 作業療法士
I29: 理学療法士
I30: 心理担当職員

Sheet 別紙2-4（入所施設）
AH1: （障害児入所施設）
A2: 別紙2-4
A3: 人員基準等適合確認シート（障害児入所施設）
A4: 職員の勤務の体制及び勤務形態一覧表
A5: 施設種別 | C5: =様式第1号!AA27 -> 児童発達支援（センターではない事業所） | L5: ※黄色部分は第１号様式入力後、自動的に入力されます。
A6: 施設名 | C6: =様式第1号!J30 -> 0
A7: 主たる障害種別
AI8: 当該施設において常勤職員が1週間に勤務すべき時間数 | AK8: 0
A9: 職 種 | B9: 勤務形態 | C9: 氏 名 | E9: 第 １ 週 | L9: 第 ２ 週 | S9: 第 ３ 週 | Z9: 第 ４ 週 | AG9: ４週の合計 | AH9: 週平均の勤務時間 | AI9: 常勤換算後の人数 | AJ9: 資格等
D10: 日 | E10: 1 | F10: 2 | G10: 3 | H10: 4 | I10: 5 | J10: 6 | K10: 7 | L10: 8 | M10: 9 | N10: 10 | O10: 11 | P10: 12 | Q10: 13 | R10: 14 | S10: 15 | T10: 16 | U10: 17 | V10: 18 | W10: 19 | X10: 20 | Y10: 21 | Z10: 22 | AA10: 23 | AB10: 24 | AC10: 25 | AD10: 26 | AE10: 27 | AF10: 28 | AJ10: 資格 | AK10: 実務経験年数
D11: 曜日 | E11: 月 | F11: 火 | G11: 水 | H11: 木 | I11: 金 | J11: 土 | K11: 日 | L11: 月 | M11: 火 | N11: 水 | O11: 木 | P11: 金 | Q11: 土 | R11: 日 | S11: 月 | T11: 火 | U11: 水 | V11: 木 | W11: 金 | X11: 土 | Y11: 日 | Z11: 月 | AA11: 火 | AB11: 水 | AC11: 木 | AD11: 金 | AE11: 土 | AF11: 日
A12: 管理者 | AG12: =SUM(E12:AF12) -> 0 | AH12: =AG12/4 -> 0
A13: 児童発達管理責任者 | AG13: =SUM(E13:AF13) -> 0 | AH13: =AG13/4 -> 0
AG14: =SUM(E14:AF14) -> 0 | AH14: =AG14/4 -> 0
AG15: =SUM(E15:AF15) -> 0 | AH15: =AG15/4 -> 0
AG16: =SUM(E16:AF16) -> 0 | AH16: =AG16/4 -> 0
AG17: =SUM(E17:AF17) -> 0 | AH17: =AG17/4 -> 0
AG18: =SUM(E18:AF18) -> 0 | AH18: =AG18/4 -> 0
AG19: =SUM(E19:AF19) -> 0 | AH19: =AG19/4 -> 0
AG20: =SUM(E20:AF20) -> 0 | AH20: =AG20/4 -> 0
AG21: =SUM(E21:AF21) -> 0 | AH21: =AG21/4 -> 0
AG22: =SUM(E22:AF22) -> 0 | AH22: =AG22/4 -> 0
AG23: =SUM(E23:AF23) -> 0 | AH23: =AG23/4 -> 0
AG24: =SUM(E24:AF24) -> 0 | AH24: =AG24/4 -> 0
AG25: =SUM(E25:AF25) -> 0 | AH25: =AG25/4 -> 0
... AG36: =SUM(E36:AF36) -> 0 | AH36: =AG36/4 -> 0
D38: 施設長 | F38: 児童発達支援管理責任者 | H38: 医師 | J38: 看護士 | L38: 理学療 法士等 | N38: 児童 指導員 | P38: 保育士 | R38: 職業 指導員 | T38: 心理担 当職員 | V38: 栄養士 | X38: その他 | Z38: 計
D40: 専従 | E40: 兼務 | F40: 専従 | G40: 兼務 | H40: 専従 | I40: 兼務 | J40: 専従 | K40: 兼務 | L40: 専従 | M40: 兼務 | N40: 専従 | O40: 兼務 | P40: 専従 | Q40: 兼務 | R40: 専従 | S40: 兼務 | T40: 専従 | U40: 兼務 | V40: 専従 | W40: 兼務 | X40: 専従 | Y40: 兼務 | Z40: 専従 | AA40: 兼務 | AB40: 注1 | AD40: 本表は施設種別ごとに作成してください。
A41: 従業者数 | B41: 常勤(人) | Z41: =D41+H41+J41+L41+N41+P41+R41+T41+V41+X41 -> 0 | AA41: =E41+I41+K41+M41+O41+Q41+S41+U41+W41+Y41 -> 0 | AB41: 注2 | AD41: 勤務状況は直接指導職員のみを記載し、「勤務形態」欄はＡ：常勤で専従、Ｂ：常勤で兼務、Ｃ：常勤以外で専従、Ｄ：常勤以外で兼務のいずれかを記載してください。
B42: 非常勤(人) | Z42: =D42+H42+J42+L42+N42+P42+R42+T42+V42+X42 -> 0 | AA42: =E42+I42+K42+M42+O42+Q42+S42+U42+W42+Y42 -> 0
A43: 常勤換算後の人数(人) | Z43: =SUM(D43:Y43) -> 0
AB45: 注3 | AD45: 加算等に係る職員の加配を区分した上、それぞれ1日あたりの勤務時間を記載してください。
AB47: 注4 | AD47: 算出に当たっては、小数点以下第２位を切り捨ててください。
B53: 選択してください | L53: 管理者
B54: 知的障害児 | L54: 児童発達支援管理責任者
B55: 自閉症児 | L55: 管理者兼児童指導員
B56: 盲児 | L56: 保育士
B57: ろうあ児 | L57: 児童指導員
B58: 肢体不自由児 | L58: 看護職員
B59: 重症心身障害児 | L59: 言語聴覚士
...

Sheet 別紙2-5（居宅訪問型児童発達支援）
AA1: （保育所等訪問支援）
A2: 別紙2-5
A3: 人員基準等適合確認シート（居宅訪問型児童発達支援）
A4: 職員の勤務の体制及び勤務形態一覧表
A5: 事業所名 | C5: =様式第1号!J30 -> 0
A6: サービス種類 | C6: 居宅訪問型児童発達支援
A8: 職 種 | B8: 勤務形態 | C8: 氏 名 | E8: 第 １ 週 | L8: 第 ２ 週 | S8: 第 ３ 週 | Z8: 第 ４ 週
D9: 日 | E9: 1 | F9: 2 | G9: 3 | H9: 4 | I9: 5 | J9: 6 | K9: 7 | L9: 8 | M9: 9 | N9: 10 | O9: 11 | P9: 12 | Q9: 13 | R9: 14 | S9: 15 | T9: 16 | U9: 17 | V9: 18 | W9: 19 | X9: 20 | Y9: 21 | Z9: 22 | AA9: 23 | AB9: 24 | AC9: 25 | AD9: 26 | AE9: 27 | AF9: 28
D10: 曜日 | E10: 月 | F10: 火 | G10: 水 | H10: 木 | I10: 金 | J10: 土 | K10: 日 | L10: 月 | M10: 火 | N10: 水 | O10: 木 | P10: 金 | Q10: 土 | R10: 日 | S10: 月 | T10: 火 | U10: 水 | V10: 木 | W10: 金 | X10: 土 | Y10: 日 | Z10: 月 | AA10: 火 | AB10: 水 | AC10: 木 | AD10: 金 | AE10: 土 | AF10: 日
D11: 開所日 | AV11: ○
D12: 営業時間
I22: 管理者
I23: 管理者兼訪問支援員
I24: 管理者兼児童発達支援管理責任者
I25: 児童発達支援管理責任者
I26: 訪問支援員
I27: 言語聴覚士
I28: 作業療法士
I29: 理学療法士
I30: 心理担当職員

Sheet 別紙3
A1: 別紙３
A2: 福祉専門職員配置等加算に関する状況
G3: 無し
A4: サービス種類 | B4: =様式第1号!AA27 -> 児童発達支援（センターではない事業所） | D4: ※黄色部分は様式第１号入力後、自動的に入力されます。 | G4: 社会福祉士 | I4: 福祉専門職員配置等加算Ⅰ
A5: 事業所名称 | B5: =様式第1号!J30 -> 0 | G5: 介護福祉士 | I5: 福祉専門職員配置等加算Ⅱ
A6: 届出の種類 | G6: 精神保健福祉士 | I6: 福祉専門職員配置等加算Ⅲ
A7: 届出るサービスに配置する直接処遇職員を全て記載すること。 | E7: ※１ | G7: 公認心理師
A8: 直接処遇職員の氏名 | B8: 勤務形態 | C8: 勤務年数 | D8: 要件該当資格の有無 | E8: １週間あたりの勤務時間
D9: 無し
D10: 無し | L10: 常勤専従
D11: 無し | L11: 常勤兼務
D12: 無し | L12: 非常勤
D13: 無し
D14: 無し
D15: 無し
D16: 無し
D17: 無し
D18: 無し
D19: 無し
D20: 無し
D21: 無し
D22: 無し
D23: 無し
D24: 無し
A26: 確認欄 Ⅰ・Ⅱ・Ⅲ・非該当
A28: 備考 （１） ここでいう常勤とは、指定障害児通所支援事業所等における勤務時間が、当該指定障害児通所支援事業所等において定められてい る常勤の従業者が勤務すべき時間数（１週間に勤務すべき時間数が32時間を下回る場合は32時間を基本とする。）に達していることを いう。
A31: （２） 常勤兼務、非常勤については、届出するサービスに関わる時間数だけを記載すること。
A33: （３） 算定要件
A34: ①常勤の直接処遇職員のうち、社会福祉士、介護福祉士、精神保健福祉士及び公認心理師が３５％以上雇用されている事業所 （福祉専門職員配置等加算Ⅰ） ②常勤の直接処遇職員のうち、社会福祉士、介護福祉士、精神保健福祉士及び公認心理師が２５％以上雇用されている事業所 （福祉専門職員配置等加算Ⅱ） ③直接処遇職員のうち、常勤職員が７５％以上又は勤続３年以上の常勤職員が３０％以上雇用されている事業所 （福祉専門職員配置等加算Ⅲ）
A39: （４）直接処遇職員とは ○児童発達支援にあっては、 加算（Ⅰ）（Ⅱ）においては、児童指導員、共生型児童発達支援従業者、 加算（Ⅲ）においては、児童指導員、保育士、共生型児童発達支援従業者 ○医療型児童発達支援にあっては、 加算（Ⅰ）（Ⅱ）においては、児童指導員又は指定発達支援医療機関の職員、 加算（Ⅲ）においては、児童指導員、保育士、指定発達支援医療機関の職員 ○放課後等デイサービスにあっては、 加算（Ⅰ）（Ⅱ）においては、児童指導員、共生型放課後等デイサービス従業者 加算（Ⅲ）においては、児童指導員、保育士、共生型放課後等デイサービス従業者

Sheet 別紙4
A1: 別紙４
A3: 栄養士配置加算及び栄養マネジメント加算に係る状況
F4: ※色つきのセルのみ入力
B5: サービス種類 | C5: =様式第1号!AA27 -> 児童発達支援（センターではない事業所）
B6: 事業所名称 | C6: =様式第1号!J30 -> 0
B7: 栄養士配置加算に係る 管理栄養士等配置の状況
E8: 管理栄養士
D9: 常勤／非常勤 | K9: 常勤 | L9: あり
D10: 他施設との兼務 | K10: 非常勤 | L10: あり（専従扱い）
D11: 兼務施設数 | L11: なし
D12: 兼務先施設名①
D13: 兼務先施設名②
D14: 兼務先施設名③
B17: 栄養マネジメント加算に係る 栄養マネジメント等の状況 ※福祉型障害児入所施設のみ
D18: 常勤の管理栄養士（※） | E18: 0
D19: 栄養ケア計画の作成、見直し及び定期的な栄養状態の記録を行っている | K19: 1
D21: 栄養マネジメントに関わる者（該当する場合は必ず記載すること）
D23: 職種 | E23: 氏名
D24: 医師
D25: 管理栄養士
D26: 看護師
B32: 加算要件の該当／非該当 | D32: 栄養マネジメント加算 | E32: =IF(AND(E18>=1,K19=1,OR(E24<>"",E25<>"",E26<>"",E27<>"",E28<>"",E29<>"")),"栄養マネジメント加算該当","非該当") -> 非該当
B35: 備考 栄養士配置加算の「他施設との兼務」について、『あり（専従扱い）』とは、２施設を兼務している場合で、一方で栄養士配置加算及び同趣旨の加算を算定していない場合が該当となります。 『栄養マネジメントに関わる者』には、共同で栄養ケア計画を作成している者の職種及び氏名を記入してください。
B36: （該当要件） 栄養士配置加算（Ⅰ） 以下のいずれにも適合していること （１）常勤の管理栄養士を１名以上配置していること （２）障害児の日常生活状況、嗜好等を把握し、安全で衛生に留意し適切な食事管理を行っていること 栄養士配置加算（Ⅱ） 以下のいずれにも適合していること（栄養士配置加算（Ⅰ）との併給は不可） （１）管理栄養士又は栄養士を１名以上配置していること （２）障害児の日常生活状況、嗜好等を把握し、安全で衛生に留意し適切な食事管理を行っていること ※栄養士配置加算と兼務の考え方 施設を２箇所兼務している場合は、栄養士配置加算（Ⅱ）を両方で算定できる。なお、一方で栄養士配置加算及び同趣旨の加算を算定していない 場合は、当該施設で該当する加算（常勤であれば栄養士配置加算（Ⅰ））算定して差し支えない。 施設を３箇所兼務している場合は、３箇所目からは加算を算定することができない

Sheet 別紙5
A1: 別紙5
H2: 令和 年 月 日
A3: 特別支援加算体制届出書
A5: サービス種別 | D5: =様式第1号!AA27 -> 児童発達支援（センターではない事業所）
A6: 事業名 | D6: =様式第1号!J30 -> 0
A7: 定員
A8: 機能訓練担当職員 | D8: 理学療法士 名 作業療法士 名 言語聴覚士 名 心理指導担当職員 名 看護職員 名 視覚障害者の生活訓練を専門とする技術者の養成を行う研修を修了した者 名
A10: 氏名 | E10: 年齢 | F10: 利用開始日 | H10: 備考
A11: 1
A12: 2
A13: 3
A14: 4
A15: 5
A16: 6
A17: 7
A18: 8
A19: 9
A20: 10
A22: 注１ | B22: 算定する児童に係る特別支援計画書を添付すること。
A23: 注２ | B23: 特別支援加算を算定する場合に作成し、都道府県知事（政令指定都市及び児相設置市の長）に届け出ること。
A24: 注３ | B24: ア 児童発達支援給付費において、児童発達支援センターにおいて難聴児に対し指定児童発達支 援を行う場合にあっては言語聴覚士を除き、児童発達支援センター又は児童発達支援センター以外の施設において重症心身障害児に対し指定児童発達支援を行う場合にあっては理学療法士、作業療法士、言語聴覚士及び看護職員を除く。 イ 医療型児童発達支援給付費において、重症心身障害児又は肢体不自由児に対し指定医療型児童発達支援を行う場合にあっては理学療法士及び作業療法士を除く。

Sheet 別紙6
A1: 別紙6 | H1: 令和 年 月 日
B2: 延長支援加算に係る状況
B4: サービス種類 | D4: =様式第1号!AA27 -> 児童発達支援（センターではない事業所）
B5: 事業所名所 | D5: =様式第1号!J30 -> 0
B6: 定員
B7: 運営規程上の営業時間
B9: 氏名 | E9: 年齢 | F9: 利用時間 | H9: 備考
B10: 1
B11: 2
B12: 3
B13: 4
B14: 5
B15: 6
B16: 7
B17: 8
B18: 9
B19: 10
B21: ※ 運営規程で定める営業時間を超えて支援を行うものとして、加算を算定する場合に届け出ること。 ※ 8時間未満の営業時間では、当該加算に該当しません。
B22: ※ 延長支援加算を算定する障害児に係る障害児支援利用計画（ただし計画未作成の場合は児童発達支援計画書または放課後等デイサービス支援計画書）を添付すること。（延長支援加算の算定が必要であることが計画されていること。）

Sheet 別紙7
A1: 別紙７ | H1: 令和 年 月 日
A2: 職業指導員加算に係る状況
O3: ○
A4: 施設種別
A5: 施設名 | C5: =様式第1号!J30 -> 0
A6: 定員
A7: 施設の形態 （該当するものに○） | D7: 当該入所施設に併設する施設が主たる施設である
D8: 当該入所施設が主たる施設である
D9: 当該入所施設は、単独施設である
A10: 職業指導に関する設備 | C10: （室名） | G10: （室数） | I10: （面積）
K11: ㎡
G12: 0 | K12: ㎡
A13: 配置している職業指導員の人数 | J13: 人
A14: 職業指導員の氏名
A18: 注１ 職業指導の対象障害児が極端に少ないもの（児童指導員又は保育士の1人当たりの受持数に満たない場合）は加算できないものであること。

Sheet 別紙8-1
A1: 別紙8ー1 | I1: 令和 年 月 日
B3: 重度障害児支援体制加算・重度重複障害児加算に係る状況
B4: 施設名 | F4: =様式第1号!J30 -> 0
B5: 主たる障害の種別
B6: 氏名 | H6: 重度障害児支援加算 （受給者証への記載） | I6: 重度重複障害加算 （受給者証への記載）
B7: 1
B8: 2
B9: 3
B10: 4
B11: 5
B12: 6
B13: 7
B14: 8
B15: 9
B16: 10

Sheet 別紙8-2
A1: 別紙8－2
F2: 令和 年 月 日
A3: 重度障害児支援加算（新規追加分）に関する届出書
B5: 事業所・施設の名称 | C5: =様式第1号!J30 -> 0
B6: １ 異動区分 | C6: １ 新規 ２ 変更 ３ 終了
B7: ２ 配置状況① （実践研修修了者） | C7: 強度行動障害支援者養成研修（実践研修）修了者 配置 （行動援護従業者養成研修修了者を配置した場合を含む）
B8: ３ 配置状況② （基礎研修修了者） | C8: 強度行動障害支援者養成研修（基礎研修）修了者 配置 （重度訪問介護従業者養成研修行動障害支援課程修了者又は行動援護従業者養成研修 修了者を配置した場合を含む）
B12: 配置人数 | E12: 人
B16: 備考１ 「異動区分」欄については、該当する番号に○を付してください。
B17: ２ 「配置人数」には常勤換算方法による研修修了者数を記載してください。
B18: ３ 実践研修・基礎研修共に、研修修了者については修了証の写しを別途添付すること。

Sheet 別紙9-1
G1: (福祉型障害児入所施設、医療型障害児入所施設）
B2: 別紙9-1
F3: 令和 年 月 日
A5: 強度行動障害児特別支援加算届出書
B7: 事業所・施設の名称
B8: １ 異動区分 | C8: ① 新規 ② 変更 ➂ 終了
B9: ２ 職員の勤務体制 | D9: （１）医師の勤務体制
D10: 職種 | E10: 員数 | F10: 1月あたりの勤務日数
D11: 医師
D12: ※ 経歴が分かる書類を添付すること
D13: （２）生活支援員の員数
D14: 職種 | E14: 員数（常勤換算） | F14: 基準上必要な数（常勤換算）
D15: 児童指導員
D17: （３）心理療法を担当する職員
D18: 職種 | E18: 氏名
D20: ※ 加算を開始しようとする月の勤務割表を添付すること
D22: （４）実践研修修了者（いずれかに○）
D23: １ 強度行動障害支援者養成研修（実践研修）修了者 配置 （行動援護従業者養成研修修了者を配置した場合を含む） ２ 強度行動障害支援者養成研修（実践研修）受講予定者 配置 （研修受講計画作成済み）
D25: （５）基礎研修修了者（いずれかに○）
D26: １ 強度行動障害支援者養成研修（基礎研修）修了者 配置 （重度訪問介護従業者養成研修行動障害支援課程修了者又は 行動援護従業者養成研修修了者を配置した場合を含む） ２ 強度行動障害支援者養成研修（基礎研修）受講予定者 配置 （研修受講計画作成済み）
B28: 【施設基準】
B29: イ 指定福祉型障害児入所施設（主として知的障がい児又は自閉症児を入所させるものに限る。以下同じ。）の職務に 月に１回以上従事する知的障がい児又は自閉症児の診療に相当の経験を有する医師を１以上配置すること。
B30: ロ 指定入所基準第４条第１項第１号、第３号のイ、第３号のイの及び第４号から第６号までに定める従業者の員数に 加えて、常勤の児童指導員の員数が、次のいずれかに該当すること。
B31: ① 加算の対象となる障害児（以下「加算対象児」という。）の数が４人以下の指定福祉型障害児入所施設にあっては、 ２以上。
B32: ② 加算対象児の数が５人以上の指定福祉型障害児入所施設にあっては、２に、障害児の数が４を超えてその端数を 増すごとに１を加えて得た数以上。
B33: ハ 福祉型障害児入所施設の従業者のうち強度行動障害支援者養成研修（実践研修）の課程を修了し、当該研修の 事業を行った者から当該研修の課程を修了した旨の証明書の交付を受けた者を１以上配置し、支援計画シート等を 作成すること。
B34: 二 心理指導担当職員を１以上配置すること。
B35: ホ 加算対象児の居室は、原則として個室とすること。ただし、指導及び訓練上の必要がある場合には、２人用居室 として差し支えないものとすること。
B36: ヘ 行動改善室、観察室等の行動障害の軽減のための各種の指導、訓練等を行うために必要な設備を設けること。
B37: 備考 「異動区分」欄については、該当する番号に○を付してください。

Sheet 別紙9-2
B1: 別紙9-2 | H1: （児童発達支援・放課後等デイサービス）
G2: 令和 年 月 日
A4: 強度行動障害児特別支援加算届出書
B6: 事業所・施設の名称 | C6: =様式第1号!J30 -> 0
B7: サービスの種別 | C7: ① | D7: 児童発達支援 | E7: ② | F7: 放課後等デイサービス | G7: ③ | H7: ①・②の多機能
B8: １ 異動区分 | C8: ① 新規 ② 変更 ③ 終了
B9: ２ 配置人数 | C9: 強度行動障害支援者養成研修（基礎研修）修了者 配置 （重度訪問介護従業者養成研修行動障害支援課程修了者又は行動援護従業者養成研修修了者を配置した場合を含む）
D10: 氏名 | F10: 職種 | H10: 修了した研修の種類
C11: 1
C12: 2
C13: 3
C14: 4
C15: 5
C16: 計 | D16: 人
B17: 備考 １「異動区分」欄については、該当する番号に○を付してください。
B18: ２ 研修修了証の写しを添付してください。
B20: 確認欄
B21: □ 強度行動障害支援者養成研修（基礎研修）
B22: □ 重度訪問介護従業者養成研修行動障害支援課程
B23: □ 行動援護従業者養成研修

Sheet 別紙10-1
A1: 別紙10-1 | G1: 令和 年 月 日
A2: 心的外傷のため心理療法を必要とする障害児
A4: 施設種別
A5: 施設名 | C5: =様式第1号!J30 -> 0
A6: 定員
A7: 公認心理師資格の有無 | C7: ① 有 ② 無
A9: 氏名 | D9: 年齢 | E9: 入所日 | G9: 備考
A10: 1
A11: 2
A12: 3
A13: 4
A14: 5
A15: 6
A16: 7
A17: 8
A18: 9
A19: 10
A21: 注１ 備考欄には、「契約による入所」等を記入する。
A22: 注２ 心理担当職員配置加算を算定する場合に作成し、都道府県知事に届け出ること。

Sheet 別紙10-2
A1: 別紙10-2 | J1: （施設⇔児童相談所）
L2: 【児童相談所に記載してもらった上で、写しを提出してください】
A3: 心理療法等を必要とする障害児等の意見依頼書兼意見書
H5: 令和 年 月 日
C7: 児童相談所長
F9: 所在地
F10: 法人等名
F11: 施設名
F12: 代表者名 | J12: 印
A14: 以下の障害児等について、心理療法等が必要である判断を児童相談所長に依頼します。
B16: 障害児等の氏名 | D16: 生年月日 | F16: 入所年月日 | H16: 備考 | I16: 児童相談所記入欄
I17: 心理療法等 の必要性
I18: あり ・ なし
I19: あり ・ なし
I20: あり ・ なし
I21: あり ・ なし
I22: あり ・ なし
I23: あり ・ なし
I24: あり ・ なし
I25: あり ・ なし
I26: あり ・ なし
I27: あり ・ なし
B28: 注１ 太枠内は記入しないでください。
B29: 注１ 備考欄には、「措置」か「契約」かを記入してください。
A33: 以上のとおり、判断します。
A36: 令和 年 月 日
B38: （あてさき）
I39: 児童相談所長 | J39: 印

Sheet 別紙11
A1: 別紙11 | H1: 令和 年 月 日
A3: 看護職員配置加算に係る届出書
A5: 事業所の名称 | D5: =様式第1号!J30 -> 0
A6: 事業所の所在地
A7: 異動区分 | D7: ① 新規 ② 変更 ③ 終了
A8: 連絡先 | C8: 電話番号 | G8: 担当者名
C9: FAX番号
A10: 看護職員の配置状況 | D10: 保健師 | E10: 常勤換算 | G10: 人
D11: 助産師 | E11: 常勤換算 | G11: 人
D12: 看護師 | E12: 常勤換算 | G12: 人
D13: 准看護師 | E13: 常勤換算 | G13: 人
A14: 合計 | D14: =SUM(F10:F13) -> 0 | G14: 人
A16: 児童の状況
C17: 月 | D17: ①利用した医療的ケア児のスコア（※） | F17: ②開所日数 | G17: ③医療的ケアスコアの合計の点数（①／②）
C18: ４月 | G18: =ROUND(D18/F18,1) -> #DIV/0!
C19: ５月 | G19: =ROUND(D19/F19,1) -> #DIV/0!
C20: ６月 | G20: =ROUND(D20/F20,1) -> #DIV/0!
C21: ７月 | G21: =ROUND(D21/F21,1) -> #DIV/0!
C22: ８月 | G22: =ROUND(D22/F22,1) -> #DIV/0!
C23: ９月 | G23: =ROUND(D23/F23,1) -> #DIV/0!
C24: 10月 | G24: =ROUND(D24/F24,1) -> #DIV/0!
C25: 11月 | G25: =ROUND(D25/F25,1) -> #DIV/0!
C26: 12月 | G26: =ROUND(D26/F26,1) -> #DIV/0!
C27: １月 | G27: =ROUND(D27/F27,1) -> #DIV/0!
C28: ２月 | G28: =ROUND(D28/F28,1) -> #DIV/0!
C29: ３月 | G29: =ROUND(D29/F29,1) -> #DIV/0!
C30: 合計 | D30: =SUM(D18:D29) -> 0 | F30: =SUM(F18:F29) -> 0 | G30: =ROUND(D30/F30,1) -> #DIV/0!
B31: （※） 「①利用した医療的ケア児のスコア」の計算方法 ア ： 医療的ケア児の医療的ケアスコアに当該医療的ケア児が利用した日数を乗じる。 イ ： 各月に利用実績がある医療的ケア児全員について、アの計算を行い、計算後の数値を合計する。 例）４月に医療的ケアスコア20点の医療的ケア児Ａは30日利用、医療的ケアスコア32点の医療的ケア児Ｂは 28日利用。 ⇒ 20点×30日＋32点×28日＝1,496点 「③医療的ケアスコアの合計の点数」の数値が40点以上の場合は、看護職員配置加算（Ⅱ）の算定要件を 満たすことになる。
A33: 注１ 「異動区分」欄については、該当する番号に○を付して下さい。
A34: 注２ 看護職員の資格を証する書類の写しを添付して下さい。

Sheet 別紙12
A1: 別紙12
A3: 自活訓練加算に係る状況
A5: 自活訓練を行う居室等の状況 | B5: 居 住 区 分 | E5: □施設敷地内
E6: □施設外 法人所有
E7: □ 賃貸
B8: 自活訓練棟所在地
B9: 居室数
B10: 施設からの距離
B11: 緊急時の対応
A12: その他提出書類
A13: ※建物平面図
A14: ※位置図（施設と自活訓練棟との距離が分かるもの）
A15: ※賃貸借契約書の写し（賃貸の場合）
A16: ※加算対象者へ支援をする際は、対象児童の180日間の居宅生活移行計画を作成し、提出すること

Sheet 別紙13
A1: 別紙13 | M1: （福祉型・医療型障害児入所施設）
J2: 令和 年 月 日
A4: 小規模グループケア加算体制届出書
A6: 施設名 | D6: =様式第1号!J30 -> 0 | H6: 施設種別 | J6: 福祉型 ・ 医療型
H7: 入所定員 | J7: 人
A8: 届出区分 | D8: １．新規 ２．変更 3．廃止
A10: 単位１
A11: 一単位当たりの定員 | H11: 専任職員の配置 | J11: 人（職種： ）
A13: 設備 | C13: 専用・共用の別 | E13: 備考
A14: 居室 | C14: 専 ・ 共 | E14: 児童一人当たりの面積（ ㎡）
A15: 台所 | C15: 専 ・ 共
A16: 食堂・居間 | C16: 専 ・ 共
A17: 浴室 | C17: 専 ・ 共
A18: 便所 | C18: 専 ・ 共
A19: 玄関 | C19: 専 ・ 共
A20: その他 | C20: 専 ・ 共
A22: 単位２
A23: 一単位当たりの定員 | E23: 人 | H23: 専任職員の配置 | J23: 人（職種： ）
A25: 設備 | C25: 専用・共用の別 | E25: 備考
A26: 居室 | C26: 専 ・ 共 | E26: 児童一人当たりの面積（ ㎡）
A27: 台所 | C27: 専 ・ 共
A28: 食堂・居間 | C28: 専 ・ 共
A29: 浴室 | C29: 専 ・ 共
A30: 便所 | C30: 専 ・ 共
A31: 玄関 | C31: 専 ・ 共
A32: その他 | C32: 専 ・ 共
A34: ※１ | B34: 福祉型障害児入所施設及び医療型障害児入所施設において小規模なグループケアを実施している施設が加算を算定する場合に届け出ること。
A35: ※２ | B35: 小規模グループケアの単位の定員は、４～８名とする。
A36: ※３ | B36: 居室の床面積は、4.95㎡以上であること。
A37: ※４ | B37: 小規模グループケアを実施する場合は、専任の職員として児童指導員又は保育士１名以上を加配し、他の職員と連携してケアを行うこと。
A38: ※５ | B38: 小規模グループケアを行う施設の平面図を添付すること。
A39: ※６ | B39: 単位ごとに作成すること。（表が足りない場合は、適宜追加すること。）
A42: （別紙13 続き）
A44: 対象児童の状況
A45: 単位１
A46: 児童氏名 | E46: 年齢 | F46: 性別 | G46: 本体施設での入所期間 | J46: グループケア実施期間
A57: 単位２
A58: 児童氏名 | E58: 年齢 | F58: 性別 | G58: 本体施設での入所期間 | J58: グループケア実施期間

Sheet 別紙13-2
L1: 令和 年 月 日
A3: 小規模グループケア加算（サテライト型）体制申請書（届出書）
A5: 施設名 | G5: 入所定員 | I5: 人
A7: 届出区分 | C7: １．新規 ２．変更 3．廃止
A9: 単位１
A10: 一単位当たりの定員 | D10: 人 | G10: 専任職員の配置 | I10: 人（職種： ）
A12: 設備 | D12: 備考
A13: 居室 | D13: 児童一人当たりの面積（ ㎡）
A14: 居間
A15: 台所
A16: 食堂
A17: 浴室
A18: 便所
A19: 玄関
A20: その他
A22: 本体施設との距離及び交通経路及び移動に係る所要時間
A24: ※ 福祉型障害児入所施設において、サテライト型として小規模なグループケアを実施する場合に 届け出ること。 ※ 小規模グループケアの単位の定員は、４～６名とする。 ※ 居室の床面積は、4.95㎡以上であること。 ※ 小規模グループケアを実施する場合は、専任の職員として児童指導員又は保育士２名以上 を加配し、他の職員と連携してケアを行うこと。 ※ 「本体施設との距離、交通経路及び移動に係る所要時間を記載すること（地図等の貼付も可）。 ※ 単位ごとに作成すること。（表が足りない場合は、適宜追加すること。）
A28: 対象児童の状況
A29: 単位１
A30: 児童氏名 | D30: 年齢 | E30: 性別 | F30: 本体施設での入所期間 | I30: グループケア実施期間

Sheet 別紙14
B1: 別紙14
B4: 食事提供加算に係る体制
B6: 施設名 | I6: =様式第1号!J30 -> 0
B7: サービスの種類 | I7: =様式第1号!AA27 -> 児童発達支援（センターではない事業所）
AD8: ※色つきのセルを入力
B9: 食事の提供体制 | D9: 食事提供に係る 人員配置 | M9: 管理栄養士 | W9: 常勤 | AC9: 人 | AD9: 非常勤 | AJ9: 人
M10: 栄養士 | W10: 常勤 | AC10: 人 | AD10: 非常勤 | AJ10: 人
M11: 調理員 | W11: 常勤 | AC11: 人 | AD11: 非常勤 | AJ11: 人
M12: その他（ ） | W12: 常勤 | AC12: 人 | AD12: 非常勤 | AJ12: 人
M13: その他（ ） | W13: 常勤 | AC13: 人 | AD13: 非常勤 | AJ13: 人
D14: 業務委託部分 | F14: 業務委託の内容 | M14: 業務委託先
M15: 委託業務の内容
F18: 適切な食事提供の確保方策
B24: 児童発達支援センター（医療型児童発達支援事業所）内の調理室を使用して、原則として当該施設が自ら調理し、提供されたものについて加算の算定が出来る。
B26: 食事の提供に関する業務を当該施設の最終的責任の下で第三者に委託することは差し支えない。ただし、当該調理委託が行えるのは、施設内の調理室を使用して調理する場合に限り、施設外で調理し、搬入する方法は認められない。また出前の方法や市販の弁当を購入して、提供するような方法は認められない。
B30: 注１ 業務委託を行っている場合の人員配置は、事業所・施設で適切な食事提供が行われるための管理等
B31: に関わる職員の状況を記入してください。
B32: 注２ 外部委託を行う場合の適切な食事提供の確保方策欄は、献立に関する事業所・施設の関与、委託先
B33: から事業所・施設への食事の運搬方法、適時適温への配慮など、自己調理する場合に通常確保される提
B34: 供体制に相当するものへの対応の概略を記入してください。

Sheet 別紙16-1
A1: 別紙16-1
E2: 令和 年 月 日
A3: 送迎加算に関する届出書（重症心身障害児）
B5: 事業所・施設の名称 | C5: =様式第1号!J30 -> 0
B6: １ 異動区分 | C6: ① 新規 ② 変更 ③ 終了
B7: ２ 送迎の体制 （運転手以外） | D7: 氏名 | E7: 職種 | F7: 喀痰吸引等の 実施内容（※備考３を確認してください）
C8: 1
C9: 2
C10: 3
C11: 計 | D11: 人
B14: 備考 １ 「異動区分」欄については、該当する番号に○を付してください。
B15: ２ 重症心身障害児に対して支援を提供する児童発達支援センター、児童発達支援事業所、 医療型児童発達支援センター、放課後等デイサービス事業所において作成すること。
B16: ３ 「喀痰吸引等の実施内容」については、送迎同乗者が実施可能な医療的ケアについて記載すること。

Sheet 別紙16-2
A1: 別紙16-2 | F1: (児童発達支援、医療型児童発達支援、放課後等デイサービス)
E3: 令和 年 月 日
A4: 送迎加算（重度）に関する届出書（重症心身障害児を除く）
B6: 事業所・施設の名称 | C6: =様式第1号!J30 -> 0
B7: １ 異動区分 | C7: ① 新規 ② 変更 ③ 終了
B8: ２ 送迎の体制 （看護職員） | D8: 氏名 | E8: 職種 | F8: 喀痰吸引等の 実施内容 (※備考４を確認してください)
C9: 1 | H9: 保健師
C10: 2 | H10: 看護師
C11: 3 | H11: 助産師
C12: 計 | D12: 人 | H12: 准看護師
B15: 備考 １ 看護職員加配加算を算定している児童発達支援、医療型児童発達支援及び放課後等 デイサービス事業所において、喀痰吸引等の医療的ケアを行うため運転手に加え、看 護職員を伴い送迎を行う場合に、更に加算できます。
B16: ２ 「異動区分」欄については、該当する番号に○を付してください。
B17: ３ 「職種」欄については、保健師、看護師、助産師又は准看護師を選択してください。
B18: ４ 「喀痰吸引等の実施内容」については、送迎同乗者が実施可能な医療的ケアについて、 記載すること。

Sheet 別紙17-1
B1: 別紙17-1 | G1: (児童発達支援)
H2: 令和 年 月 日
A4: 報酬算定区分に関する届出書
B6: 事業所・施設の名称 | C6: =様式第1号!J30 -> 0
B7: １ 異動区分 | C7: ① 新規 ② 変更 ③ 終了
B8: ２ 利用児童の状況
D9: 月 | E9: ① 利用延べ人数 | F9: ② ①のうち未就学児 | G9: ③ 未就学児の割合 （②／①）
D10: ４月 | G10: =F10/E10 -> #DIV/0!
D11: ５月 | G11: =F11/E11 -> #DIV/0!
D12: ６月 | G12: =F12/E12 -> #DIV/0!
D13: ７月 | G13: =F13/E13 -> #DIV/0!
D14: ８月 | G14: =F14/E14 -> #DIV/0!
D15: ９月 | G15: =F15/E15 -> #DIV/0!
D16: 10月 | G16: =F16/E16 -> #DIV/0!
D17: 11月 | G17: =F17/E17 -> #DIV/0!
D18: 12月 | G18: =F18/E18 -> #DIV/0!
D19: １月 | G19: =F19/E19 -> #DIV/0!
D20: ２月 | G20: =F20/E20 -> #DIV/0!
D21: ３月 | G21: =F21/E21 -> #DIV/0!
D22: 合計 | E22: =SUM(E10:E21) -> 0 | F22: =SUM(F10:F21) -> 0 | G22: =F22/E22 -> #DIV/0!
D24: ※①に占める②の割合が70％以上の場合は、障害児通所報酬告示第１の二の（１）「主に未就学児に対し指定児童発達支援を行う場合」の区分で請求すること。
B26: 備考１ 年度当初に必ず提出してください。
B27: ２ 「異動区分」欄については、該当する番号に○を付してください。
B28: ３ 医療的ケア区分に応じた基本報酬に関する届出を行う場合は別添も添付してください。

Sheet 別紙17-2
B1: 別紙17-2 | H1: （放課後等デイサービス）
H2: 令和 年 月 日
A3: 報酬算定区分に関する届出書
B5: 事業所・施設の名称 | C5: =様式第1号!J30 -> 0
B6: １ 異動区分 | C6: ① 新規 ② 変更 ③ 終了
B7: ２ 提供時間 | C7: ① ３時間以上 ② ３時間未満
B10: 備考 １ 「異動区分」欄については、該当する番号に〇を付してください。 ２ 「提供時間」欄は、運営規程等に定める標準的なサービス提供時間に１日に設定される単位の数を 乗じた数をもとに選択してください。 ３ 医療的ケア区分に応じた基本報酬に関する届出を行う場合は別添も添付してください。

Sheet 別紙17-３
A1: ※水色部分に入力してください。 | AJ1: （報酬算定区分に関する届出書・別添）
A2: （別添）医療的ケア区分に応じた基本報酬の算定に関する届出書
B3: サービスの種別 | D3: ① 児童発達支援 ② 放課後等デイサービス ③ ①・②の多機能
D5: 月 | AJ5: 合計
D6: 日 | E6: 1 | F6: 2 | G6: 3 | H6: 4 | I6: 5 | J6: 6 | K6: 7 | L6: 8 | M6: 9 | N6: 10 | O6: 11 | P6: 12 | Q6: 13 | R6: 14 | S6: 15 | T6: 16 | U6: 17 | V6: 18 | W6: 19 | X6: 20 | Y6: 21 | Z6: 22 | AA6: 23 | AB6: 24 | AC6: 25 | AD6: 26 | AE6: 27 | AF6: 28 | AG6: 29 | AH6: 30 | AI6: 31
D7: 曜日
A8: 医療的ケア児利用児童数 | C8: 区分３（32点以上）
C9: 区分２（16点以上）
C10: 区分１（３点以上）
C11: 合計 | E11: =SUM(E8:E10) -> 0 | F11: =SUM(F8:F10) -> 0 | G11: =SUM(G8:G10) -> 0 | H11: =SUM(H8:H10) -> 0 | I11: =SUM(I8:I10) -> 0 | J11: =SUM(J8:J10) -> 0 | K11: =SUM(K8:K10) -> 0 | L11: =SUM(L8:L10) -> 0 | ... AI11: =SUM(AI8:AI10) -> 0 | AJ11: =SUM(E11:AI11) -> 0
A12: 必要看護職員数 | C12: 区分３（32点以上） | E12: =E8*1 -> 0 | F12: =F8*1 -> 0 | G12: =G8*1 -> 0 | H12: =H8*1 -> 0 | I12: =I8*1 -> 0 | J12: =J8*1 -> 0 | K12: =K8*1 -> 0 | L12: =L8*1 -> 0 | ... AI12: =AI8*1 -> 0
C13: 区分２（16点以上） | E13: =E9*0.5 -> 0 | F13: =F9*0.5 -> 0 | G13: =G9*0.5 -> 0 | H13: =H9*0.5 -> 0 | I13: =I9*0.5 -> 0 | J13: =J9*0.5 -> 0 | K13: =K9*0.5 -> 0 | L13: =L9*0.5 -> 0 | ... AI13: =AI9*0.5 -> 0
C14: 区分１（３点以上） | E14: =E10*0.33 -> 0 | F14: =F10*0.33 -> 0 | G14: =G10*0.33 -> 0 | H14: =H10*0.33 -> 0 | I14: =I10*0.33 -> 0 | J14: =J10*0.33 -> 0 | K14: =K10*0.33 -> 0 | L14: =L10*0.33 -> 0 | ... AI14: =AI10*0.33 -> 0
C15: 合計 | E15: =SUM(E12:E14) -> 0 | F15: =SUM(F12:F14) -> 0 | G15: =SUM(G12:G14) -> 0 | H15: =SUM(H12:H14) -> 0 | I15: =SUM(I12:I14) -> 0 | J15: =SUM(J12:J14) -> 0 | K15: =SUM(K12:K14) -> 0 | L15: =SUM(L12:L14) -> 0 | ... AI15: =SUM(AI12:AI14) -> 0 | AJ15: =SUM(E15:AI15) -> 0
A16: 配置看護職員数 | AJ16: =SUM(E16:AI16) -> 0
A18: 医療的ケア児が利用する日の合計日数 | I18: =COUNTIF(E11:AI11,">0") -> 0 | L18: 日 | O18: 医療的ケア児の１日の平均利用人数 | Z18: =IFERROR(AJ11/I18,"") | AC18: 人
B20: 備考 「異動区分」欄については、該当する番号に○を付してください。 | C20: 標準的な月における、医療的ケア児の利用児童数と、それに応じた必要看護職員数に対して、配置看護職員数を記載してください。
C21: 多機能型（人員配置特例の利用あり）の場合、児童発達支援と放課後等デイサービスの利用児童数を合わせて記入してください。
C22: 多機能型（人員配置特例の利用なし）の場合、本用紙を、児童発達支援で１枚、放課後等デイサービスで１枚と、分けて作成してください。
A24: 【記載例】 （別添）医療的ケア区分に応じた基本報酬の算定に関する届出書
D26: ４月 | AJ26: 合計
D27: 日 | E27: 1 | F27: 2 | G27: 3 | H27: 4 | I27: 5 | J27: 6 | K27: 7 | L27: 8 | M27: 9 | N27: 10 | O27: 11 | P27: 12 | Q27: 13 | R27: 14 | S27: 15 | T27: 16 | U27: 17 | V27: 18 | W27: 19 | X27: 20 | Y27: 21 | Z27: 22 | AA27: 23 | AB27: 24 | AC27: 25 | AD27: 26 | AE27: 27 | AF27: 28 | AG27: 29 | AH27: 30 | AI27: 31
D28: 曜日 | E28: 月 | F28: 火 | G28: 水 | H28: 木 | I28: 金 | J28: 土 | K28: 日 | L28: 月 | M28: 火 | N28: 水 | O28: 木 | P28: 金 | Q28: 土 | R28: 日 | S28: 月 | T28: 火 | U28: 水 | V28: 木 | W28: 金 | X28: 土 | Y28: 日 | Z28: 月 | AA28: 火 | AB28: 水 | AC28: 木 | AD28: 金 | AE28: 土 | AF28: 日 | AG28: 月 | AH28: 火 | AI28: 水
A29: 医療的ケア児利用児童数 | C29: 区分３（32点以上） | E29: 1 | G29: 1 | I29: 1 | L29: 1 | N29: 1 | P29: 1 | S29: 1 | U29: 1 | W29: 1 | Z29: 1 | AB29: 1 | AD29: 1 | AG29: 1 | AI29: 1
C30: 区分２（16点以上） | F30: 1 | H30: 1 | I30: 1 | M30: 1 | O30: 1 | P30: 1 | T30: 1 | V30: 1 | W30: 1 | AA30: 1 | AC30: 1 | AD30: 1 | AH30: 1
C31: 区分１（３点以上） | F31: 2 | H31: 2 | I31: 1 | M31: 2 | O31: 2 | P31: 1 | T31: 2 | V31: 2 | W31: 1 | AA31: 2 | AC31: 2 | AD31: 1 | AH31: 2
C32: 合計 | E32: =SUM(E29:E31) -> 1 | F32: =SUM(F29:F31) -> 3 | G32: =SUM(G29:G31) -> 1 | H32: =SUM(H29:H31) -> 3 | I32: =SUM(I29:I31) -> 3 | J32: =SUM(J29:J31) -> 0 | K32: =SUM(K29:K31) -> 0 | L32: =SUM(L29:L31) -> 1 | ... AI32: =SUM(AI29:AI31) -> 1 | AJ32: =SUM(E32:AI32) -> 49
A33: 必要看護職員数 | C33: 区分３（32点以上） | E33: =E29*1 -> 1 | F33: =F29*1 -> 0 | G33: =G29*1 -> 1 | H33: =H29*1 -> 0 | I33: =I29*1 -> 1 | J33: =J29*1 -> 0 | K33: =K29*1 -> 0 | L33: =L29*1 -> 1 | ... AI33: =AI29*1 -> 1
C34: 区分２（16点以上） | E34: =E30*0.5 -> 0 | F34: =F30*0.5 -> 0.5 | G34: =G30*0.5 -> 0 | H34: =H30*0.5 -> 0.5 | I34: =I30*0.5 -> 0.5 | J34: =J30*0.5 -> 0 | K34: =K30*0.5 -> 0 | L34: =L30*0.5 -> 0 | ... AI34: =AI30*0.5 -> 0
C35: 区分１（３点以上） | E35: =E31*0.33 -> 0 | F35: =F31*0.33 -> 0.66 | G35: =G31*0.33 -> 0 | H35: =H31*0.33 -> 0.66 | I35: =I31*0.33 -> 0.33 | J35: =J31*0.33 -> 0 | K35: =K31*0.33 -> 0 | L35: =L31*0.33 -> 0 | ... AI35: =AI31*0.33 -> 0
C36: 合計 | E36: =SUM(E33:E35) -> 1 | F36: =SUM(F33:F35) -> 1.16 | G36: =SUM(G33:G35) -> 1 | H36: =SUM(H33:H35) -> 1.16 | I36: =SUM(I33:I35) -> 1.83 | J36: =SUM(J33:J35) -> 0 | K36: =SUM(K33:K35) -> 0 | L36: =SUM(L33:L35) -> 1 | ... AI36: =SUM(AI33:AI35) -> 1 | AJ36: =SUM(E36:AI36) -> 27.76
A37: 配置看護職員数 | E37: 1 | F37: 1 | G37: 1 | H37: 2 | I37: 2 | L37: 1 | M37: 1 | N37: 1 | O37: 2 | P37: 2 | S37: 1 | T37: 1 | U37: 1 | V37: 2 | W37: 2 | Z37: 1 | AA37: 1 | AB37: 1 | AC37: 2 | AD37: 2 | AG37: 1 | AH37: 1 | AI37: 1 | AJ37: =SUM(E37:AI37) -> 31
A39: 医療的ケア児が利用する日の合計日数 | I39: =COUNTIF(E32:AI32,">0") -> 23 | L39: 日 | O39: 医療的ケア児の１日の平均利用人数 | Z39: =AJ32/I39 -> 2.1304348 | AC39: 人
B41: 備考 「異動区分」欄については、該当する番号に○を付してください。 | C41: 標準的な月における、医療的ケア児の利用児童数と、それに応じた必要看護職員数に対して、配置看護職員数を記載してください。

Sheet 別紙18 (重心)
B1: 別紙18 | J1: （児童発達支援・放課後等デイサービス）
I2: 令和 年 月 日
A3: 看護職員加配加算に関する届出書（主たる対象が重症心身障害児）
B5: 事業所・施設の名称 | C5: =様式第1号!J30 -> 0
B6: サービスの種別 | C6: ① | D6: 児童発達支援 | F6: ② | G6: 放課後等デイサービス | H6: ③ | I6: ①・②の多機能
B7: １ 異動区分 | C7: ① 新規 ② 変更 ③ 終了
B8: ２ 看護職員の状況
F9: 単位① | H9: 単位②
D10: 基準人数 A
D11: 医療的ケア区分に伴う基本報酬を算定する上で配置する看護職員の人数 Ｂ
D12: 看護職員の総数 Ｃ （常勤換算） | F12: =SUM(F13:G16) -> 0 | H12: =SUM(H13:I16) -> 0
E13: うち保健師の員数
E14: うち助産師の員数
E15: うち看護師の員数
E16: うち准看護師の員数
D17: 加配人数 （Ｃ－B－A） | F17: =F12-F11-F10 -> 0 | H17: =H12-H11-H10 -> 0
B19: ３ 児童の状況
D20: 月 | E20: ①利用した医療的ケア児のスコアの合計（※） | G20: ②開所日数 | H20: ③医療的ケア児の 平均利用人数（①／②）
D21: ４月 | H21: =ROUNDUP(E21/G21,1) -> #DIV/0!
D22: ５月 | H22: =ROUNDUP(E22/G22,1) -> #DIV/0!
D23: ６月 | H23: =ROUNDUP(E23/G23,1) -> #DIV/0!
D24: ７月 | H24: =ROUNDUP(E24/G24,1) -> #DIV/0!
D25: ８月 | H25: =ROUNDUP(E25/G25,1) -> #DIV/0!
D26: ９月 | H26: =ROUNDUP(E26/G26,1) -> #DIV/0!
D27: 10月 | H27: =ROUNDUP(E27/G27,1) -> #DIV/0!
D28: 11月 | H28: =ROUNDUP(E28/G28,1) -> #DIV/0!
D29: 12月 | H29: =ROUNDUP(E29/G29,1) -> #DIV/0!
D30: １月 | H30: =ROUNDUP(E30/G30,1) -> #DIV/0!
D31: ２月 | H31: =ROUNDUP(E31/G31,1) -> #DIV/0!
D32: ３月 | H32: =ROUNDUP(E32/G32,1) -> #DIV/0!
D33: 合計 | E33: =SUM(E21:F32) -> 0 | G33: =SUM(G21:G32) -> 0 | H33: =ROUNDUP(E33/G33,1) -> #DIV/0!
E35: 確認欄 Ⅰ ・ Ⅱ ・ 非該当
B36: （※） 「①利用した医療的ケア児のスコア」の計算方法 ア ： 医療的ケア児の医療的ケアスコアに当該医療的ケア児が利用した日数を乗じる。 イ ： 各月に利用実績がある医療的ケア児全員について、アの計算を行い、計算後の数値を合計する。 例）４月に医療的ケアスコア20点の医療的ケア児Ａは30日利用、医療的ケアスコア32点の医療的ケア児Ｂは28日利用。 ⇒ 20点×30日＋32点×28日＝1,496点 ・看護職員加配加算（Ⅰ）【看護職員１人分の加算】 医療的ケア児の新判定基準のスコアに前年度の出席率（利用日数／開所日数）を掛けた点数の医療的ケア児全員の合計点数が40点以上になること。 ・看護職員加配加算（Ⅱ）【看護職員２人分の加算】 医療的ケア児の新判定基準のスコアに前年度の出席率（利用日数／開所日数）を掛けた点数の医療的ケア児全員の合計点数が72点以上になること。
B44: 備考 １ 「異動区分」欄については、該当する番号に○を付してください。多機能型の場合は③に○を付してください。
B45: ２ 「看護職員の状況」には、サービス毎に単位を分けている場合は、看護職員の数を単位別に記載してください。
B46: ３ 多機能型の場合で、人員配置特例を利用しない場合は、「看護職員の状況」単位①・②欄にそれぞれ児童発達 支援と放課後等デイサービスの実配置人数と加配人数をそれぞれ記載してください。
B47: ４ 「保健師の員数」等には、サービス毎に配置されている看護職員の数を単位別に記載してください。

Sheet 別紙19
A2: 別紙19 | F2: 令和 年 月 日
A3: 訪問支援員特別加算体制届出書
A5: 事業所・施設の名称 | D5: =様式第1号!J30 -> 0
A6: 異動区分 | D6: ① 新規 ② 変更 ③ 終了
A7: ○訪問支援員の配置状況
A8: 氏名 | D8: 職種（資格） | F8: 資格取得日 | G8: 障害児支援 経験年数
A9: 1
A10: 2
A11: 3
A12: 4
A13: 5
A14: 6
A15: 7
A16: 8
A17: 9
A18: 10
A20: 備考 １ 事業所に配置されている訪問支援員について記載すること。
A21: ２ 障害児支援経験年数には、資格取得後の障害児支援事業所等又は任用資格取得後に初めて 障害児支援事業所等に採用されてからの実務経験年数を記載すること。

Sheet 別紙20
B1: 別紙20 | G1: (共生型）
F2: 令和 年 月 日
A3: 共生型サービス体制強化加算に関する届出書
B5: 事業所・施設の名称 | C5: =様式第1号!J30 -> 0
B6: １ 異動区分 | C6: ① 新規 ② 変更 ③ 終了
B7: ２ 児童発達支援管理 責任者等の配置の 状況
D9: 児童発達支援管理責任者 | E9: 人
D10: 保育士又は 児童指導員 | E10: 人
B13: 備考１ 「異動区分」欄については、該当する番号に○を付してください。

Sheet 別紙21
B1: （別紙21） | J1: （児童発達支援・放課後等デイサービス）
B2: 自己評価結果に関する届出書
I3: 令和 年 月 日
B4: １ 事業所情報
B5: 事業所名
B6: 事業所番号
B7: 事業の種別 | C7: □ | D7: 児童発達支援センター | F7: 指定年月日 | H7: 平成・令和 年 月 日
C8: □ | D8: 児童発達支援（センター以外） | F8: 指定年月日 | H8: 平成・令和 年 月 日
C9: □ | D9: 放課後等デイサービス | F9: 指定年月日 | H9: 平成・令和 年 月 日
B10: 所在地
B12: ２ 公表状況
B13: 公表日 | C13: 令和 年 月 日
B14: 公表方法 | C14: ≪児童発達支援センター≫
C15: □ | D15: ホームページ掲載 | F15: （ＵＲＬ ）
C16: □ | D16: 会報等に掲載し配布 | F16: （会報等の名称 ）
C17: □ | D17: その他 | F17: （具体的な方法 ）
C19: ≪児童発達支援（センター以外）≫
C20: □ | D20: ホームページ掲載 | F20: （ＵＲＬ ）
C21: □ | D21: 会報等に掲載し配布 | F21: （会報等の名称 ）
C22: □ | D22: その他 | F22: （具体的な方法 ）
C24: ≪放課後等デイサービス≫
C25: □ | D25: ホームページ掲載 | F25: （ＵＲＬ ）
C26: □ | D26: 会報等に掲載し配布 | F26: （会報等の名称 ）
C27: □ | D27: その他 | F27: （具体的な方法 ）
B30: ※ホームページ以外で公表している場合は、その資料も添付してください。
E32: 担当者名
E33: 連絡先電話番号

Sheet 別紙22
E1: 令和 年 月 日
A3: ソーシャルワーカー配置加算に係る届出書
B5: 事業所・施設の名称
B6: 施設種別 | C6: ① 福祉型障害児入所施設 ② 医療型障害児入所施設
B7: １ 異動区分 | C7: ① 新規 ② 変更 ③ 終了
B8: ２ 配置するＳＷの 状況 | D8: 配置するＳＷの資格等 （①か②を記入） | E8: 専従・兼任の別
C9: １人目 | E9: ①専従 ・ ②兼任
C10: ２人目 | E10: ①専従 ・ ②兼任
B12: 備考１ 「施設種別」、「異動区分」欄については、該当する番号に○を付けること。
B13: ２ 「配置するＳＷの資格等」は、以下の選択肢のいずれかを記入すること（両方に該当する場合、 ①を選択すること）。
B15: ３ 「専従・兼任の別」欄は、該当する番号に○を付けること。なお、「①専従」に○が付かない場合、 加算の対象にならないので注意すること。
B16: ４ ＳＷとして専従で配置した従業者は、基準人員としては数えられないことに注意すること。
B17: ５ ＳＷを２人以上配置した場合も加算の単位は変わらないことに注意すること。
B18: ６ ＳＷを３人以上配置する場合は適宜欄を追加すること。

Sheet 実務経験証明書様式
A3: 実 務 経 験 証 明 書
A6: 選択してください | D6: 様 | J6: 令和 年 月 日
E8: 所在地
E9: 名称
E10: 代表者氏名 | J10: 印
E11: 電話番号
A13: 下記の者の実務経験は、以下のとおりであることを証明します。
A15: 氏 名 | G15: (生年月日 年 月 日）
A16: 現 住 所
A17: 施設又は事業所名
D18: 施設・事業所・サービスの種別（ ）
A19: 業 務 期 間
D20: 年 月 日 ～ 年 月 日（ 年 月間）
A21: 上記のうち業務に従事した日数 | D21: 日
A22: 業 務 内 容 | D22: 職種( ）
A26: （注） | B26: １． | C26: 見込証明でない場合は、表題の（見込）を二重線で消すこと。
B27: ２． | C27: 施設又は事業所名欄には、障害支援施設等の種別も記入すること。
B28: ３． | C28: 業務期間欄は、実務経験被証明者が要援護者に対する直接的な援助を行っていた期間（見込においては援助を行うと見込まれる期間）を記入すること。（産休・育休・療養休暇や長期研修期間等は業務期間となりません）
B29: ４． | C29: 業務内容欄は、看護師、生活指導員等の職名を記入し、業務内容について、老人デイサービス事業における○○業務、○○実施要綱の○○事業の○○業務等具体的に記入すること。
B31: ５． | C31: 証明内容を訂正する場合は、二重線で消した上、証明者（代表者）の印を押すこと。
