Workbook
Name _____________________________________________________________________kk29: #REF!
Name _____________________________________________________________________kk29: #REF!
Name _____________________________________________________________________kk29: #REF!
Name _____________________________________________________________________kk29: #REF!
Name _____________________________________________________________________kk29: #REF!
Name _____________________________________________________________________kk29: #REF!
Name _____________________________________________________________________kk29: #REF!
Name _____________________________________________________________________kk29: #REF!
Name _____________________________________________________________________kk29: #REF!
Name _____________________________________________________________________kk29: #REF!
Name _____________________________________________________________________kk29: #REF!
Name _____________________________________________________________________kk29: #REF!
Name _____________________________________________________________________kk29: #REF!
Name _____________________________________________________________________kk29: #REF!
Name _____________________________________________________________________kk29: #REF!
Name _____________________________________________________________________kk29: #REF!
Name _____________________________________________________________________kk29: #REF!
Name _____________________________________________________________________kk29: #REF!
Name _____________________________________________________________________kk29: #REF!
Name _____________________________________________________________________kk29: #REF!
Name _____________________________________________________________________kk29: #REF!
Name _____________________________________________________________________kk29: #REF!
Name _____________________________________________________________________kk29: #REF!
Name _____________________________________________________________________kk29: #REF!
Name _____________________________________________________________________kk29: #REF!
Name _____________________________________________________________________kk29: #REF!
Name _____________________________________________________________________kk29: #REF!
Name _____________________________________________________________________kk29: #REF!
Name _____________________________________________________________________kk29: #REF!
Name _____________________________________________________________________kk29: #REF!
Name _____________________________________________________________________kk29: #REF!
Name _____________________________________________________________________kk29: #REF!
Name _____________________________________________________________________kk29: #REF!
Name _____________________________________________________________________kk29: #REF!
Name _____________________________________________________________________kk29: #REF!
Name _____________________________________________________________________kk29: #REF!
Name _____________________________________________________________________kk29: #REF!
Name ____________________________________________________________________kk29: #REF!
Name ____________________________________________________________________kk29: #REF!
Name ____________________________________________________________________kk29: #REF!
Name ____________________________________________________________________kk29: #REF!
Name ___________________________________________________________________kk29: #REF!
Name ___________________________________________________________________kk29: #REF!
Name ___________________________________________________________________kk29: #REF!
Name ___________________________________________________________________kk29: #REF!
Name __________________________________________________________________kk06: #REF!
Name __________________________________________________________________kk29: #REF!
Name _________________________________________________________________kk06: #REF!
Name _________________________________________________________________kk29: #REF!
Name ________________________________________________________________kk06: #REF!
Name ________________________________________________________________kk29: #REF!
Name _______________________________________________________________kk06: #REF!
Name _______________________________________________________________kk29: #REF!
Name ______________________________________________________________kk06: #REF!
Name ______________________________________________________________kk29: #REF!
Name _____________________________________________________________kk06: #REF!
Name _____________________________________________________________kk29: #REF!
Name ____________________________________________________________kk06: #REF!
Name ____________________________________________________________kk29: #REF!
Name ___________________________________________________________kk06: #REF!

Sheet はじめに
A3: 児童福祉法に基づく指定障害児通所支援事業所等 給付費算定に係る体制等に関する届出書
A4: 令和８年４月～
A7: ◆ | B7: このファイルは、児童福祉法に基づく指定障害児通所支援事業所・指定障害児入所施設の「給付費算定に係る体制等に関する届出書」の様式集です。
A9: ◆ | B9: この届出は、現状の給付日算定に係る体制を届け出てください。また、加算の新規取得や取得している加算が増える変更の場合は変更が生じる月の前月の15日までに提出してください。なお、指定申請において指定権者（神奈川県）に提出した書類と矛盾が生じる場合は、あわせて指定申請書類の変更届（別様式）もご提出ください。
A11: ◆ | B11: 各様式の役割
B12: 「様式第1号」･･･届出書の表紙となるものです。提出の際は必ず作成してください。
B13: 「別紙1-２」･･･届出内容の総括表となるものです。提出の際は、サービス種類に合ったものを作成してください。
B15: 「その他、各別紙」･･･各加算、体制等の算定要件を満たしていることを示していただくものです。提出の際は
B16: 該当する様式を作成してください。
B17: ※「確認シート」を使用していただき、提出する届出書にもれがないかの確認をしてください。
M20: 届出書一式の完成 （届出を行う場合は、左の黄色の様式は毎回必ず提出してください。）
C22: ＋ | E22: ＋ | H22: ＋ | L22: ＝

Sheet サービス種類別提出書類一覧
A1: 障害児（通所・入所）給付費算定に係る体制等に関する届出書 【※ 新規の事業所指定申請の際にも、該当する書類が必要になります】
A5: （◎は必須 ▲は該当する場合提出）
A7: 書類の提出時期 | B7: 提出書類（書類略称） | C7: 児童発達支援センター | D7: 児童発達支援 （センター以外） | E7: 医療型児童発達支援（センター以外) | F7: 放課後等デイｻｰﾋﾞｽ | G7: 保育所等訪問支援 | H7: 居宅訪問型児童発達支援 | I7: 福祉型障害児入所施設 | J7: 医療型障害児入所施設
A10: 事業所指定 申請時 ・ 随時、報酬単位に変更がある場合 | B10: 様式第1号（体制届出書） | C10: ◎ | D10: ◎ | E10: ◎ | F10: ◎ | G10: ◎ | H10: ◎ | I10: ◎ | J10: ◎
B11: 別紙1-2 ※各サービスごとでシートが異なる | C11: ◎ | D11: ◎ | E11: ◎ | F11: ◎ | G11: ◎ | H11: ◎ | I11: ◎ | J11: ◎
B12: 別紙2-● 人員基準等適合確認シート ※各サービスごとでシートが異なる | C12: ◎ | D12: ◎ | F12: ◎ | G12: ◎ | H12: ◎ | I12: ◎ | J12: ◎
B13: 別紙3-1、別紙3-1別添 （福祉専門職員配置等加算） | C13: ▲ | D13: ▲ | E13: ▲ | F13: ▲ | I13: ▲ | J13: ▲
B14: 別紙22（障害者支援施設等感染対策向上体制加算） | I14: ▲
B15: 別紙58（基準該当児童発達支援・基準該当放課後等デイサービスの報酬算定区分） | C15: ▲ | D15: ▲ | F15: ▲
B16: 別紙59（指定児童発達支援・指定放課後等デイサービスの報酬算定区分） | C16: ▲ | D16: ▲ | E16: ▲ | F16: ▲
B17: 別紙60（自己評価結果等の公表状況） | C17: ▲ | D17: ▲ | F17: ▲ | G17: ▲
B18: 別紙61（支援プログラムの公表状況） | C18: ▲ | D18: ▲ | F18: ▲ | H18: ▲
B19: 別紙62（児童指導員等加配加算） | C19: ▲ | D19: ▲ | F19: ▲
B20: 別紙63（看護職員加配加算）重心 | D20: ▲ | F20: ▲
B21: 別紙64（栄養士配置加算） 児発センター | C21: ▲
B22: 別紙65（食事提供加算） | C22: ▲
B23: 別紙66-1（強度行動障害児支援加算） ※児童発達支援、居宅訪問型児童発達支援、保育所等訪問支援 | C23: ▲ | D23: ▲ | G23: ▲ | H23: ▲
B24: 別紙66-2（強度行動障害児支援加算） ※放課後等デイサービス | F24: ▲
B25: 別紙67（送迎加算（重症心身障害児・医療的ケア児）） | C25: ▲ | D25: ▲ | F25: ▲
B26: 別紙68（延長支援加算） | C26: ▲ | D26: ▲ | F26: ▲
B27: 別紙69（専門的支援体制加算） | C27: ▲ | D27: ▲ | F27: ▲
B28: 別紙70（専門的支援実施加算） | C28: ▲ | D28: ▲ | F28: ▲
B29: 別紙71（中核機能強化加算・中核機能強化事業所加算） | C29: ▲
B30: 別紙72(視覚・聴覚・言語機能障害児支援加算) | C30: ▲ | D30: ▲ | F30: ▲
B31: 別紙18-1(看護職員加配加算)重心以外
B32: 別紙17-3（医療的ケア区分に応じた報酬）
B33: 別紙73（人工内耳装用児支援加算） | C33: ▲ | D33: ▲ | F33: ▲
B34: 別紙74(入浴支援加算) | C34: ▲ | D34: ▲ | F34: ▲
B35: 別紙75(共生型サービス体制強化加算・共生型サービス医療的ケア児支援加算) | C35: ▲ | D35: ▲ | F35: ▲
B36: 別紙76（保育職員加配加算に関する届出書） | J36: ▲
B37: 別紙77（個別サポート加算Ⅰ） ※放課後等デイサービス | F37: ▲
B38: 別紙78（訪問支援員特別加算・多職種連携加算・ケアニーズ対応加算） | G38: ▲ | H38: ▲
B39: 別紙79-1（重度障害児支援加算） | I39: ▲ | J39: ▲
B40: 別紙79-2（重度障害児支援加算（実践研修等修了分）） | I40: ▲ | J40: ▲
B41: 別紙80（日中活動支援加算） | I41: ▲
B42: 別紙81(強度行動障害児特別支援加算) ※福祉型障害児入所、医療型障害児入所 | I42: ▲ | J42: ▲
B43: 別紙82-1（心理担当職員配置加算・要支援児童加算） | I43: ▲ | J43: ▲
B44: 別紙82-2（心的外傷のため心理支援を必要とする障害児名簿） ※心理担当職員配置加算関係 | I44: ▲ | J44: ▲
B45: 別紙83（看護職員配置加算）※福祉型障害児入所 | I45: ▲
B46: 別紙84（児童指導員等加配加算）※福祉型障害児入所 | I46: ▲
B47: 別紙85-1（自活訓練加算） | I47: ▲ | J47: ▲
B48: 別紙85-2（自活訓練を必要とする障害児名簿等） ※自活訓練加算関係 | I48: ▲ | J48: ▲
B49: 別紙86（栄養士配置加算・栄養マネジメント加算） | I49: ▲
B50: 別紙87-1（小規模グループケア加算） | I50: ▲ | J50: ▲
B51: 別紙87-2（小規模グループケア加算（サテライト型）） | I51: ▲
B52: 別紙88（ソーシャルワーカー配置加算） | I52: ▲ | J52: ▲
B53: （福祉・介護職員処遇改善加算） | C53: ▲ | D53: ▲ | F53: ▲ | G53: ▲ | H53: ▲ | I53: ▲ | J53: ▲
A56: 参考 | B56: 以下の加算は、サービス提供実績に応じて算定する加算です。体制の届出書類は必要ありません
A57: 書類の提出時期 | B57: 提出書類（書類略称） | C57: 児童発達支援センター | D57: 児童発達支援 （センター以外） | E57: 医療型児童発達支援（センター以外) | F57: 放課後等デイｻｰﾋﾞｽ | G57: 保育所等訪問支援 | H57: 居宅訪問型児童発達支援 | I57: 福祉型障害児入所施設 | J57: 医療型障害児入所施設
A60: 実績に応じて算定する（書類提出無し） | B60: (家族支援加算） | C60: ▲ | D60: ▲ | E60: ▲ | F60: ▲ | G60: ▲ | H60: ▲
B61: （利用者負担上限管理加算） | C61: ▲ | D61: ▲ | E61: ▲ | F61: ▲
B62: （欠席時対応加算） | C62: ▲ | D62: ▲ | E62: ▲ | F62: ▲
B63: （送迎加算） | D63: ▲ | F63: ▲
B64: （乳幼児加算） | I64: ▲
B65: （入院時特別支援加算） | I65: ▲
B66: （地域移行加算） | I66: ▲ | J66: ▲
B67: （関係機関連携加算） | C67: ▲ | D67: ▲ | E67: ▲ | F67: ▲ | G67: ▲
B68: （事業所間連携加算） | C68: ▲ | D68: ▲ | E68: ▲ | F68: ▲
B69: （医療連携体制加算） | C69: ▲ | D69: ▲ | F69: ▲
B70: （通所自立支援加算） | F70: ▲
B71: （自立サポート加算） | F71: ▲
B72: （子育てサポート加算） | C72: ▲ | D72: ▲ | H72: ▲
B73: （保育・教育等移行支援加算） | C73: ▲ | D73: ▲ | H73: ▲
B74: （移行支援関係機関連携加算） | I74: ▲ | J74: ▲
B75: （体験利用支援加算） | I75: ▲ | J75: ▲
B76: （集中的支援加算） | C76: ▲ | D76: ▲ | E76: ▲ | F76: ▲
B77: （新興感染症等療養加算） | I77: ▲

Sheet 様式第1号【必ず提出】
A1: （様式第１号）
A2: 障害児（通所・入所）給付費算定に係る体制等に関する届出書
Y4: 令和 | AC4: 年 | AF4: 月 | AI4: 日
B6: 選択してください | L6: 殿
N8: 届出者 | Q8: 所 在 地
Q9: 法人名
Q10: 代表者名
O11: （担当者） | Q11: 役職・氏名
Q12: 連絡先
A14: このことについて、関係書類を添えて以下のとおり届け出ます。
A16: 届出者（法人） | B16: フリガナ
B17: 名称
B18: 主たる事務所 の所在地 | J18: （郵便番号 － ）
J19: 県 郡市
B22: 連絡先 | J22: 電話番号 | X22: ＦＡＸ番号
B23: 代表者の職・氏名 | J23: 職名 | X23: 氏名 | AT23: 選択してください。
A24: 事業所・施設の状況 | B24: 主たる事業所の所在地 | J24: （郵便番号 － ） | AT24: 児童発達支援（センターで行う場合）
J25: 県 郡市 | AQ25: 児童発達支援 | AT25: 児童発達支援（センターではない事業所）
AQ26: 放課後等デイサービス | AT26: 児童発達支援（主として重症心身障害児を受け入れる事業所）
AQ27: 保育所等訪問支援 | AT27: 居宅訪問型児童発達支援
B28: 事業所番号 | Q28: サービスの種類 | Y28: =VLOOKUP(様式第1号【必ず提出】!AA28,選択肢!B3:C12,2,FALSE) -> 61 | AA28: 児童発達支援 | AQ28: 福祉型障害児入所施設 | AT28: 放課後等デイサービス | BB28: サービス種類をリストから選択してください。
AT29: 放課後等デイサービス（主として重症心身障害児を受け入れる事業所）
AQ30: 医療型障害児入所施設 | AT30: 保育所等訪問支援
B31: 事業所名 | AQ31: 居宅訪問型児童発達支援 | AT31: 福祉型障害児入所施設
B32: 連絡先 | J32: 電話番号 | X32: ＦＡＸ番号 | AT32: 医療型障害児入所施設
J33: メールアドレス
B34: 管理者の氏名 | J34: 職名 | X34: 氏名
A35: 指定年月日 | H35: 平成・令和 | O35: 年 | R35: 月 | U35: 日 | V35: 指定終了年月日 | AB35: 令和 | AF35: 年 | AI35: 月 | AL35: 日
A36: 変更の概要 | B36: ※以下に算定（加算及び区分）について変更の概要を記入してください
B37: 変更前 | O37: 変更後
B38: 記載例 | C38: ・福祉専門職員等配置加算（Ⅲ） ・児童指導員等加配加算 （児童指導員等（常勤専従・経験５年未満）） ・福祉・介護職員等処遇改善加算Ⅱ | O38: ・福祉専門職員等配置加算 無 ・児童指導員等加配加算（児童指導員等（常勤専従・経験５年以上）） ・福祉・介護職員等処遇改善加算Ⅰ
O45: 変更年月日 [加算算定適用年月日] | Y45: 令和 | AD45: 年 | AH45: 月 | AL45: 日

Sheet 確認シート【必ず提出】
A2: ※水色のセルのみ入力してください。
B4: 児童福祉法に基づく指定障害児通所支援事業所等 給付費算定に係る体制等に関する届出書類確認シート
B7: 法人名称 | D7: =様式第1号【必ず提出】!J17 -> 0 | F7: ※黄色部分は第１号様式入力後、自動的に入力されます。
B8: 事業所番号 | D8: =様式第1号【必ず提出】!J28 -> 0
B9: 事業所名称 | D9: =様式第1号【必ず提出】!J31 -> 0
B10: サービス種類 | D10: =様式第1号【必ず提出】!AA28 -> 児童発達支援
B11: 担当者氏名 | D11: =様式第1号【必ず提出】!U11 -> 0
B12: 連絡先 | C12: 電話番号
C13: メールアドレス
B14: ○提出書類について 提出前に以下を確認し、作成できているか確認欄に〇をつけてください。
C15: 様式 | D15: 提出書類 | F15: 備考 | G15: 確認欄
B16: 児童福祉法に基づく指定障害児通所支援事業 所等給付費算定に係る体制等に関する届出書 | C16: 本用紙 | D16: 届出書類確認シート | F16: 提出必須
C17: 様式第１号 | D17: 障害児（通所・入所）給付費算定に係る体制等に関する届出書 | F17: 提出必須
C18: 別紙１-２ | D18: 障害児通所・入所給付費の算定に係る体制等状況一覧表 | F18: 提出必須
C19: 別紙２－１ ～ 別紙２－５ | D19: 人員基準等適合確認シート | F19: 提出必須
C20: 別紙３～21 | D20: 各加算の別紙
C21: 別紙59 | D21: 【児童発達支援及び放課後等デイサービスのみ】 報酬算定区分に関する届出書
C22: 別紙60 | D22: 【児童発達支援・放課後等デイサービス・保育所等訪問支援のみ】 自己評価結果に関する届出書
C23: 別紙61 | D23: 【児童発達支援・放課後等デイサービス・居宅訪問型児童発達支援のみ】 支援プログラムの公表状況に関する届出書
D24: 処遇改善加算計画書 ※処遇改善加算を算定するには体制届のほかに処遇改善加算計画書の提出が必要です。提出方法はこちらをご確認ください。 | F24: 算定する場合は別途、計画書を作成し、申請してください。
D25: https://shougai.rakuraku.or.jp/search-library/lower-3-3.html?topid=15&id=70
B26: ○自己評価結果等、支援プログラムの公表について 以下を確認し、確認欄に〇をつけてください。未実施の場合は減算となる場合があります。
B27: 確認事項 | D27: 確認内容 | G27: 確認欄
B28: 自己評価結果等の公表 | D28: 運営状況等について従業者からの評価を受けた上で、自己評価を行うとともに、事業所を利用する障害児の保護者からの評価を受け、その結果と結果を踏まえた改善内容をおおむね１年に１回以上インターネット等で公表しているか。
B29: 支援プログラムの公表 | D29: 事業所ごとに５領域の関連性を明確化した支援プログラムを策定し、インターネット等で公表しているか。
B31: ○児童指導員、保育士の要件を確認する書類 必要な書類の内容については、各指定権者からの通知をご確認ください。
B32: 職種 | D32: 要件を確認できる書類 | G32: 確認欄
B33: 児童指導員 | D33: 実務経験証明書、資格証の写し、卒業証明書、教員免許の写し 等（※）
B34: 保育士 | D34: 保育士証の写し
B35: （※）児童指導員の要件は一通りではありません。該当する要件によって提出する書類が異なります。 児童指導員の要件を十分に確認の上、必要書類を準備してください。

Sheet 別紙１-２ (児発の場合)【必ず提出】
A1: （別紙１ー２）
A2: 障害児通所・入所給付費の算定に係る体制等状況一覧表
A4: 提供サービス | J4: 特例による指定の有無 | O4: 定員規模 （※1） | S4: 施設等区分 | Z4: 主たる障害種別 | AG4: その他該当する体制等
BJ5: 適用開始日
A6: 各サービス共通 | AG6: 地域区分 | AQ6: １．一級地 ２．二級地 ３．三級地 ４．四級地 ５．五級地 ６．六級地 ７．七級地 ８．その他 | BJ6: 令和 年 月 日
A7: 障害児通所給付費 | B7: 児童発達支援 | O7: ○○名 | S7: １．児童発達支援センター ２．児童発達支援センター以外 | Z7: １．重症心身障害以外 ２．重症心身障害 | AG7: 未就学児等支援区分 | AQ7: １．非該当 ２．Ⅰ ３．Ⅱ | BJ7: 令和 年 月 日
AG8: 定員超過 | AQ8: １．なし ２．あり | BJ8: 令和 年 月 日
AG9: 職員欠如 | AQ9: １．なし ２．あり | BJ9: 令和 年 月 日
AG10: 児童発達支援管理責任者欠如 | AQ10: １．なし ２．あり | BJ10: 令和 年 月 日
AG11: 開所時間減算 | AQ11: １．なし ２．あり | BJ11: 令和 年 月 日
AG12: 開所時間減算区分（※2） | AQ12: １．４時間未満 ２．４時間以上６時間未満 | BJ12: 令和 年 月 日
AG13: 自己評価結果等未公表減算 | AQ13: １．なし ２．あり | BJ13: 令和 年 月 日
AG14: 支援プログラム未公表減算 | AQ14: １．なし ２．あり | BJ14: 令和 年 月 日
AG15: 身体拘束廃止未実施 | AQ15: １．なし ２．あり | BJ15: 令和 年 月 日
AG16: 虐待防止措置未実施 | AQ16: １．なし ２．あり | BJ16: 令和 年 月 日
AG17: 業務継続計画未策定 | AQ17: １．なし ２．あり | BJ17: 令和 年 月 日
AG18: 情報公表未報告 | AQ18: １．なし ２．あり | BJ18: 令和 年 月 日
AG19: 児童指導員等加配体制 | AQ19: １．なし ２．その他従業者 ３．常勤専従（経験５年以上） ４．常勤専従（経験５年未満） ５．常勤換算（経験５年以上） ６．常勤換算（経験５年未満） | BJ19: 令和 年 月 日
... AG42: 経過措置対象区分 | AQ42: １．非該当 ２．該当 | BJ42: 令和 年 月 日
A44: ※１ | C44: 「定員規模」欄には、定員数を記入すること。
A45: ※２ | C45: 「開所時間減算区分」欄は、開所時間減算が「２．あり」の場合に設定する。
A46: ※３ | C46: 栄養士配置加算（Ⅰ）については「３：常勤栄養士または４：常勤管理栄養士」を選択する。 栄養士配置加算（Ⅱ）については「２：その他栄養士」を選択する。 栄養マネジメント加算については「４：常勤管理栄養士」を選択する。
A47: ※４ | C47: 「共生型サービス対象区分」欄が「２．該当」の場合に設定する。
A48: ※５ | C48: 「重度障害児入所棟（知的・自閉）」及び「重度肢体不自由児入所棟」は、「厚生労働大臣が定める施設基準」の要件を満たすこと。
A49: ※６ | C49: 「心理担当職員配置体制」欄の「３．Ⅱ」は、配置した心理指導担当職員が公認心理師の資格を有している場合に設定する。
A50: ※７ | C50: 「地域体制強化共同支援加算対象」欄は、地域生活支援拠点等が「１．非該当」の場合、「１．なし」または「２．あり」を設定する。 地域生活支援拠点等が「２．該当」の場合、「１．なし」を設定する。

Sheet 別紙１-２ (放デイの場合)【必ず提出】
A1: （別紙１ー２）
A2: 障害児通所・入所給付費の算定に係る体制等状況一覧表
A4: 提供サービス | J4: 特例による指定の有無 | O4: 定員規模 （※1） | S4: 施設等区分 | Z4: 主たる障害種別 | AG4: その他該当する体制等
BJ5: 適用開始日
A6: 各サービス共通 | AG6: 地域区分 | AQ6: １．一級地 ２．二級地 ３．三級地 ４．四級地 ５．五級地 ６．六級地 ７．七級地 ８．その他 | BJ6: 令和 年 月 日
A7: 障害児通所給付費 | B7: 放課後等デイサービス | O7: ○○名 | Z7: １．重症心身障害以外 ２．重症心身障害 | AG7: 定員超過 | AQ7: １．なし ２．あり | BJ7: 令和 年 月 日
AG8: 開所時間減算 | AQ8: １．なし ２．あり | BJ8: 令和 年 月 日
AG9: 開所時間減算区分（※2） | AQ9: １．４時間未満 ２．４時間以上６時間未満 | BJ9: 令和 年 月 日
AG10: 職員欠如 | AQ10: １．なし ２．あり | BJ10: 令和 年 月 日
AG11: 児童発達支援管理責任者欠如 | AQ11: １．なし ２．あり | BJ11: 令和 年 月 日
AG12: 自己評価結果等未公表減算 | AQ12: １．なし ２．あり | BJ12: 令和 年 月 日
AG13: 支援プログラム未公表減算 | AQ13: １．なし ２．あり | BJ13: 令和 年 月 日
AG14: 身体拘束廃止未実施 | AQ14: １．なし ２．あり | BJ14: 令和 年 月 日
AG15: 虐待防止措置未実施 | AQ15: １．なし ２．あり | BJ15: 令和 年 月 日
AG16: 業務継続計画未策定 | AQ16: １．なし ２．あり | BJ16: 令和 年 月 日
AG17: 情報公表未報告 | AQ17: １．なし ２．あり | BJ17: 令和 年 月 日
AG18: 児童指導員等加配体制 | AQ18: １．なし ２．その他従業者 ３．常勤専従（経験５年以上） ４．常勤専従（経験５年未満） ５．常勤換算（経験５年以上） ６．常勤換算（経験５年未満） | BJ18: 令和 年 月 日
AG19: 看護職員加配体制（重度） | AQ19: １．なし ２．Ⅰ ３．Ⅱ | BJ19: 令和 年 月 日
... AG37: 地域生活支援拠点等 | AQ37: １．非該当 ２．該当 | BJ37: 令和 年 月 日
A39: ※１ | C39: 「定員規模」欄には、定員数を記入すること。
A40: ※２ | C40: 「開所時間減算区分」欄は、開所時間減算が「２．あり」の場合に設定する。
A41: ※３ | C41: 栄養士配置加算（Ⅰ）については「３：常勤栄養士または４：常勤管理栄養士」を選択する。 栄養士配置加算（Ⅱ）については「２：その他栄養士」を選択する。 栄養マネジメント加算については「４：常勤管理栄養士」を選択する。
A42: ※４ | C42: 「共生型サービス対象区分」欄が「２．該当」の場合に設定する。
A43: ※５ | C43: 「重度障害児入所棟（知的・自閉）」及び「重度肢体不自由児入所棟」は、「厚生労働大臣が定める施設基準」の要件を満たすこと。
A44: ※６ | C44: 「心理担当職員配置体制」欄の「３．Ⅱ」は、配置した心理指導担当職員が公認心理師の資格を有している場合に設定する。
A45: ※７ | C45: 「地域体制強化共同支援加算対象」欄は、地域生活支援拠点等が「１．非該当」の場合、「１．なし」または「２．あり」を設定する。 地域生活支援拠点等が「２．該当」の場合、「１．なし」を設定する。

Sheet 別紙１-２(保育所等訪問の場合)【必ず提出】
A1: （別紙１ー２）
A2: 障害児通所・入所給付費の算定に係る体制等状況一覧表
A4: 提供サービス | J4: 特例による指定の有無 | O4: 定員規模 （※1） | S4: 施設等区分 | Z4: 主たる障害種別 | AG4: その他該当する体制等
BJ5: 適用開始日
A6: 各サービス共通 | AG6: 地域区分 | AQ6: １．一級地 ２．二級地 ３．三級地 ４．四級地 ５．五級地 ６．六級地 ７．七級地 ８．その他 | BJ6: 令和 年 月 日
A7: 障害児通所給付費 | B7: 保育所等訪問支援 | AG7: 訪問支援員特別体制 | AQ7: １．なし ２．あり | BJ7: 令和 年 月 日
AG8: 児童発達支援管理責任者欠如 | AQ8: １．なし ２．あり | BJ8: 令和 年 月 日
AG9: 自己評価結果等未公表減算 | AQ9: １．なし ２．あり | BJ9: 令和 年 月 日
AG10: 身体拘束廃止未実施 | AQ10: １．なし ２．あり | BJ10: 令和 年 月 日
AG11: 虐待防止措置未実施 | AQ11: １．なし ２．あり | BJ11: 令和 年 月 日
AG12: 業務継続計画未策定 | AQ12: １．なし ２．あり | BJ12: 令和 年 月 日
AG13: 情報公表未報告 | AQ13: １．なし ２．あり | BJ13: 令和 年 月 日
AG14: 多職種連携支援体制 | AQ14: １．なし ２．あり | BJ14: 令和 年 月 日
AG15: 強度行動障害加算体制 | AQ15: １．なし ２．あり | BJ15: 令和 年 月 日
AG16: 【令和８年４月・５月】 福祉・介護職員等処遇改善加算対象（※9） | AQ16: １．なし ２．Ⅰ ３．Ⅲ ４．Ⅳ | BJ16: 令和 年 月 日
AG17: 【令和８年６月以降】 福祉・介護職員等処遇改善加算対象（※9） | AQ17: １．なし ２．Ⅰ・イ ３．Ⅲ ４．Ⅳ ５．Ⅰ・ロ | BJ17: 令和 年 月 日
AG18: 指定管理者制度適用区分 | AQ18: １．非該当 ２．該当 | BJ18: 令和 年 月 日
AG19: 地域生活支援拠点等 | AQ19: １．非該当 ２．該当 | BJ19: 令和 年 月 日
A21: ※１ | C21: 「定員規模」欄には、定員数を記入すること。
A22: ※２ | C22: 「開所時間減算区分」欄は、開所時間減算が「２．あり」の場合に設定する。
A23: ※３ | C23: 栄養士配置加算（Ⅰ）については「３：常勤栄養士または４：常勤管理栄養士」を選択する。 栄養士配置加算（Ⅱ）については「２：その他栄養士」を選択する。 栄養マネジメント加算については「４：常勤管理栄養士」を選択する。
A24: ※４ | C24: 「共生型サービス対象区分」欄が「２．該当」の場合に設定する。
A25: ※５ | C25: 「重度障害児入所棟（知的・自閉）」及び「重度肢体不自由児入所棟」は、「厚生労働大臣が定める施設基準」の要件を満たすこと。
A26: ※６ | C26: 「心理担当職員配置体制」欄の「３．Ⅱ」は、配置した心理指導担当職員が公認心理師の資格を有している場合に設定する。
A27: ※７ | C27: 「地域体制強化共同支援加算対象」欄は、地域生活支援拠点等が「１．非該当」の場合、「１．なし」または「２．あり」を設定する。 地域生活支援拠点等が「２．該当」の場合、「１．なし」を設定する。

Sheet 別紙１-２(居宅児発の場合)【必ず提出】
A1: （別紙１ー２）
A2: 障害児通所・入所給付費の算定に係る体制等状況一覧表
A4: 提供サービス | J4: 特例による指定の有無 | O4: 定員規模 （※1） | S4: 施設等区分 | Z4: 主たる障害種別 | AG4: その他該当する体制等
BJ5: 適用開始日
A6: 各サービス共通 | AG6: 地域区分 | AQ6: １．一級地 ２．二級地 ３．三級地 ４．四級地 ５．五級地 ６．六級地 ７．七級地 ８．その他 | BJ6: 令和 年 月 日
A7: 障害児通所給付費 | B7: 居宅訪問型 児童発達支援 | AG7: 訪問支援員特別体制 | AQ7: １．なし ２．あり | BJ7: 令和 年 月 日
AG8: 児童発達支援管理責任者欠如 | AQ8: １．なし ２．あり | BJ8: 令和 年 月 日
AG9: 支援プログラム未公表減算 | AQ9: １．なし ２．あり | BJ9: 令和 年 月 日
AG10: 身体拘束廃止未実施 | AQ10: １．なし ２．あり | BJ10: 令和 年 月 日
AG11: 虐待防止措置未実施 | AQ11: １．なし ２．あり | BJ11: 令和 年 月 日
AG12: 業務継続計画未策定 | AQ12: １．なし ２．あり | BJ12: 令和 年 月 日
AG13: 情報公表未報告 | AQ13: １．なし ２．あり | BJ13: 令和 年 月 日
AG14: 多職種連携支援体制 | AQ14: １．なし ２．あり | BJ14: 令和 年 月 日
AG15: 強度行動障害加算体制 | AQ15: １．なし ２．あり | BJ15: 令和 年 月 日
AG16: 【令和８年４月・５月】 福祉・介護職員等処遇改善加算対象（※9） | AQ16: １．なし ２．Ⅰ ３．Ⅲ ４．Ⅳ | BJ16: 令和 年 月 日
AG17: 【令和８年６月以降】 福祉・介護職員等処遇改善加算対象（※9） | AQ17: １．なし ２．Ⅰ・イ ３．Ⅲ ４．Ⅳ ５．Ⅰ・ロ | BJ17: 令和 年 月 日
AG18: 指定管理者制度適用区分 | AQ18: １．非該当 ２．該当 | BJ18: 令和 年 月 日
AG19: 地域生活支援拠点等 | AQ19: １．非該当 ２．該当 | BJ19: 令和 年 月 日
A21: ※１ | C21: 「定員規模」欄には、定員数を記入すること。
A22: ※２ | C22: 「開所時間減算区分」欄は、開所時間減算が「２．あり」の場合に設定する。
A23: ※３ | C23: 栄養士配置加算（Ⅰ）については「３：常勤栄養士または４：常勤管理栄養士」を選択する。 栄養士配置加算（Ⅱ）については「２：その他栄養士」を選択する。 栄養マネジメント加算については「４：常勤管理栄養士」を選択する。
A24: ※４ | C24: 「共生型サービス対象区分」欄が「２．該当」の場合に設定する。
A25: ※５ | C25: 「重度障害児入所棟（知的・自閉）」及び「重度肢体不自由児入所棟」は、「厚生労働大臣が定める施設基準」の要件を満たすこと。
A26: ※６ | C26: 「心理担当職員配置体制」欄の「３．Ⅱ」は、配置した心理指導担当職員が公認心理師の資格を有している場合に設定する。
A27: ※７ | C27: 「地域体制強化共同支援加算対象」欄は、地域生活支援拠点等が「１．非該当」の場合、「１．なし」または「２．あり」を設定する。 地域生活支援拠点等が「２．該当」の場合、「１．なし」を設定する。

Sheet 別紙１-２(福祉入所の場合) 【必ず提出】
A1: （別紙１ー２）
A2: 障害児通所・入所給付費の算定に係る体制等状況一覧表
A4: 提供サービス | J4: 特例による指定の有無 | O4: 定員規模 （※1） | S4: 施設等区分 | Z4: 主たる障害種別 | AG4: その他該当する体制等
BJ5: 適用開始日
A6: 各サービス共通 | AG6: 地域区分 | AQ6: １．一級地 ２．二級地 ３．三級地 ４．四級地 ５．五級地 ６．六級地 ７．七級地 ８．その他 | BJ6: 令和 年 月 日
A7: 障害児入所給付費 | B7: 福祉型障害児 入所施設 | S7: １．当該施設が単独施設 ２．当該施設に併設する 施設が主たる施設 ３．当該施設が主たる施設 | Z7: １．知的障害児 ２．自閉症児 ３．盲児 ４．ろうあ児 ５．肢体不自由児 | AG7: 重度障害児入所棟設置（知的・自閉）（※5） | AQ7: １．なし ２．あり | BJ7: 令和 年 月 日
AG8: 重度肢体不自由児入所棟設置（※5） | AQ8: １．なし ２．あり | BJ8: 令和 年 月 日
AG9: 定員超過 | AQ9: １．なし ２．あり | BJ9: 令和 年 月 日
AG10: 身体拘束廃止未実施 | AQ10: １．なし ２．あり | BJ10: 令和 年 月 日
AG11: 虐待防止措置未実施 | AQ11: １．なし ２．あり | BJ11: 令和 年 月 日
AG12: 業務継続計画未策定 | AQ12: １．なし ２．あり | BJ12: 令和 年 月 日
AG13: 情報公表未報告 | AQ13: １．なし ２．あり | BJ13: 令和 年 月 日
AG14: 日中活動支援体制 | AQ14: １．なし ２．あり | BJ14: 令和 年 月 日
AG15: 重度障害児支援（強度行動障害） | AQ15: １．なし ２．あり | BJ15: 令和 年 月 日
AG16: 強度行動障害加算体制 | AQ16: １．なし ２．Ⅰ ３．Ⅱ | BJ16: 令和 年 月 日
AG17: 心理担当職員配置体制（※6） | AQ17: １．なし ２．Ⅰ ３．Ⅱ | BJ17: 令和 年 月 日
AG18: 看護職員配置体制 | AQ18: １．なし ２．Ⅰ ３．Ⅱ | BJ18: 令和 年 月 日
AG19: 児童指導員等加配体制 | AQ19: １．なし ２．専門職員（理学療法士等） ３．児童指導員等 | BJ19: 令和 年 月 日
... AG32: 障害者支援施設等感染対策向上体制 | AQ32: １．なし ２．Ⅰ ３．Ⅱ ４．Ⅰ・Ⅱ | BJ32: 令和 年 月 日
A34: ※１ | C34: 「定員規模」欄には、定員数を記入すること。
A35: ※２ | C35: 「開所時間減算区分」欄は、開所時間減算が「２．あり」の場合に設定する。
A36: ※３ | C36: 栄養士配置加算（Ⅰ）については「３：常勤栄養士または４：常勤管理栄養士」を選択する。 栄養士配置加算（Ⅱ）については「２：その他栄養士」を選択する。 栄養マネジメント加算については「４：常勤管理栄養士」を選択する。
A37: ※４ | C37: 「共生型サービス対象区分」欄が「２．該当」の場合に設定する。
A38: ※５ | C38: 「重度障害児入所棟（知的・自閉）」及び「重度肢体不自由児入所棟」は、「厚生労働大臣が定める施設基準」の要件を満たすこと。
A39: ※６ | C39: 「心理担当職員配置体制」欄の「３．Ⅱ」は、配置した心理指導担当職員が公認心理師の資格を有している場合に設定する。
A40: ※７ | C40: 「地域体制強化共同支援加算対象」欄は、地域生活支援拠点等が「１．非該当」の場合、「１．なし」または「２．あり」を設定する。 地域生活支援拠点等が「２．該当」の場合、「１．なし」を設定する。

Sheet 別紙１-２(医療入所の場合)【必ず提出】
A1: （別紙１ー２）
A2: 障害児通所・入所給付費の算定に係る体制等状況一覧表
A4: 提供サービス | J4: 特例による指定の有無 | O4: 定員規模 （※1） | S4: 施設等区分 | Z4: 主たる障害種別 | AG4: その他該当する体制等
BJ5: 適用開始日
A6: 各サービス共通 | AG6: 地域区分 | AQ6: １．一級地 ２．二級地 ３．三級地 ４．四級地 ５．五級地 ６．六級地 ７．七級地 ８．その他 | BJ6: 令和 年 月 日
A7: 障害児入所給付費 | B7: 医療型障害児 入所施設 | S7: １．医療型障害児入所施設 ２．指定発達支援医療機関 | AG7: 重度障害児入所棟設置（知的・自閉）（※5） | AQ7: １．なし ２．あり | BJ7: 令和 年 月 日
AG8: 重度肢体不自由児入所棟設置（※5） | AQ8: １．なし ２．あり | BJ8: 令和 年 月 日
AG9: 定員超過 | AQ9: １．なし ２．あり | BJ9: 令和 年 月 日
AG10: 身体拘束廃止未実施 | AQ10: １．なし ２．あり | BJ10: 令和 年 月 日
AG11: 虐待防止措置未実施 | AQ11: １．なし ２．あり | BJ11: 令和 年 月 日
AG12: 業務継続計画未策定 | AQ12: １．なし ２．あり | BJ12: 令和 年 月 日
AG13: 情報公表未報告 | AQ13: １．なし ２．あり | BJ13: 令和 年 月 日
AG14: 重度障害児支援(強度行動障害) | AQ14: １．なし ２．あり | BJ14: 令和 年 月 日
AG15: 強度行動障害加算体制 | AQ15: １．なし ２．Ⅰ ３．Ⅱ | BJ15: 令和 年 月 日
AG16: 心理担当職員配置体制（※6） | AQ16: １．なし ２．Ⅰ ３．Ⅱ | BJ16: 令和 年 月 日
AG17: 自活訓練体制（Ⅰ） | AQ17: １．なし ２．あり | BJ17: 令和 年 月 日
AG18: 自活訓練体制（Ⅱ） | AQ18: １．なし ２．あり | BJ18: 令和 年 月 日
AG19: 福祉専門職員配置等 | AQ19: １．なし ２．Ⅱ ３．Ⅲ ４．Ⅰ | BJ19: 令和 年 月 日
... AG27: 地域生活支援拠点等 | AQ27: １．非該当 ２．該当 | BJ27: 令和 年 月 日
A29: ※１ | C29: 「定員規模」欄には、定員数を記入すること。
A30: ※２ | C30: 「開所時間減算区分」欄は、開所時間減算が「２．あり」の場合に設定する。
A31: ※３ | C31: 栄養士配置加算（Ⅰ）については「３：常勤栄養士または４：常勤管理栄養士」を選択する。 栄養士配置加算（Ⅱ）については「２：その他栄養士」を選択する。 栄養マネジメント加算については「４：常勤管理栄養士」を選択する。
A32: ※４ | C32: 「共生型サービス対象区分」欄が「２．該当」の場合に設定する。
A33: ※５ | C33: 「重度障害児入所棟（知的・自閉）」及び「重度肢体不自由児入所棟」は、「厚生労働大臣が定める施設基準」の要件を満たすこと。
A34: ※６ | C34: 「心理担当職員配置体制」欄の「３．Ⅱ」は、配置した心理指導担当職員が公認心理師の資格を有している場合に設定する。
A35: ※７ | C35: 「地域体制強化共同支援加算対象」欄は、地域生活支援拠点等が「１．非該当」の場合、「１．なし」または「２．あり」を設定する。 地域生活支援拠点等が「２．該当」の場合、「１．なし」を設定する。

Sheet 別紙2－1（児発の場合）【必ず提出】 
AC1: （児童発達支援）
B2: 別紙2－1 | AW2: 児童発達支援
B3: 人員基準等適合確認シート（児童発達支援） | AW3: 放課後等デイサービス
H4: （兼 児童指導員等配置加算、人員欠如確認、開所時減算確認シート）
B5: 事業所名 | M5: =様式第1号【必ず提出】!J31 -> 0
B6: サービス種類 | M6: =様式第1号【必ず提出】!AA28 -> 児童発達支援 | V6: ※黄色部分は第１号様式入力後、自動的に入力されます。
B7: サービス提供単位番号 | H7: 営業形態 | M7: 61
B9: 職種 | H9: 勤務形態 | M9: 氏名 | Q9: 第１週 | X9: 第２週 | AE9: 第３週 | AL9: 第４週
O10: 曜日 | Q10: 月 | R10: 火 | S10: 水 | T10: 木 | U10: 金 | V10: 土 | W10: 日 | X10: 月 | Y10: 火 | Z10: 水 | AA10: 木 | AB10: 金 | AC10: 土 | AD10: 日 | AE10: 月 | AF10: 火 | AG10: 水 | AH10: 木 | AI10: 金 | AJ10: 土 | AK10: 日 | AL10: 月 | AM10: 火 | AN10: 水 | AO10: 木 | AP10: 金 | AQ10: 土 | AR10: 日
O11: 開所日
O12: 営業時間 | X12: =Q12 -> 0 | Y12: =R12 -> 0 | Z12: =S12 -> 0 | AA12: =T12 -> 0 | AB12: =U12 -> 0 | AC12: =V12 -> 0 | AD12: =W12 -> 0 | AE12: =Q12 -> 0 | AF12: =R12 -> 0 | AG12: =S12 -> 0 | AH12: =T12 -> 0 | AI12: =U12 -> 0 | AJ12: =V12 -> 0 | AK12: =W12 -> 0 | AL12: =Q12 -> 0 | AM12: =R12 -> 0 | AN12: =S12 -> 0 | AO12: =T12 -> 0 | AP12: =U12 -> 0 | AQ12: =V12 -> 0 | AR12: =W12 -> 0
O13: サービス提供時間 | X13: =Q13 -> 0 | Y13: =R13 -> 0 | Z13: =S13 -> 0 | AA13: =T13 -> 0 | AB13: =U13 -> 0 | AC13: =V13 -> 0 | AD13: =W13 -> 0 | AE13: =Q13 -> 0 | AF13: =R13 -> 0 | AG13: =S13 -> 0 | AH13: =T13 -> 0 | AI13: =U13 -> 0 | AJ13: =V13 -> 0 | AK13: =W13 -> 0 | AL13: =Q13 -> 0 | AM13: =R13 -> 0 | AN13: =S13 -> 0 | AO13: =T13 -> 0 | AP13: =U13 -> 0 | AQ13: =V13 -> 0 | AR13: =W13 -> 0
O14: 定員 | X14: =Q14 -> 0 | Y14: =R14 -> 0 | Z14: =S14 -> 0 | AA14: =T14 -> 0 | AB14: =U14 -> 0 | AC14: =V14 -> 0 | AD14: =W14 -> 0 | AE14: =Q14 -> 0 | AF14: =R14 -> 0 | AG14: =S14 -> 0 | AH14: =T14 -> 0 | AI14: =U14 -> 0 | AJ14: =V14 -> 0 | AK14: =W14 -> 0 | AL14: =Q14 -> 0 | AM14: =R14 -> 0 | AN14: =S14 -> 0 | AO14: =T14 -> 0 | AP14: =U14 -> 0 | AQ14: =V14 -> 0 | AR14: =W14 -> 0
B15: 管理者 | H15: ①常勤・専従
B16: 児童発達支援管理責任者 | H16: ①常勤・専従
B17: 直接支援職員・・・最低基準の配置職員のみを記載してください。
A18: 1
A19: 2
A20: 3
A21: 4
A22: 5
A23: 6
A24: 7
A25: 8
B26: 指定基準上の必要職員 | Q26: =IF(Q14=0,"",VLOOKUP(Q14,SS,2,FALSE)) | R26: =IF(R14=0,"",VLOOKUP(R14,SS,2,FALSE)) | S26: =IF(S14=0,"",VLOOKUP(S14,SS,2,FALSE)) | T26: =IF(T14=0,"",VLOOKUP(T14,SS,2,FALSE)) | U26: =IF(U14=0,"",VLOOKUP(U14,SS,2,FALSE)) | V26: =IF(V14=0,"",VLOOKUP(V14,SS,2,FALSE)) | W26: =IF(W14=0,"",VLOOKUP(W14,SS,2,FALSE)) | X26: =IF(X14=0,"",VLOOKUP(X14,SS,2,FALSE)) | ... AR26: =IF(AR14=0,"",VLOOKUP(AR14,SS,2,FALSE))
B27: 人員の最低基準への適合（確認欄）
B28: 加配支援職員（児童指導員等加配加算）・・・指定基準に加えて多く配置している職員のサービス提供時間を含んだ勤務時間数を記載してください。
A29: 1
A30: 2
A31: 3
A32: 4
B33: 加配支援職員（専門的支援体制加算）・・・指定基準に加えて多く配置している職員のサービス提供時間を含んだ勤務時間数を記載してください。
A34: 6
A35: 5
A36: 6
A37: 7
B38: 指導員等の加配 | Q38: =IF(OR(#REF!=0,Q27=""),"",IF(AND(Q27="適",SUM(Q29:Q37)>=Q12),"有","無")) -> #REF! | R38: =IF(OR(#REF!=0,R27=""),"",IF(AND(R27="適",SUM(R29:R37)>=R12),"有","無")) -> #REF! | S38: =IF(OR(#REF!=0,S27=""),"",IF(AND(S27="適",SUM(S29:S37)>=S12),"有","無")) -> #REF! | T38: =IF(OR(#REF!=0,T27=""),"",IF(AND(T27="適",SUM(T29:T37)>=T12),"有","無")) -> #REF! | U38: =IF(OR(#REF!=0,U27=""),"",IF(AND(U27="適",SUM(U29:U37)>=U12),"有","無")) -> #REF! | V38: =IF(OR(#REF!=0,V27=""),"",IF(AND(V27="適",SUM(V29:V37)>=V12),"有","無")) -> #REF! | W38: =IF(OR(#REF!=0,W27=""),"",IF(AND(W27="適",SUM(W29:W37)>=W12),"有","無")) -> #REF! | X38: =IF(OR(#REF!=0,X27=""),"",IF(AND(X27="適",SUM(X29:X37)>=X12),"有","無")) -> #REF! | ... AR38: =IF(OR(#REF!=0,AR27=""),"",IF(AND(AR27="適",SUM(AR29:AR37)>=AR12),"有","無")) -> #REF! | BB38: 開所日数 | BE38: =COUNT(Q26:AR26) -> 0
A40: 注 | B40: 1 | C40: 複数のサービス提供単位がある場合には、単位ごとに作成してください。 | AC40: 事業所（法人）の定める常勤職員の１週間あたりの勤務時間数 | AL40: ○○時間
B41: 2 | C41: 放課後等デイサービスについては、学校長期休業期間の営業時間が異なる場合には、平常時と学校休業時それぞれの勤務体制を想定したシートを提出してください。 | AC41: 確認欄 | AE41: 指定基準上の人員基準への適合状況 | AL41: 適・不適
B42: 3 | C42: 児童指導員、保育士を配置する場合には、要件を満たしていることが確認できる書類(資格証、実務経験証明書等)を添付してください。
AE43: 児童指導員等加配加算 | AL43: ・児童指導員等 常勤専従・５年以上 常勤換算・５年以上 常勤専従・５年未満 常勤換算・５年未満 ・その他の従業者 ・無
B44: 4 | C44: ※児童指導員（実務経験2年+卒）とは、指導員の実務経験2年～3年未満の者。 高等学校以上の卒業証明書の写しが別途必要です。
B45: 5 | C45: 児童指導員等加配加算 児童指導員、保育士、理学療法士、作業療法士、言語聴覚士、手話通訳士、手話通訳者、特別支援学校免許取得者、心理指導担当職員、視覚障害児支援担当職員、強度行動障害支援者養成研修（基礎研修）修了者、その他従業者を常勤専従または常勤換算で１以上配置した場合に評価 | AE45: 専門的支援加算 | AL45: 適・不適
B46: 6 専門的支援体制加算 理学療法士、作業療法士、言語聴覚士、心理指導担当職員、視覚障害児支援担当職員、５年以上児童福祉事業に従事した 保育士・児童指導員※を常勤専従または常勤換算で１以上配置した場合に評価 ※児童指導員等加配加算を合わせて算定する場合、児童指導員等加配加算における加配分は差し引きます。 ※保育士又は児童指導員としての資格の取得から５年以上児童福祉事業に従事した経験が必要です。
G66: 児童発達支援管理責任者 | H66: 管理者 | M66: 管理者兼保育士 | S66: 選択して下さい | AA66: 管理者兼保育士 | AN66: 管理者兼児童指導員（実務経験５年以上） | AY66: =COUNTIF(Q27:AR27,"否") -> 0
G67: 管理者兼児童発達支援管理責任者 | H67: 管理者兼保育士 | M67: 管理者兼児童指導員 | S67: 平日 | AA67: 管理者兼児童指導員 | AN67: 管理者兼児童指導員（実務経験５年未満） | AY67: =COUNTIF(Q38:AR38,"無") -> 0
H68: 管理者兼児童指導員 | M68: 保育士 | S68: 休日・祝日 | AA68: 管理者兼その他の従業者 | AN68: 管理者兼保育士（実務経験５年以上）
H69: 管理者兼その他の従業者 | M69: 児童指導員（大卒・該当課程） | S69: 共通 | AA69: 保育士 | AN69: 管理者兼保育士（実務経験５年未満）
M70: 児童指導員（教員免許） | AA70: 児童指導員（大卒・該当課程） | AN70: 管理者兼その他従業者 | AY70: 〇
M71: 児童指導員（社会・精神保健福祉士） | AA71: 児童指導員（教員免許） | AN71: 児童指導員（実務経験５年以上）
M72: 児童指導員（実務経験3年以上） | AA72: 児童指導員（社会・精神保健福祉士） | AN72: 児童指導員（実務経験５年未満）
M73: 児童指導員（実務経験2年+卒※） | AA73: 児童指導員（実務経験3年以上） | AN73: 保育士（実務経験５年以上）
M74: 言語聴覚士 | AA74: 児童指導員（実務経験2年+卒※） | AN74: 保育士（実務経験５年未満）
M75: 作業療法士 | AA75: 児童指導員等（基礎研修修了者） | AN75: 理学療法士（実務経験５年以上）
M76: 理学療法士 | AA76: その他の従業者 | AN76: 理学療法士（実務経験５年未満）
M77: 心理指導担当職員 | AA77: 言語聴覚士 | AN77: 作業療法士（実務経験５年以上）
M78: 看護職員 | AA78: 作業療法士 | AN78: 作業療法士（実務経験５年未満）
M79: ①常勤・専従 | AA79: 理学療法士 | AN79: 言語聴覚士（実務経験５年以上）
M80: ②常勤・兼務 | AA80: 心理指導担当職員 | AN80: 言語聴覚士（実務経験５年未満）
M81: ③非常勤・専従 | AA81: 看護職員 | AN81: 手話通訳士（実務経験５年以上）
M82: ④非常勤・兼務 | AA82: ①常勤・専従 | AN82: 手話通訳士（実務経験５年未満）
AA83: ②常勤・兼務 | AN83: 手話通訳者（実務経験５年以上）
M84: SS | AA84: ③非常勤・専従 | AN84: 手話通訳者（実務経験５年未満）
M85: 利用児数 | AA85: ④非常勤・兼務 | AN85: 特別支援学校免許取得者（実務経験５年以上）
M86: 1 | AN86: 特別支援学校免許取得者（実務経験５年未満）
M87: 2 | AN87: 心理指導担当職員（実務経験５年以上）
M88: 3 | T88: 指定基準を満たしていません | AN88: 心理指導担当職員（実務経験５年未満）
M89: 4 | N89: 職員数 | AN89: 視覚障害児支援担当職員（実務経験５年以上）
M90: 5 | N90: 2 | AN90: 視覚障害児支援担当職員（実務経験５年未満）
M91: 6 | N91: 2 | AN91: 強度行動障害支援者養成研修（基礎研修）修了者（実務経験５年以上）
M92: 7 | N92: 2 | AN92: 強度行動障害支援者養成研修（基礎研修）修了者（実務経験５年未満）
M93: 8 | N93: 2 | AN93: その他従業者
M94: 9 | N94: 2
M95: 10 | N95: 2
M96: 11 | N96: 2
M97: 12 | N97: 2
M98: 13 | N98: 2
M99: 14 | N99: 2
M100: 15 | N100: 3
M101: 16 | N101: 3
M102: 17 | N102: 3
M103: 18 | N103: 3
M104: 19 | N104: 3
M105: 20 | N105: 4
... M145: 60 | N145: 12
N146: 12
N147: 12
N148: 12
N149: 12

Sheet 別紙2－1（センターの場合）【必ず提出】
AC1: （児発センター）
B2: 別紙2－1 | AW2: 児童発達支援
B3: 人員基準等適合確認シート（児童発達支援センター） | AW3: 放課後等デイサービス
H4: （兼 児童指導員等配置加算、人員欠如確認、開所時減算確認シート）
B5: 事業所名 | M5: =様式第1号【必ず提出】!J31 -> 0
B6: サービス種類 | M6: =様式第1号【必ず提出】!AA28 -> 児童発達支援 | V6: ※黄色部分は第１号様式入力後、自動的に入力されます。
B7: サービス提供単位番号 | H7: 営業形態 | M7: 61
B9: 職種 | H9: 勤務形態 | M9: 氏名 | Q9: 第１週 | X9: 第２週 | AE9: 第３週 | AL9: 第４週
O10: 曜日 | Q10: 月 | R10: 火 | S10: 水 | T10: 木 | U10: 金 | V10: 土 | W10: 日 | X10: 月 | Y10: 火 | Z10: 水 | AA10: 木 | AB10: 金 | AC10: 土 | AD10: 日 | AE10: 月 | AF10: 火 | AG10: 水 | AH10: 木 | AI10: 金 | AJ10: 土 | AK10: 日 | AL10: 月 | AM10: 火 | AN10: 水 | AO10: 木 | AP10: 金 | AQ10: 土 | AR10: 日
O11: 開所日
O12: 営業時間 | X12: =Q12 -> 0 | Y12: =R12 -> 0 | Z12: =S12 -> 0 | AA12: =T12 -> 0 | AB12: =U12 -> 0 | AC12: =V12 -> 0 | AD12: =W12 -> 0 | AE12: =Q12 -> 0 | AF12: =R12 -> 0 | AG12: =S12 -> 0 | AH12: =T12 -> 0 | AI12: =U12 -> 0 | AJ12: =V12 -> 0 | AK12: =W12 -> 0 | AL12: =Q12 -> 0 | AM12: =R12 -> 0 | AN12: =S12 -> 0 | AO12: =T12 -> 0 | AP12: =U12 -> 0 | AQ12: =V12 -> 0 | AR12: =W12 -> 0
O13: サービス提供時間 | X13: =Q13 -> 0 | Y13: =R13 -> 0 | Z13: =S13 -> 0 | AA13: =T13 -> 0 | AB13: =U13 -> 0 | AC13: =V13 -> 0 | AD13: =W13 -> 0 | AE13: =Q13 -> 0 | AF13: =R13 -> 0 | AG13: =S13 -> 0 | AH13: =T13 -> 0 | AI13: =U13 -> 0 | AJ13: =V13 -> 0 | AK13: =W13 -> 0 | AL13: =Q13 -> 0 | AM13: =R13 -> 0 | AN13: =S13 -> 0 | AO13: =T13 -> 0 | AP13: =U13 -> 0 | AQ13: =V13 -> 0 | AR13: =W13 -> 0
O14: 定員 | X14: =Q14 -> 0 | Y14: =R14 -> 0 | Z14: =S14 -> 0 | AA14: =T14 -> 0 | AB14: =U14 -> 0 | AC14: =V14 -> 0 | AD14: =W14 -> 0 | AE14: =Q14 -> 0 | AF14: =R14 -> 0 | AG14: =S14 -> 0 | AH14: =T14 -> 0 | AI14: =U14 -> 0 | AJ14: =V14 -> 0 | AK14: =W14 -> 0 | AL14: =Q14 -> 0 | AM14: =R14 -> 0 | AN14: =S14 -> 0 | AO14: =T14 -> 0 | AP14: =U14 -> 0 | AQ14: =V14 -> 0 | AR14: =W14 -> 0
B15: 管理者 | H15: ①常勤・専従
B16: 児童発達支援管理責任者 | H16: ①常勤・専従
B17: 直接支援職員・・・最低基準の配置職員のみを記載してください。
A18: 1
A19: 2
A20: 3
A21: 4
A22: 5
A23: 6
A24: 7
A25: 8
A26: 9
A27: 10
B28: 指定基準上の必要職員 | Q28: =IF(Q14=0,"",VLOOKUP(Q14,SS,2,FALSE)) | R28: =IF(R14=0,"",VLOOKUP(R14,SS,2,FALSE)) | S28: =IF(S14=0,"",VLOOKUP(S14,SS,2,FALSE)) | T28: =IF(T14=0,"",VLOOKUP(T14,SS,2,FALSE)) | U28: =IF(U14=0,"",VLOOKUP(U14,SS,2,FALSE)) | V28: =IF(V14=0,"",VLOOKUP(V14,SS,2,FALSE)) | W28: =IF(W14=0,"",VLOOKUP(W14,SS,2,FALSE)) | X28: =IF(X14=0,"",VLOOKUP(X14,SS,2,FALSE)) | ... AR28: =IF(AR14=0,"",VLOOKUP(AR14,SS,2,FALSE))
B29: 人員の最低基準への適合（確認欄）
B30: 加配支援職員（児童指導員等加配加算）・・・指定基準に加えて多く配置している職員のサービス提供時間を含んだ勤務時間数を記載してください。
A31: 1
A32: 2
A33: 3
B34: 加配支援職員（専門的支援体制加算）・・・指定基準に加えて多く配置している職員のサービス提供時間を含んだ勤務時間数を記載してください。
A35: 4
A36: 5
A37: 6
B38: 加配支援職員（中核機能強化加算）・・・指定基準に加えて多く配置している職員のサービス提供時間を含んだ勤務時間数を記載してください。 注：（Ⅰ）を算定する場合で、指定通所基準により配置すべき従業者、児童指導員等加配加算、専門的支援加算により加配された者を含む場合、当該加算算定職員であることが分かるように記載してください
A39: 7 | H39: ①常勤・専従
A40: 8 | H40: ①常勤・専従
A41: 9 | H41: ①常勤・専従
A43: 注 | B43: 1 | C43: 複数のサービス提供単位がある場合には、単位ごとに作成してください。 | AC43: 事業所（法人）の定める常勤職員の１週間あたりの勤務時間数 | AL43: ○○時間
B44: 2 | C44: 放課後等デイサービスについては、学校長期休業期間の営業時間が異なる場合には、平常時と学校休業時それぞれの勤務体制を想定したシートを提出してください。 | AC44: 確認欄 | AE44: 指定基準上の人員基準への適合状況 | AL44: 適・不適
B45: 3 | C45: 児童指導員、保育士を配置する場合には、要件を満たしていることが確認できる書類(資格証、実務経験証明書等)を添付してください。
AE46: 児童指導員等加配加算 | AL46: ・児童指導員等 常勤専従・５年以上 常勤換算・５年以上 常勤専従・５年未満 常勤換算・５年未満 ・その他の従業者 ・無
B47: 4 | C47: ※児童指導員（実務経験2年+卒）とは、指導員の実務経験2年～3年未満の者。 高等学校以上の卒業証明書の写しが別途必要です。
B48: 5 | C48: 児童指導員等加配加算 児童指導員、保育士、理学療法士、作業療法士、言語聴覚士、手話通訳士、手話通訳者、特別支援学校免許取得者、心理指導担当職員、視覚障害児支援担当職員、強度行動障害支援者養成研修（基礎研修）修了者、その他従業者を常勤専従または常勤換算で１以上配置した場合に評価 | AE48: 専門的支援加算 | AL48: 適・不適
A49: 6 専門的支援体制加算 理学療法士、作業療法士、言語聴覚士、心理指導担当職員、視覚障害児支援担当職員、５年以上児童福祉事業に従事した 保育士・児童指導員※を常勤専従または常勤換算で１以上配置した場合に評価 ※児童指導員等加配加算を合わせて算定する場合、児童指導員等加配加算における加配分は差し引きます。 ※保育士又は児童指導員としての資格の取得から５年以上児童福祉事業に従事した経験が必要です。 | AE49: 中核機能強化加算 | AL49: Ⅰ・Ⅱ・Ⅲ 適・不適
B50: 7 中核機能強化加算（地域障害児支援体制中核拠点登録通知書の写しの提出が必要です） （Ⅰ）下記の①～③すべて適合 （Ⅱ）下記①、②に適合 （Ⅲ）下記①又は②に適合 ①児童発達支援給付費の算定に必要となる従業者の員数に加え、主として障害児及びその家族等に対する包括的な支援の推進並びに地域の障害児通所支援事業所との日常的な連携その他の地域支援を行う者として、理学療法士、作業療法士、言語聴覚士、看護職員、保育士、児童指導員又は心理担当職員であって、資格取得後（児童指導員又は心理担当職員にあっては当該職務に配置された以後）、障害児通所支援、障害児入所支援、又は障害児相談支援の業務に従事した期間が５年以上の者（※１）を常勤かつ専任で１以上配置 ②児童発達支援給付費の算定に必要となる従業者の員数に加え、主として行動の専門的な知識及び経験に基づき障害児及びその家族等に対する専門的な発達支援及び相談支援を行う上で中心となる者として、中核機能強化職員（※１）を常勤かつ専任で１以上配置 ③理学療法士、作業療法士、言語聴覚士、看護職員、心理担当職員並びに３年以上障害児通所支援又は障害児入所支援の業務に従事した経験を有する保育士及び児童指導員を配置（※２）（※３） ※２これらの配置にあたっては、指定通所基準により配置すべき従業者、児童指導員等加配加算や専門的支援体制加算により配置された者、①、②の中核機能強化職員の配置によることができる。 ※３配置は常勤換算による配置を求めるが、配置すべき者に係る職種のうち２職種までは、じゅおきん換算でない配置によることも可能。さらに、同一の者が複数の職種を有している場合には、常勤換算による配置である場合に限り２職種までは配置したものと評価することが可能。
G69: 児童発達支援管理責任者 | H69: 管理者 | M69: 管理者兼保育士 | S69: 選択して下さい | AA69: 管理者兼保育士 | AN69: 管理者兼児童指導員（実務経験５年以上） | AY69: =COUNTIF(Q29:AR29,"否") -> 0
G70: 管理者兼児童発達支援管理責任者 | H70: 管理者兼保育士 | M70: 管理者兼児童指導員 | S70: 平日 | AA70: 管理者兼児童指導員 | AN70: 管理者兼児童指導員（実務経験５年未満） | AY70: =COUNTIF(#REF!,"無") -> #REF!
H71: 管理者兼児童指導員 | M71: 保育士 | S71: 休日・祝日 | AA71: 管理者兼その他の従業者 | AN71: 管理者兼保育士（実務経験５年以上）
H72: 管理者兼その他の従業者 | M72: 児童指導員（大卒・該当課程） | S72: 共通 | AA72: 保育士 | AN72: 管理者兼保育士（実務経験５年未満）
M73: 児童指導員（教員免許） | AA73: 児童指導員（大卒・該当課程） | AN73: 管理者兼その他従業者 | AY73: 〇
M74: 児童指導員（社会・精神保健福祉士） | AA74: 児童指導員（教員免許） | AN74: 児童指導員（実務経験５年以上）
M75: 児童指導員（実務経験3年以上） | AA75: 児童指導員（社会・精神保健福祉士） | AN75: 児童指導員（実務経験５年未満）
M76: 児童指導員（実務経験2年+卒※） | AA76: 児童指導員（実務経験3年以上） | AN76: 保育士（実務経験５年以上）
M77: 言語聴覚士 | AA77: 児童指導員（実務経験2年+卒※） | AN77: 保育士（実務経験５年未満）
M78: 作業療法士 | AA78: 児童指導員等（基礎研修修了者） | AN78: 理学療法士（実務経験５年以上）
M79: 理学療法士 | AA79: その他の従業者 | AN79: 理学療法士（実務経験５年未満）
M80: 心理指導担当職員 | AA80: 言語聴覚士 | AN80: 作業療法士（実務経験５年以上）
M81: 看護職員 | AA81: 作業療法士 | AN81: 作業療法士（実務経験５年未満）
M82: ①常勤・専従 | AA82: 理学療法士 | AN82: 言語聴覚士（実務経験５年以上）
M83: ②常勤・兼務 | AA83: 心理指導担当職員 | AN83: 言語聴覚士（実務経験５年未満）
M84: ③非常勤・専従 | AA84: 看護職員 | AN84: 手話通訳士（実務経験５年以上）
M85: ④非常勤・兼務 | AA85: ①常勤・専従 | AN85: 手話通訳士（実務経験５年未満）
AA86: ②常勤・兼務 | AN86: 手話通訳者（実務経験５年以上）
M87: SS | AA87: ③非常勤・専従 | AN87: 手話通訳者（実務経験５年未満）
M88: 利用児数 | AA88: ④非常勤・兼務 | AN88: 特別支援学校免許取得者（実務経験５年以上）
M89: 1 | AN89: 特別支援学校免許取得者（実務経験５年未満）
M90: 2 | AN90: 心理指導担当職員（実務経験５年以上）
M91: 3 | T91: 指定基準を満たしていません | AN91: 心理指導担当職員（実務経験５年未満）
M92: 4 | N92: 職員数 | AN92: 視覚障害児支援担当職員（実務経験５年以上）
M93: 5 | N93: 1.25 | AN93: 視覚障害児支援担当職員（実務経験５年未満）
M94: 6 | N94: 1.5 | AN94: 強度行動障害支援者養成研修（基礎研修）修了者（実務経験５年以上）
M95: 7 | N95: 1.75 | AN95: 強度行動障害支援者養成研修（基礎研修）修了者（実務経験５年未満）
M96: 8 | N96: 2 | AN96: その他従業者
M97: 9 | N97: 2.25
M98: 10 | N98: 2.5
M99: 11 | N99: 2.75
M100: 12 | N100: 3
M101: 13 | N101: 3.25
M102: 14 | N102: 3.5
M103: 15 | N103: 3.75
M104: 16 | N104: 4
M105: 17 | N105: 4.25
M106: 18 | N106: 4.5
M107: 19 | N107: 4.75
M108: 20 | N108: 5
... M148: 60 | N148: 15
N149: 15
N150: 15
N151: 15
N152: 15

Sheet 別紙2－2（放デイの場合）【必ず提出】
B1: 別紙2－2 | AC1: （放課後等デイサービス）
B2: 人員基準等適合確認シート（放課後等デイサービス）
H3: （兼 児童指導員等配置加算、人員欠如確認、開所時減算確認シート） | BD3: 児童発達支援
B4: 事業所名 | M4: =様式第1号【必ず提出】!J31 -> 0 | BD4: 放課後等デイサービス
B5: サービス種類 | M5: =様式第1号【必ず提出】!AA28 -> 児童発達支援 | V5: ※黄色部分は第１号様式入力後、自動的に入力されます。
B6: サービス提供単位番号 | H6: 営業形態 | M6: 63 | Q6: 選択して下さい
B8: 職種 | H8: 勤務形態 | M8: 氏名 | Q8: 第１週 | X8: 第２週 | AE8: 第３週 | AL8: 第４週
O9: 曜日 | Q9: 月 | R9: 火 | S9: 水 | T9: 木 | U9: 金 | V9: 土 | W9: 日 | X9: 月 | Y9: 火 | Z9: 水 | AA9: 木 | AB9: 金 | AC9: 土 | AD9: 日 | AE9: 月 | AF9: 火 | AG9: 水 | AH9: 木 | AI9: 金 | AJ9: 土 | AK9: 日 | AL9: 月 | AM9: 火 | AN9: 水 | AO9: 木 | AP9: 金 | AQ9: 土 | AR9: 日
O10: 開所日 | BH10: ○
O11: 営業時間 | X11: =Q11 -> 0 | Y11: =R11 -> 0 | Z11: =S11 -> 0 | AA11: =T11 -> 0 | AB11: =U11 -> 0 | AC11: =V11 -> 0 | AD11: =W11 -> 0 | AE11: =Q11 -> 0 | AF11: =R11 -> 0 | AG11: =S11 -> 0 | AH11: =T11 -> 0 | AI11: =U11 -> 0 | AJ11: =V11 -> 0 | AK11: =W11 -> 0 | AL11: =Q11 -> 0 | AM11: =R11 -> 0 | AN11: =S11 -> 0 | AO11: =T11 -> 0 | AP11: =U11 -> 0 | AQ11: =V11 -> 0 | AR11: =W11 -> 0
O12: サービス提供時間 | X12: =Q12 -> 0 | Y12: =R12 -> 0 | Z12: =S12 -> 0 | AA12: =T12 -> 0 | AB12: =U12 -> 0 | AC12: =V12 -> 0 | AD12: =W12 -> 0 | AE12: =Q12 -> 0 | AF12: =R12 -> 0 | AG12: =S12 -> 0 | AH12: =T12 -> 0 | AI12: =U12 -> 0 | AJ12: =V12 -> 0 | AK12: =W12 -> 0 | AL12: =Q12 -> 0 | AM12: =R12 -> 0 | AN12: =S12 -> 0 | AO12: =T12 -> 0 | AP12: =U12 -> 0 | AQ12: =V12 -> 0 | AR12: =W12 -> 0
O13: 定員 | X13: =Q13 -> 0 | Y13: =R13 -> 0 | Z13: =S13 -> 0 | AA13: =T13 -> 0 | AB13: =U13 -> 0 | AC13: =V13 -> 0 | AD13: =W13 -> 0 | AE13: =Q13 -> 0 | AF13: =R13 -> 0 | AG13: =S13 -> 0 | AH13: =T13 -> 0 | AI13: =U13 -> 0 | AJ13: =V13 -> 0 | AK13: =W13 -> 0 | AL13: =Q13 -> 0 | AM13: =R13 -> 0 | AN13: =S13 -> 0 | AO13: =T13 -> 0 | AP13: =U13 -> 0 | AQ13: =V13 -> 0 | AR13: =W13 -> 0
B14: 管理者 | H14: ①常勤・専従
B15: 児童発達支援管理責任者 | H15: ①常勤・専従
B16: 直接支援職員・・・最低基準の配置職員のみを記載してください。
A17: 1
A18: 2
A19: 3
A20: 4
A21: 5
A22: 6
A23: 7
A24: 8
B25: 指定基準上の必要職員 | Q25: =IF(Q13=0,"",VLOOKUP(Q13,SS,2,FALSE)) | R25: =IF(R13=0,"",VLOOKUP(R13,SS,2,FALSE)) | S25: =IF(S13=0,"",VLOOKUP(S13,SS,2,FALSE)) | T25: =IF(T13=0,"",VLOOKUP(T13,SS,2,FALSE)) | U25: =IF(U13=0,"",VLOOKUP(U13,SS,2,FALSE)) | V25: =IF(V13=0,"",VLOOKUP(V13,SS,2,FALSE)) | W25: =IF(W13=0,"",VLOOKUP(W13,SS,2,FALSE)) | X25: =IF(X13=0,"",VLOOKUP(X13,SS,2,FALSE)) | ... AR25: =IF(AR13=0,"",VLOOKUP(AR13,SS,2,FALSE))
B26: 人員の最低基準への適合（確認欄）
B27: 加配支援職員（児童指導員等加配加算）・・・指定基準に加えて多く配置している職員のサービス提供時間を含んだ勤務時間数を記載してください。
A28: 1
A29: 2
A30: 3
A31: 4
B32: 加配支援職員（専門的支援体制加算）・・・指定基準に加えて多く配置している職員のサービス提供時間を含んだ勤務時間数を記載してください。
A33: 6
A34: 5
A35: 6
A36: 7
BE37: =COUNTIF(Q26:AR26,"否") -> 0
A38: 注 | B38: 1 | C38: 複数のサービス提供単位がある場合には、単位ごとに作成してください。 | AC38: 事業所（法人）の定める常勤職員の１週間あたりの勤務時間数 | AL38: ○○時間 | BE38: =COUNTIF(Q35:AR35,"無") -> 0
B39: 2 | C39: 放課後等デイサービスについては、学校長期休業期間の営業時間が異なる場合には、平常時と学校休業時それぞれの勤務体制を想定したシートを提出してください。 | AC39: 確 認 欄 | AE39: 指定基準上の人員基準への適合状況 | AL39: 適・不適
B40: 3 | C40: 児童指導員、保育士を配置する場合には、要件を満たしていることが確認できる書類(資格証、実務経験証明書等)を添付してください。 | AE40: 児童指導員等加配加算 | AL40: ・児童指導員等 常勤専従・５年以上 常勤換算・５年以上 常勤専従・５年未満 常勤換算・５年未満 ・その他の従業者 ・無
B41: 4 | C41: ※児童指導員（実務経験2年+卒）とは、指導員の実務経験2年～3年未満の者。 高等学校以上の卒業証明書の写しが別途必要です。
B42: 5 | C42: 児童指導員等加配加算 児童指導員、保育士、理学療法士、作業療法士、言語聴覚士、手話通訳士、手話通訳者、特別支援学校免許取得者、心理指導担当職員、視覚障害児支援担当職員、強度行動障害支援者養成研修（基礎研修）修了者、その他従業者を常勤専従または常勤換算で１以上配置した場合に評価 | AE42: 専門的支援体制加算 | AL42: 適・不適
B44: 6 専門的支援体制加算 理学療法士、作業療法士、言語聴覚士、心理指導担当職員、視覚障害児支援担当職員、５年以上児童福祉事業に従事した 保育士・児童指導員※を常勤専従または常勤換算で１以上配置した場合に評価 ※児童指導員等加配加算を合わせて算定する場合、児童指導員等加配加算における加配分は差し引きます。 ※保育士又は児童指導員としての資格の取得から５年以上児童福祉事業に従事した経験が必要です。
G51: 児童発達支援管理責任者 | H51: 管理者 | M51: 管理者兼保育士 | Y51: 管理者兼児童指導員 | AL51: 管理者兼児童指導員（実務経験５年以上）
G52: 管理者兼児童発達支援管理責任者 | H52: 管理者兼保育士 | M52: 管理者児童指導員 | S52: 選択して下さい | Y52: 管理者兼保育士 | AL52: 管理者兼児童指導員（実務経験５年未満）
H53: 管理者兼児童指導員 | M53: 保育士 | S53: 放課後 | Y53: 管理者兼その他従業者 | AL53: 管理者兼保育士（実務経験５年以上）
H54: 管理者兼その他の従業者 | M54: 児童指導員（大卒・該当課程） | S54: 学校休業日 | Y54: 保育士 | AL54: 管理者兼保育士（実務経験５年未満）
M55: 児童指導員（教員免許） | S55: 共通 | Y55: 児童指導員（大卒・該当課程） | AL55: 管理者兼その他従業者
M56: 児童指導員（社会・精神保健福祉士） | Y56: 児童指導員（教員免許） | AL56: 児童指導員（実務経験５年以上）
M57: 児童指導員（実務経験3年以上） | Y57: 児童指導員（社会・精神保健福祉士） | AL57: 児童指導員（実務経験５年未満）
M58: 児童指導員（実務経験2年+卒※） | Y58: 児童指導員（実務経験3年以上） | AL58: 保育士（実務経験５年以上）
M59: 言語聴覚士 | Y59: 児童指導員（実務経験2年+卒※） | AL59: 保育士（実務経験５年未満）
M60: 作業療法士 | Y60: 児童指導員等（基礎研修修了者） | AL60: 理学療法士（実務経験５年以上）
M61: 理学療法士 | Y61: その他の従業者 | AL61: 理学療法士（実務経験５年未満）
M62: 心理指導担当職員 | Y62: 言語聴覚士 | AL62: 作業療法士（実務経験５年以上）
M63: 看護職員 | Y63: 作業療法士 | AL63: 作業療法士（実務経験５年未満）
M64: ①常勤・専従 | Y64: 理学療法士 | AL64: 言語聴覚士（実務経験５年以上）
M65: ②常勤・兼務 | Y65: 心理指導担当職員 | AL65: 言語聴覚士（実務経験５年未満）
M66: ③非常勤・専従 | Y66: 看護職員 | AL66: 手話通訳士（実務経験５年以上）
M67: ④非常勤・兼務 | Y67: ①常勤・専従 | AL67: 手話通訳士（実務経験５年未満）
Y68: ②常勤・兼務 | AL68: 手話通訳者（実務経験５年以上）
M69: SS | Y69: ③非常勤・専従 | AL69: 手話通訳者（実務経験５年未満）
M70: 利用児数 | Y70: ④非常勤・兼務 | AL70: 特別支援学校免許取得者（実務経験５年以上）
M71: 1 | AL71: 特別支援学校免許取得者（実務経験５年未満）
M72: 2 | AL72: 心理指導担当職員（実務経験５年以上）
M73: 3 | T73: 指定基準を満たしていません | AL73: 心理指導担当職員（実務経験５年未満）
M74: 4 | N74: 職員数 | AL74: 視覚障害児支援担当職員（実務経験５年以上）
M75: 5 | N75: 2 | AL75: 視覚障害児支援担当職員（実務経験５年未満）
M76: 6 | N76: 2 | AL76: 強度行動障害支援者養成研修（基礎研修）修了者（実務経験５年以上）
M77: 7 | N77: 2 | AL77: 強度行動障害支援者養成研修（基礎研修）修了者（実務経験５年未満）
M78: 8 | N78: 2 | AL78: その他従業者
M79: 9 | N79: 2
M80: 10 | N80: 2
M81: 11 | N81: 2
M82: 12 | N82: 2
M83: 13 | N83: 2
M84: 14 | N84: 2
M85: 15 | N85: 3
M86: 16 | N86: 3
M87: 17 | N87: 3
M88: 18 | N88: 3
M89: 19 | N89: 3
M90: 20 | N90: 4
... M130: 60 | N130: 12
N131: 12
N132: 12
N133: 12
N134: 12

Sheet 人員基準確認シート【記載例】
B1: 別紙2－2 | AC1: （児童発達支援・児発センター）
B2: 人員基準等適合確認シート（放課後等デイサービス）
H3: （兼 児童指導員等配置加算、人員欠如確認、開所時減算確認シート） | BD3: 児童発達支援
B4: 事業所名 | M4: ○○○○ | BD4: 放課後等デイサービス
B5: サービス種類 | M5: 児童発達支援 | V5: ※黄色部分は第１号様式入力後、自動的に入力されます。
B6: サービス提供単位番号 | H6: 営業形態 | M6: 61 | Q6: 選択して下さい
B8: 職種 | H8: 勤務形態 | M8: 氏名 | Q8: 第１週 | X8: 第２週 | AE8: 第３週 | AL8: 第４週
O9: 曜日 | Q9: 月 | R9: 火 | S9: 水 | T9: 木 | U9: 金 | V9: 土 | W9: 日 | X9: 月 | Y9: 火 | Z9: 水 | AA9: 木 | AB9: 金 | AC9: 土 | AD9: 日 | AE9: 月 | AF9: 火 | AG9: 水 | AH9: 木 | AI9: 金 | AJ9: 土 | AK9: 日 | AL9: 月 | AM9: 火 | AN9: 水 | AO9: 木 | AP9: 金 | AQ9: 土 | AR9: 日
O10: 開所日 | Q10: ○ | R10: ○ | S10: ○ | T10: ○ | U10: ○ | X10: 〇 | Y10: 〇 | Z10: 〇 | AA10: 〇 | AB10: 〇 | AE10: 〇 | AF10: 〇 | AG10: 〇 | AH10: 〇 | AI10: 〇 | AL10: 〇 | AM10: 〇 | AN10: 〇 | AO10: 〇 | AP10: 〇 | BH10: ○
O11: 営業時間 | Q11: 8 | R11: 8 | S11: 8 | T11: 8 | U11: 8 | X11: =Q11 -> 8 | Y11: =R11 -> 8 | Z11: =S11 -> 8 | AA11: =T11 -> 8 | AB11: =U11 -> 8 | AC11: =V11 -> 0 | AD11: =W11 -> 0 | AE11: =Q11 -> 8 | AF11: =R11 -> 8 | AG11: =S11 -> 8 | AH11: =T11 -> 8 | AI11: =U11 -> 8 | AJ11: =V11 -> 0 | AK11: =W11 -> 0 | AL11: =Q11 -> 8 | AM11: =R11 -> 8 | AN11: =S11 -> 8 | AO11: =T11 -> 8 | AP11: =U11 -> 8 | AQ11: =V11 -> 0 | AR11: =W11 -> 0
O12: サービス提供時間 | Q12: 6 | R12: 6 | S12: 6 | T12: 6 | U12: 6 | X12: =Q12 -> 6 | Y12: =R12 -> 6 | Z12: =S12 -> 6 | AA12: =T12 -> 6 | AB12: =U12 -> 6 | AC12: =V12 -> 0 | AD12: =W12 -> 0 | AE12: =Q12 -> 6 | AF12: =R12 -> 6 | AG12: =S12 -> 6 | AH12: =T12 -> 6 | AI12: =U12 -> 6 | AJ12: =V12 -> 0 | AK12: =W12 -> 0 | AL12: =Q12 -> 6 | AM12: =R12 -> 6 | AN12: =S12 -> 6 | AO12: =T12 -> 6 | AP12: =U12 -> 6 | AQ12: =V12 -> 0 | AR12: =W12 -> 0
O13: 定員 | Q13: 10 | R13: 10 | S13: 10 | T13: 10 | U13: 10 | X13: =Q13 -> 10 | Y13: =R13 -> 10 | Z13: =S13 -> 10 | AA13: =T13 -> 10 | AB13: =U13 -> 10 | AC13: =V13 -> 0 | AD13: =W13 -> 0 | AE13: =Q13 -> 10 | AF13: =R13 -> 10 | AG13: =S13 -> 10 | AH13: =T13 -> 10 | AI13: =U13 -> 10 | AJ13: =V13 -> 0 | AK13: =W13 -> 0 | AL13: =Q13 -> 10 | AM13: =R13 -> 10 | AN13: =S13 -> 10 | AO13: =T13 -> 10 | AP13: =U13 -> 10 | AQ13: =V13 -> 0 | AR13: =W13 -> 0
B14: 管理者
B15: 管理者兼児童発達支援管理責任者 | H15: ①常勤・専従 | M15: ○○ ○○ | Q15: 8 | R15: 8 | S15: 8 | T15: 8 | U15: 8 | X15: 8 | Y15: 8 | Z15: 8 | AA15: 8 | AB15: 8 | AE15: 8 | AF15: 8 | AG15: 8 | AH15: 8 | AI15: 8 | AL15: 8 | AM15: 8 | AN15: 8 | AO15: 8 | AP15: 8
B16: 直接支援職員・・・最低基準の配置職員のみを記載してください。
A17: 1 | B17: 児童指導員（実務経験2年+卒※） | H17: ①常勤・専従 | M17: ○○ ○○ | Q17: 8 | R17: 8 | S17: 8 | T17: 8 | U17: 8 | X17: 8 | Y17: 8 | Z17: 8 | AA17: 8 | AB17: 8 | AE17: 8 | AF17: 8 | AG17: 8 | AH17: 8 | AI17: 8 | AL17: 8 | AM17: 8 | AN17: 8 | AO17: 8 | AP17: 8
A18: 2 | B18: 保育士 | H18: ③非常勤・専従 | M18: ○○ ○○ | Q18: 4 | R18: 4 | S18: 4 | T18: 4 | U18: 4 | X18: 4 | Y18: 4 | Z18: 4 | AA18: 4 | AB18: 4 | AE18: 4 | AF18: 4 | AG18: 4 | AH18: 4 | AI18: 4 | AL18: 4 | AM18: 4 | AN18: 4 | AO18: 4 | AP18: 4
A19: 3 | B19: 保育士 | H19: ③非常勤・専従 | M19: ○○ ○○ | Q19: 4 | R19: 4 | S19: 4 | T19: 4 | U19: 4 | X19: 4 | Y19: 4 | Z19: 4 | AA19: 4 | AB19: 4 | AE19: 4 | AF19: 4 | AG19: 4 | AH19: 4 | AI19: 4 | AL19: 4 | AM19: 4 | AN19: 4 | AO19: 4 | AP19: 4
A20: 4
A21: 5
A22: 6
A23: 7
A24: 8
Q25: =IF(Q13=0,"",VLOOKUP(Q13,SS,2,FALSE)) -> 2 | R25: =IF(R13=0,"",VLOOKUP(R13,SS,2,FALSE)) -> 2 | S25: =IF(S13=0,"",VLOOKUP(S13,SS,2,FALSE)) -> 2 | T25: =IF(T13=0,"",VLOOKUP(T13,SS,2,FALSE)) -> 2 | U25: =IF(U13=0,"",VLOOKUP(U13,SS,2,FALSE)) -> 2 | V25: =IF(V13=0,"",VLOOKUP(V13,SS,2,FALSE)) | W25: =IF(W13=0,"",VLOOKUP(W13,SS,2,FALSE)) | X25: =IF(X13=0,"",VLOOKUP(X13,SS,2,FALSE)) -> 2 | ... AR25: =IF(AR13=0,"",VLOOKUP(AR13,SS,2,FALSE))
B26: 人員の最低基準への適合（確認欄）
B27: 加配支援職員（児童指導員等加配加算）・・・指定基準に加えて多く配置している職員のサービス提供時間を含んだ勤務時間数を記載してください。
A28: 1 | B28: 児童指導員（実務経験５年以上） | H28: ③非常勤・専従 | M28: ○○ ○○ | Q28: 8 | R28: 8 | S28: 4 | X28: 8 | Y28: 8 | Z28: 4 | AE28: 8 | AF28: 8 | AG28: 4 | AL28: 8 | AM28: 8 | AN28: 4
A29: 2 | B29: 保育士（実務経験５年未満） | H29: ③非常勤・専従 | M29: ○○ ○○ | S29: 4 | T29: 8 | U29: 8 | Z29: 4 | AA29: 8 | AB29: 8 | AG29: 4 | AH29: 8 | AI29: 8 | AN29: 4 | AO29: 8 | AP29: 8
A30: 3
A31: 4
B32: 加配支援職員（専門的支援体制加算）・・・指定基準に加えて多く配置している職員のサービス提供時間を含んだ勤務時間数を記載してください。
A33: 6 | B33: 理学療法士 | H33: ①常勤・専従 | M33: ○○ ○○ | Q33: 8 | R33: 8 | S33: 8 | T33: 8 | U33: 8 | X33: 8 | Y33: 8 | Z33: 8 | AA33: 8 | AB33: 8 | AE33: 8 | AF33: 8 | AG33: 8 | AH33: 8 | AI33: 8 | AL33: 8 | AM33: 8 | AN33: 8 | AO33: 8 | AP33: 8
A34: 5
A35: 6
A36: 7
BE37: =COUNTIF(Q26:AR26,"否") -> 0
A38: 注 | B38: 1 | C38: 複数のサービス提供単位がある場合には、単位ごとに作成してください。 | AC38: 事業所（法人）の定める常勤職員の１週間あたりの勤務時間数 | AL38: 40時間 | BE38: =COUNTIF(Q35:AR35,"無") -> 0
B39: 2 | C39: 放課後等デイサービスについては、学校長期休業期間の営業時間が異なる場合には、平常時と学校休業時それぞれの勤務体制を想定したシートを提出してください。 | AC39: 確 認 欄 | AE39: 指定基準上の人員基準への適合状況 | AL39: 適・不適
B40: 3 | C40: 児童指導員、保育士を配置する場合には、要件を満たしていることが確認できる書類(資格証、実務経験証明書等)を添付してください。 | AE40: 児童指導員等加配加算 | AL40: ・児童指導員等 常勤専従・５年以上 常勤換算・５年以上 常勤専従・５年未満 常勤換算・５年未満 ・その他の従業者 ・無
B41: 4 | C41: ※児童指導員（実務経験2年+卒）とは、指導員の実務経験2年～3年未満の者。 高等学校以上の卒業証明書の写しが別途必要です。
B42: 5 | C42: 児童指導員等加配加算 児童指導員、保育士、理学療法士、作業療法士、言語聴覚士、手話通訳士、手話通訳者、特別支援学校免許取得者、心理指導担当職員、視覚障害児支援担当職員、強度行動障害支援者養成研修（基礎研修）修了者、その他従業者を常勤専従または常勤換算で１以上配置した場合に評価 | AE42: 専門的支援体制加算 | AL42: 適・不適
B44: 6 専門的支援体制加算 理学療法士、作業療法士、言語聴覚士、心理指導担当職員、視覚障害児支援担当職員、５年以上児童福祉事業に従事した 保育士・児童指導員※を常勤専従または常勤換算で１以上配置した場合に評価 ※児童指導員等加配加算を合わせて算定する場合、児童指導員等加配加算における加配分は差し引きます。 ※保育士又は児童指導員としての資格の取得から５年以上児童福祉事業に従事した経験が必要です。
G51: 児童発達支援管理責任者 | H51: 管理者 | M51: 管理者兼保育士 | Y51: 管理者兼児童指導員 | AL51: 管理者兼児童指導員（実務経験５年以上）
G52: 管理者兼児童発達支援管理責任者 | H52: 管理者兼保育士 | M52: 管理者児童指導員 | S52: 選択して下さい | Y52: 管理者兼保育士 | AL52: 管理者兼児童指導員（実務経験５年未満）
H53: 管理者兼児童指導員 | M53: 保育士 | S53: 放課後 | Y53: 管理者兼その他従業者 | AL53: 管理者兼保育士（実務経験５年以上）
H54: 管理者兼その他の従業者 | M54: 児童指導員（大卒・該当課程） | S54: 学校休業日 | Y54: 保育士 | AL54: 管理者兼保育士（実務経験５年未満）
M55: 児童指導員（教員免許） | S55: 共通 | Y55: 児童指導員（大卒・該当課程） | AL55: 管理者兼その他従業者
M56: 児童指導員（社会・精神保健福祉士） | Y56: 児童指導員（教員免許） | AL56: 児童指導員（実務経験５年以上）
M57: 児童指導員（実務経験3年以上） | Y57: 児童指導員（社会・精神保健福祉士） | AL57: 児童指導員（実務経験５年未満）
M58: 児童指導員（実務経験2年+卒※） | Y58: 児童指導員（実務経験3年以上） | AL58: 保育士（実務経験５年以上）
M59: 言語聴覚士 | Y59: 児童指導員（実務経験2年+卒※） | AL59: 保育士（実務経験５年未満）
M60: 作業療法士 | Y60: 児童指導員等（基礎研修修了者） | AL60: 理学療法士（実務経験５年以上）
M61: 理学療法士 | Y61: その他の従業者 | AL61: 理学療法士（実務経験５年未満）
M62: 心理指導担当職員 | Y62: 言語聴覚士 | AL62: 作業療法士（実務経験５年以上）
M63: 看護職員 | Y63: 作業療法士 | AL63: 作業療法士（実務経験５年未満）
M64: ①常勤・専従 | Y64: 理学療法士 | AL64: 言語聴覚士（実務経験５年以上）
M65: ②常勤・兼務 | Y65: 心理指導担当職員 | AL65: 言語聴覚士（実務経験５年未満）
M66: ③非常勤・専従 | Y66: 看護職員 | AL66: 手話通訳士（実務経験５年以上）
M67: ④非常勤・兼務 | Y67: ①常勤・専従 | AL67: 手話通訳士（実務経験５年未満）
Y68: ②常勤・兼務 | AL68: 手話通訳者（実務経験５年以上）
M69: SS | Y69: ③非常勤・専従 | AL69: 手話通訳者（実務経験５年未満）
M70: 利用児数 | Y70: ④非常勤・兼務 | AL70: 特別支援学校免許取得者（実務経験５年以上）
M71: 1 | AL71: 特別支援学校免許取得者（実務経験５年未満）
M72: 2 | AL72: 心理指導担当職員（実務経験５年以上）
M73: 3 | T73: 指定基準を満たしていません | AL73: 心理指導担当職員（実務経験５年未満）
M74: 4 | N74: 職員数 | AL74: 視覚障害児支援担当職員（実務経験５年以上）
M75: 5 | N75: 2 | AL75: 視覚障害児支援担当職員（実務経験５年未満）
M76: 6 | N76: 2 | AL76: 強度行動障害支援者養成研修（基礎研修）修了者（実務経験５年以上）
M77: 7 | N77: 2 | AL77: 強度行動障害支援者養成研修（基礎研修）修了者（実務経験５年未満）
M78: 8 | N78: 2 | AL78: その他従業者
M79: 9 | N79: 2
M80: 10 | N80: 2
M81: 11 | N81: 2
M82: 12 | N82: 2
M83: 13 | N83: 2
M84: 14 | N84: 2
M85: 15 | N85: 3
M86: 16 | N86: 3
M87: 17 | N87: 3
M88: 18 | N88: 3
M89: 19 | N89: 3
M90: 20 | N90: 4
... M130: 60 | N130: 12
N131: 12
N132: 12
N133: 12
N134: 12

Sheet 別紙2-3(保育所等訪問の場合)【必ず提出】
AA1: （保育所等訪問支援）
A2: 別紙2-3
A3: 人員基準等適合確認シート（保育所等訪問支援）
A4: 職員の勤務の体制及び勤務形態一覧表
A5: 事業所名 | C5: =様式第1号【必ず提出】!J31 -> 0
A6: サービス種類 | C6: 保育所等訪問支援
A8: 職 種 | B8: 勤務形態 | C8: 氏 名 | E8: 第 １ 週 | L8: 第 ２ 週 | S8: 第 ３ 週 | Z8: 第 ４ 週
D9: 日 | E9: 1 | F9: 2 | G9: 3 | H9: 4 | I9: 5 | J9: 6 | K9: 7 | L9: 8 | M9: 9 | N9: 10 | O9: 11 | P9: 12 | Q9: 13 | R9: 14 | S9: 15 | T9: 16 | U9: 17 | V9: 18 | W9: 19 | X9: 20 | Y9: 21 | Z9: 22 | AA9: 23 | AB9: 24 | AC9: 25 | AD9: 26 | AE9: 27 | AF9: 28
D10: 曜日 | E10: 月 | F10: 火 | G10: 水 | H10: 木 | I10: 金 | J10: 土 | K10: 日 | L10: 月 | M10: 火 | N10: 水 | O10: 木 | P10: 金 | Q10: 土 | R10: 日 | S10: 月 | T10: 火 | U10: 水 | V10: 木 | W10: 金 | X10: 土 | Y10: 日 | Z10: 月 | AA10: 火 | AB10: 水 | AC10: 木 | AD10: 金 | AE10: 土 | AF10: 日
D11: 開所日 | AV11: ○
D12: 営業時間
I22: 管理者
I23: 管理者兼訪問支援員
I24: 管理者兼児童発達支援管理責任者
I25: 児童発達支援管理責任者
I26: 訪問支援員
I27: 言語聴覚士
I28: 作業療法士
I29: 理学療法士
I30: 心理担当職員
A78: ①常勤・専従
A79: ②常勤・兼務
A80: ③非常勤・専従
A81: ④非常勤・兼務

Sheet 別紙2-4（居宅児発の場合）【必ず提出】
AA1: （保育所等訪問支援）
A2: 別紙2-4
A3: 人員基準等適合確認シート（居宅訪問型児童発達支援）
A4: 職員の勤務の体制及び勤務形態一覧表
A5: 事業所名 | C5: =様式第1号【必ず提出】!J31 -> 0
A6: サービス種類 | C6: 居宅訪問型児童発達支援
A8: 職 種 | B8: 勤務形態 | C8: 氏 名 | E8: 第 １ 週 | L8: 第 ２ 週 | S8: 第 ３ 週 | Z8: 第 ４ 週
D9: 日 | E9: 1 | F9: 2 | G9: 3 | H9: 4 | I9: 5 | J9: 6 | K9: 7 | L9: 8 | M9: 9 | N9: 10 | O9: 11 | P9: 12 | Q9: 13 | R9: 14 | S9: 15 | T9: 16 | U9: 17 | V9: 18 | W9: 19 | X9: 20 | Y9: 21 | Z9: 22 | AA9: 23 | AB9: 24 | AC9: 25 | AD9: 26 | AE9: 27 | AF9: 28
D10: 曜日 | E10: 月 | F10: 火 | G10: 水 | H10: 木 | I10: 金 | J10: 土 | K10: 日 | L10: 月 | M10: 火 | N10: 水 | O10: 木 | P10: 金 | Q10: 土 | R10: 日 | S10: 月 | T10: 火 | U10: 水 | V10: 木 | W10: 金 | X10: 土 | Y10: 日 | Z10: 月 | AA10: 火 | AB10: 水 | AC10: 木 | AD10: 金 | AE10: 土 | AF10: 日
D11: 開所日 | AV11: ○
D12: 営業時間
I22: 管理者
I23: 管理者兼訪問支援員
I24: 管理者兼児童発達支援管理責任者
I25: 児童発達支援管理責任者
I26: 訪問支援員
I27: 言語聴覚士
I28: 作業療法士
I29: 理学療法士
I30: 心理担当職員
A79: ①常勤・専従
A80: ②常勤・兼務
A81: ③非常勤・専従
A82: ④非常勤・兼務

Sheet 別紙2-5（入所施設の場合）【必ず提出】
AH1: （障害児入所施設）
A2: 別紙2-5
A3: 人員基準等適合確認シート（障害児入所施設）
A4: 職員の勤務の体制及び勤務形態一覧表
A5: 施設種別 | C5: =様式第1号【必ず提出】!AA28 -> 児童発達支援 | L5: ※黄色部分は第１号様式入力後、自動的に入力されます。
A6: 施設名 | C6: =様式第1号【必ず提出】!J31 -> 0
A7: 主たる障害種別
AI8: 当該施設において常勤職員が1週間に勤務すべき時間数 | AK8: 0
A9: 職 種 | B9: 勤務形態 | C9: 氏 名 | E9: 第 １ 週 | L9: 第 ２ 週 | S9: 第 ３ 週 | Z9: 第 ４ 週 | AG9: ４週の合計 | AH9: 週平均の勤務時間 | AI9: 常勤換算後の人数 | AJ9: 資格等
D10: 日 | E10: 1 | F10: 2 | G10: 3 | H10: 4 | I10: 5 | J10: 6 | K10: 7 | L10: 8 | M10: 9 | N10: 10 | O10: 11 | P10: 12 | Q10: 13 | R10: 14 | S10: 15 | T10: 16 | U10: 17 | V10: 18 | W10: 19 | X10: 20 | Y10: 21 | Z10: 22 | AA10: 23 | AB10: 24 | AC10: 25 | AD10: 26 | AE10: 27 | AF10: 28 | AJ10: 資格 | AK10: 実務経験年数
D11: 曜日 | E11: 月 | F11: 火 | G11: 水 | H11: 木 | I11: 金 | J11: 土 | K11: 日 | L11: 月 | M11: 火 | N11: 水 | O11: 木 | P11: 金 | Q11: 土 | R11: 日 | S11: 月 | T11: 火 | U11: 水 | V11: 木 | W11: 金 | X11: 土 | Y11: 日 | Z11: 月 | AA11: 火 | AB11: 水 | AC11: 木 | AD11: 金 | AE11: 土 | AF11: 日
A12: 管理者 | AG12: =SUM(E12:AF12) -> 0 | AH12: =AG12/4 -> 0
A13: 児童発達管理責任者 | AG13: =SUM(E13:AF13) -> 0 | AH13: =AG13/4 -> 0
AG14: =SUM(E14:AF14) -> 0 | AH14: =AG14/4 -> 0
AG15: =SUM(E15:AF15) -> 0 | AH15: =AG15/4 -> 0
AG16: =SUM(E16:AF16) -> 0 | AH16: =AG16/4 -> 0
AG17: =SUM(E17:AF17) -> 0 | AH17: =AG17/4 -> 0
AG18: =SUM(E18:AF18) -> 0 | AH18: =AG18/4 -> 0
AG19: =SUM(E19:AF19) -> 0 | AH19: =AG19/4 -> 0
AG20: =SUM(E20:AF20) -> 0 | AH20: =AG20/4 -> 0
AG21: =SUM(E21:AF21) -> 0 | AH21: =AG21/4 -> 0
AG22: =SUM(E22:AF22) -> 0 | AH22: =AG22/4 -> 0
AG23: =SUM(E23:AF23) -> 0 | AH23: =AG23/4 -> 0
AG24: =SUM(E24:AF24) -> 0 | AH24: =AG24/4 -> 0
AG25: =SUM(E25:AF25) -> 0 | AH25: =AG25/4 -> 0
... AG36: =SUM(E36:AF36) -> 0 | AH36: =AG36/4 -> 0
D38: 施設長 | F38: 児童発達支援管理責任者 | H38: 医師 | J38: 看護士 | L38: 理学療 法士等 | N38: 児童 指導員 | P38: 保育士 | R38: 職業 指導員 | T38: 心理担 当職員 | V38: 栄養士 | X38: その他 | Z38: 計
D40: 専従 | E40: 兼務 | F40: 専従 | G40: 兼務 | H40: 専従 | I40: 兼務 | J40: 専従 | K40: 兼務 | L40: 専従 | M40: 兼務 | N40: 専従 | O40: 兼務 | P40: 専従 | Q40: 兼務 | R40: 専従 | S40: 兼務 | T40: 専従 | U40: 兼務 | V40: 専従 | W40: 兼務 | X40: 専従 | Y40: 兼務 | Z40: 専従 | AA40: 兼務 | AB40: 注1 | AD40: 本表は施設種別ごとに作成してください。
A41: 従業者数 | B41: 常勤(人) | Z41: =D41+H41+J41+L41+N41+P41+R41+T41+V41+X41 -> 0 | AA41: =E41+I41+K41+M41+O41+Q41+S41+U41+W41+Y41 -> 0 | AB41: 注2 | AD41: 勤務状況は直接指導職員のみを記載し、「勤務形態」欄はＡ：常勤で専従、Ｂ：常勤で兼務、Ｃ：常勤以外で専従、Ｄ：常勤以外で兼務のいずれかを記載してください。
B42: 非常勤(人) | Z42: =D42+H42+J42+L42+N42+P42+R42+T42+V42+X42 -> 0 | AA42: =E42+I42+K42+M42+O42+Q42+S42+U42+W42+Y42 -> 0
A43: 常勤換算後の人数(人) | Z43: =SUM(D43:Y43) -> 0
AB45: 注3 | AD45: 加算等に係る職員の加配を区分した上、それぞれ1日あたりの勤務時間を記載してください。
AB47: 注4 | AD47: 算出に当たっては、小数点以下第２位を切り捨ててください。
B53: 選択してください | L53: 管理者
B54: 知的障害児 | L54: 児童発達支援管理責任者
B55: 自閉症児 | L55: 管理者兼児童指導員
B56: 盲児 | L56: 保育士
B57: ろうあ児 | L57: 児童指導員
B58: 肢体不自由児 | L58: 看護職員
B59: 重症心身障害児 | L59: 言語聴覚士
B60: 指定発達支援医療機関（肢体不自由児） | L60: 作業療法士
B61: 指定発達支援医療機関（重症心身障害児） | L61: 理学療法士
L62: 心理担当職員
L63: 嘱託医

Sheet 別紙3-1
B2: （別紙３ー１） | H2: 年 月 日
B4: 福祉専門職員配置等加算に関する届出書 （児童発達支援・放課後等デイサービス・福祉型障害児入所施設・医療型障害児入所施設）
H5: ※別紙３－１別添も合わせて提出してください
B6: １ 事業所・施設の名称 | C6: =様式第1号【必ず提出】!J31 -> 0
B7: ２ 異動区分 | C7: １ 新規 ２ 変更 ３ 終了
B8: ３ サービスの種類 | C8: =様式第1号【必ず提出】!AA28 -> 児童発達支援
B9: ４ 届出項目 | C9: １ 福祉専門職員配置等加算(Ⅰ) ※有資格者35％以上 ２ 福祉専門職員配置等加算(Ⅱ) ※有資格者25％以上 ３ 福祉専門職員配置等加算(Ⅲ) ※常勤職員が75％以上又は勤続3年以上の常勤職員が30％以上
B11: ５ 社会福祉士等の状況 ※社会福祉士、介護福祉士等 の資格証の写しを提出して ください。 | I11: 有・無
D12: ① | E12: 直接処遇職員の総数 （常勤） | F12: 人 | L12: 福祉専門職員配置等加算Ⅰ（35％以上）又はⅡ（25％以上）を算定する場合に「有」に〇をしてください。
D13: ② | E13: ①のうち社会福祉士、介護福祉士、精神保健福祉士又は公認心理師の総数（常勤） | F13: 人 | H13: ①に占める②の割合が 25％又は35％以上
B15: ６ 常勤職員の状況 | I15: 有・無
D16: ① | E16: 直接処遇職員の総数 （常勤換算） | F16: 人
D17: ② | E17: ①のうち常勤の者の数 | F17: 人 | H17: ①に占める②の割合が 75％以上 | L17: 福祉専門職員配置等加算Ⅲを算定する場合に「有」に〇をしてください。
B19: ７ 勤続年数の状況 ※実務経験ではなく、当該事業所又は同一法人内（グループ法人は不可）での勤続年数であることに留意すること。）
D20: ① | E20: 直接処遇職員の総数 （常勤） | F20: 人
D21: ② | E21: ①のうち勤続年数３年以上の者の数 | F21: 人 | H21: ①に占める②の割合が 30％以上
B24: 注１ 常勤とは、「障害者の日常生活及び社会生活を総合的に支援するための法律に基づく指定障害福祉サービスの事業等の 人員、設備及び運営に関する基準について」（平成18年12月６日厚生労働省社会・援護局障害保健福祉部長通知）第二の ２の（３）に定義する「常勤」をいう。
B25: 注２ 直接処遇職員とは、
B26: ○児童発達支援にあっては、加算（Ⅰ）（Ⅱ）においては、児童指導員又は共生型児童発達支援従業者、加算（Ⅲ）に おいては、児童指導員、保育士又は共生型児童発達支援従業者
B27: ○放課後等デイサービスにあっては、加算（Ⅰ）（Ⅱ）においては、児童指導員又は共生型放課後等デイサービス従業者、 加算（Ⅲ）においては、児童指導員、保育士又は共生型放課後等デイサービス従業者
B28: ○福祉型障害児入所施設にあっては、加算（Ⅰ）（Ⅱ）においては、児童指導員、加算（Ⅲ）においては、児童指導員 又は保育士
B29: ○医療型障害児入所施設にあっては、加算（Ⅰ）（Ⅱ）においては、児童指導員又は指定発達医療機関の職員、加算 （Ⅲ）においては、児童指導員若しくは保育士又は指定発達医療機関の職員 のことをいう。

Sheet 別紙3-1 別添
A1: 別紙３ー１ 別添
A2: 福祉専門職員配置等加算に関する状況
G3: 無し
A4: サービス種類 | B4: =様式第1号【必ず提出】!AA28 -> 児童発達支援 | D4: ※黄色部分は様式第１号入力後、自動的に入力されます。 | G4: 社会福祉士 | I4: 福祉専門職員配置等加算Ⅰ
A5: 事業所名称 | B5: =様式第1号【必ず提出】!J31 -> 0 | G5: 介護福祉士 | I5: 福祉専門職員配置等加算Ⅱ
A6: 届出の種類 | B6: 福祉専門職員配置等加算Ⅰ | G6: 精神保健福祉士 | I6: 福祉専門職員配置等加算Ⅲ
A7: 届出るサービスに配置する直接処遇職員を全て記載すること。 | G7: 公認心理師
A8: 直接処遇職員の氏名 | B8: 勤務形態 | C8: 勤務年数 | D8: 要件該当資格の有無 | E8: １週間あたりの勤務時間
D9: 無し
D10: 無し | L10: 常勤専従
D11: 無し | L11: 常勤兼務
D12: 無し | L12: 非常勤
D13: 無し
D14: 無し
D15: 無し
D16: 無し
D17: 無し
D18: 無し
D19: 無し
D20: 無し
D21: 無し
D22: 無し
D23: 無し
D24: 無し
A26: 確認欄 Ⅰ・Ⅱ・Ⅲ・非該当
A28: 備考 （１） ここでいう常勤とは、指定障害児通所支援事業所等における勤務時間が、当該指定障害児通所支援事業所等において定められてい る常勤の従業者が勤務すべき時間数（１週間に勤務すべき時間数が32時間を下回る場合は32時間を基本とする。）に達していることを いう。
A31: （２） 常勤兼務、非常勤については、届出するサービスに関わる時間数だけを記載すること。
A32: （３） 算定要件
A33: ①常勤の直接処遇職員のうち、社会福祉士、介護福祉士、精神保健福祉士及び公認心理師が３５％以上雇用されている事業所 （福祉専門職員配置等加算Ⅰ） ②常勤の直接処遇職員のうち、社会福祉士、介護福祉士、精神保健福祉士及び公認心理師が２５％以上雇用されている事業所 （福祉専門職員配置等加算Ⅱ） ③直接処遇職員のうち、常勤職員が７５％以上又は勤続３年以上の常勤職員が３０％以上雇用されている事業所 （福祉専門職員配置等加算Ⅲ）

Sheet 別紙22
B1: （別紙22）
AB2: 年 | AE2: 月 | AH2: 日
B4: 障害者支援施設等感染対策向上加算に関する届出書
B6: 1 事 業 所 名 | G6: =様式第1号【必ず提出】!J31 -> 0
B7: 2 異 動 区 分 | G7: １ 新規 ２ 変更 ３ 終了
B8: 3 サービスの種類 | H8: １ 障害者支援施設 | V8: ２ 共同生活援助事業所
H9: ３ （福祉型）障害児入所施設
B10: 4 届 出 項 目 | H10: １ 障害者支援施設等感染対策向上加算（Ⅰ）
H11: ２ 障害者支援施設等感染対策向上加算（Ⅱ）
B13: 5 障害者支援施設等感染対策向上加算（Ⅰ）に係る届出
C14: 連携している第二種協定指定医療機関
C15: 医療機関名 | AA15: 医療機関コード
C18: 院内感染対策の研修または訓練を行った医療機関または地域の医師会
C19: 医療機関名（※１） | AA19: 医療機関コード
C21: 医療機関が届け出ている診療報酬 | N21: １ 感染対策向上加算１ | X21: ２ 感染対策向上加算２
N22: ３ 感染対策向上加算３ | X22: ４ 外来感染対策向上加算
C24: 地域の医師会の名称（※１）
C27: 院内感染対策に関する研修又は訓練に参加した日時 （※２） | R27: 年 | Z27: 月 | AG27: 日
B31: 6 障害者支援施設等感染対策向上加算（Ⅱ）に係る届出
C32: 施設内で感染者が発生した場合の対応に係る実地指導を行った医療機関の名称
C33: 医療機関名 | AA33: 医療機関コード
C36: 医療機関が届け出ている診療報酬 | N36: １ 感染対策向上加算１ | X36: ２ 感染対策向上加算２
N37: ３ 感染対策向上加算３
C39: 実地指導を受けた日時 | R39: 年 | Z39: 月 | AG39: 日
B42: 注１ | D42: 要件を満たすことが分かる根拠書類を準備し、指定権者からの求めがあった場合には、速やかに提出すること。
B43: 注２ | D43: 障害者支援施設等感染対策向上加算（Ⅱ）で実地指導を行う医療機関等は、診療報酬の感染対策向上加算に係る届出を行っている必要がある。
B44: 注３ | D44: 障害者支援施設等感染対策向上加算（Ⅰ）及び（Ⅱ）は併算定が可能である。
B45: 注４ | D45: 「院内感染対策の研修または訓練を行った医療機関または地域の医師会」については、医療機関名又は地域の医師会の名称のいずれかを記載して
D46: ください。医療機関名を記載する場合には、当該医療機関が届け出ている診療報酬の種類を併せて記載してください。
B47: （※１） | D47: 研修若しくは訓練を行った医療機関又は地域の医師会のいずれかを記載してください。
B48: （※２） | D48: 医療機関等に研修又は訓練の実施予定日を確認し、障害者支援施設等の職員の参加の可否を確認した上で年度内までに当該研修又は訓練に参加
D49: できる目処がある場合、その予定日を記載してください。

Sheet 別紙58
B1: （別紙58）
G2: 年 月 日
A4: 基準該当児童発達支援・基準該当放課後等デイサービスの 報酬算定区分に関する届出書
B6: １ 事業所・施設の名称
B7: ２ 異動区分 | D7: １ 新規 ２ 変更 ３ 終了
B8: ３ サービスの種類 | D8: ① 児童発達支援 ②放課後等デイサービス
B9: ４-① 申請する報酬算定区分 | D9: １．基準該当児童発達支援給付費（Ⅰ）
D10: ２．基準該当児童発達支援給付費（Ⅱ）
B11: ４-② 申請する報酬算定区分 | D11: １．基準該当放課後等デイサービス費（Ⅰ）
D12: ２．基準該当放課後等デイサービス費（Ⅱ）
B14: 注１ | C14: この届出書は市町村に提出してください。
B15: 注２ | C15: 「異動区分」欄については、該当する番号に○を付してください。
B16: 注３ | C16: 「サービスの種類」には、該当する番号に○を付してください。
B17: 注４ | C17: 「申請する報酬算定区分」については、３で選択したサービスに応じて、算定する区分全てに○を付してください。
B18: 注５ | C18: ３及び４の組み合わせに応じて必要な人員配置が異なる（利用する障害児それぞれの医療的ケア区分の度合によっても異なる）ため、当該人員配置の体制を満たしている場合のみ申請が可能です。

Sheet 別紙59
B1: （別紙59）
G2: 年 月 日
A4: 指定児童発達支援・指定放課後等デイサービスの報酬算定区分に関する届出書
B6: １ 事業所・施設の名称 | D6: =様式第1号【必ず提出】!J31 -> 0
B7: ２ 異動区分 | D7: １ 新規 ２ 変更 ３ 終了
B8: ３ サービスの種類 | D8: ① | E8: 指定児童発達支援（児童発達支援センターに限る。）
D9: ② | E9: 指定児童発達支援（児童発達支援センターを除く。）
D10: ③ | E10: 指定放課後等デイサービス
B11: ４ 申請する報酬算定区分 | D11: 医療的ケア区分（ あり ・ なし ）
B14: 注１ | C14: 「異動区分」欄については、該当する番号に○を付してください。
B15: 注２ | C15: 「申請する報酬算定区分」には、該当する番号に○を付してください。
B16: 注３ | C16: ３及び４の組み合わせに応じて必要な人員配置が異なる（利用する障害児それぞれの医療的ケア区分の度合によっても異なる）ため、当該人員配置の体制を満たしている場合のみ申請が可能です。

Sheet 別紙60
B1: （別紙60）
J2: 年 月 日
C3: 自己評価結果等の公表状況に関する届出書
B5: 法 人 名 | D5: =様式第1号【必ず提出】!J17 -> 0
B6: 事業所名 | D6: =様式第1号【必ず提出】!J31 -> 0
B7: サービスの種別 | D7: ①児童発達支援 ②放課後等デイサービス ③保育所等訪問支援
B8: 事業所所在地 （区市町村名）
B9: 指 定 年 月 （児童発達支援） | D9: 年 月 | H9: 指 定 年 月 （放課後等デイサービス） | J9: 年 月
B10: 指 定 年 月 （保育所等訪問支援） | D10: 年 月
M11: ⇒開所してから１年未満の事業所においては、提出の必要はありません。 障害児通所支援事業所は、おおむね１年に１回以上、自己評価結果等をインターネット等で公表し、県への届出（本様式 別紙60）をしなければなりません。
B12: 【自己評価結果等の公表状況等】
B13: 公表の実施時期 | D13: 年 月 | H13: 保護者への提示 | J13: 行った ・ 行っていない
B14: 公 表 方 法 | D14: ① インターネット ② その他（ ）
D15: ①の場合は公表内容欄にURLを記載
B16: 公 表 内 容 | D16: ①の場合（URL： ）
B17: 改 善 内 容
B19: 備考１ | C19: 自己評価結果等とは、その提供する支援の質の評価及び改善を行うに当たって従業者による評価を受けた上で行う、自己評価（自ら評価することをいう。）、保護者評価（通所給付決定保護者による評価をいう。）及び改善内容のことを指します。 自己評価結果等の公表については、都道府県に届出がされていない場合に減算することとなる点に留意下さい。
B20: 2 | C20: 減算は、届出がされていない月から届出がされていない状態が解消されるに至った月まで、障害児全員について減算する点に留意下さい。
B21: ３ | C21: 公表内容については、すべての項目について公表が行われていることを確認の上、記入してください。（インターネットで公表している場合はURLを記入するのみで構いません。）改善内容については、自己評価及び保護者評価を踏まえた改善の内容について記入してください。

Sheet 別紙61
B1: （別紙61）
I2: 年 月 日
B4: 支援プログラムの公表状況に関する届出書
B6: 法 人 名 | C6: =別紙60!D5 -> 0
B7: 事業所名 | C7: =別紙60!D6 -> 0
B8: サービスの種別 | C8: ①児童発達支援 ②放課後等デイサービス ③①・②の多機能 ④居宅訪問型児童発達支援
B9: 事業所所在地 （区市町村名）
B10: 指 定 年 月 （児童発達支援） | C10: 年 月 | G10: 指 定 年 月 （放課後等デイサービス） | I10: 年 月
B11: 指 定 年 月 （居宅訪問型児童発達支援） | C11: 年 月
B13: 【支援プログラムの公表状況】
B14: 公表の実施時期 | C14: 年 月
B15: 公 表 方 法 | C15: ① インターネット ② その他（ ）
C16: ①の場合は公表内容欄にURLを記載、②の場合は公表内容欄に詳細を記載
B17: 公 表 内 容
B19: 備考１ 支援プログラムの公表については、都道府県に届出がされていない場合に減算することとなる点に 留意下さい。 ２ 減算は、届出がされていない月から届出がされていない状態が解消されるに至った月まで、障害児 全員について減算する点に留意下さい。 ３ 都道府県に届出がされていない場合であっても令和７年３月31日までの間は減算されませんが、 総合的な支援と支援内容の見える化を進める観点から、速やかに取組を進める必要がある点に留 意下さい。

Sheet 別紙62
B1: （別紙62）
L2: 年 月 日
A3: 児童指導員等加配加算に関する届出書
B5: 事業所・施設の名称 | D5: =様式第1号【必ず提出】!J31 -> 0
B6: サービス種別 | D6: ① 児童発達支援 ② 放課後等デイサービス ③ ①・②の多機能
B7: １ 異動区分 | D7: ① 新規 ② 変更 ③ 終了
B8: ２ 従業者の状況
E9: ➀ 常勤専従で児童指導員等を配置する場合 | I9: 単位➀ | K9: 単位②
E10: 基準人数の総数 A | I10: 人 | K10: 人
E11: 従業者の総数 B | I11: 人 | K11: 人
F12: うち経験５年以上の児童指導員等の員数（常勤専従） | I12: 人 | K12: 人
F13: うち児童指導員等の員数（常勤専従） | I13: 人 | K13: 人
E15: ② ①以外の場合 | I15: 単位① | K15: 単位②
E16: 基準人数の総数 A | I16: 人 | K16: 人
E17: 従業者の総数 B（常勤換算） | I17: 人 | K17: 人
F18: うち経験５年以上の児童指導員等の員数（常勤換算） | I18: 人 | K18: 人
F19: うち児童指導員等の員数（常勤換算） | I19: 人 | K19: 人
F20: うちその他の従業者の員数 （常勤換算） | I20: 人 | K20: 人
E22: 加配人数（B－A） | I22: 人 | K22: 人
E24: 児童指導員等加配加算算定区分 | I24: ア 児童指導員等（常勤専従・経験５年以上） イ 児童指導員等（常勤専従） | K24: ア 児童指導員等（常勤専従・経験５年以上） イ 児童指導員等（常勤専従）
I25: ウ 児童指導員等（常勤換算・経験５年以上） エ 児童指導員等（常勤換算） | K25: ウ 児童指導員等（常勤換算・経験５年以上） エ 児童指導員等（常勤換算）
I26: オ その他従業者 | K26: オ その他従業者
B29: 備考１ | C29: 「サービス種別」、「異動区分」欄については、該当する番号に○を付してください。
B30: ２ | C30: 「従業者の状況」には、サービス毎に単位を分けている場合は、児童指導員等の数を単位別に記載してください。
B31: ３ | C31: 多機能型（人員配置特例の利用なし）の場合は、「従業者の状況」単位①・②欄にそれぞれ児童発達支援と放課後等デイサービスの「基準人数」等をそれぞれ記載してください。
B32: ４ | C32: 「うち経験５年以上の児童指導員等の員数（常勤専従）」「うち経験５年以上の児童指導員等の員数（常勤換算）」には、サービス毎に配置されている５年以上児童福祉事業に従事した経験を有する理学療法士、作業療法士、言語聴覚士、保育士、心理担当職員又は視覚障害者の生活訓練の養成を行う研修を終了した従業者、児童指導員、手話通訳士、手話通訳者、特別支援学校免許取得者、強度行動障害支援者養成研修（基礎研修）を修了した指導員の数を単位別に記載してください。
B33: ５ | C33: 「うち児童指導員等の員数（常勤専従）」「うち児童指導員等の員数（常勤換算）」には、サービス毎に配置されている児童福祉事業に従事した経験が５年に満たない理学療法士、作業療法士、言語聴覚士、保育士、心理担当職員又は視覚障害者の生活訓練の養成を行う研修を終了した従業者、児童指導員、手話通訳士、手話通訳者、特別支援学校免許取得者、強度行動障害支援者養成研修（基礎研修）を修了した指導員の数を単位別に記載してください。
B34: ６ | C34: 「うちその他の従業者の員数（常勤換算）」の数を単位別に記載してください。
B35: ７ | C35: 常勤専従で加配する者については、基準人員で求められている常勤１以上に該当する従業者とは異なる者であることに留意ください。
B36: ８ | C36: 経験５年以上の児童指導員等については、実務経験を証明する書類を添付してください。
B37: ９ | C37: 算定区分について、該当項目に○を付してください。
B38: 10 | C38: 資格等を求める配置については、配置する職員の資格等を証明する書類を添付してください。
B39: 11 | C39: 「算定に必要となる従業者」とは、障害児に対して一定の割合で配置する必要がある児童指導員又は保育士のみを指すのではなく、指定基準に定める全ての職種を指したものです。よって、例えば、児童指導員や保育士を指定基準で置くこととしている員数＋１の配置がされていても、児童発達支援管理責任者に欠如が生じている等の場合は、本加算を算定することはできない点に留意ください。

Sheet 別紙63
B2: （別紙63） | I2: 年 月 日
A3: 看護職員加配加算に関する届出書
B5: 事業所・施設の名称 | C5: =様式第1号【必ず提出】!J31 -> 0
B6: サービスの種別 | C6: ① | D6: 児童発達支援 | F6: ② | G6: 放課後等デイサービス | H6: ③ | I6: ①・②の多機能
B7: １ 異動区分 | C7: ① 新規 ② 変更 ③ 終了
B8: ２ 看護職員の 状況
F9: 単位① | H9: 単位②
D10: 基準人数 A | F10: 人 | H10: 人
D11: 医療的ケア区分に伴う基本報酬を算定する上で配置する看護職員の人数 Ｂ | F11: 人 | H11: 人
D12: 看護職員の総数 Ｃ （常勤換算） | F12: 人 | H12: 人
E13: うち保健師の員数 | F13: 人 | H13: 人
E14: うち助産師の員数 | F14: 人 | H14: 人
E15: うち看護師の員数 | F15: 人 | H15: 人
E16: うち准看護師の員数 | F16: 人 | H16: 人
D17: 加配人数 （Ｃ－Ｂ－A） | F17: 人 | H17: 人
B19: ３ 医療的ケア児 の医療的ケア スコア
D20: 月 | E20: ①利用した医療的ケア児のスコア（※） | G20: ②開所日数 | H20: ③医療的ケアスコアの 合計の点数 （①÷②）
D21: ４月
D22: ５月
D23: ６月
D24: ７月
D25: ８月
D26: ９月
D27: 10月
D28: 11月
D29: 12月
D30: １月
D31: ２月
D32: ３月
D33: 合計 | E33: =SUM(E21:F32) -> 0 | G33: =SUM(G21:G32) -> 0 | H33: =E33/G33 -> #DIV/0!
B41: 備考１ 「サービスの種別」、「異動区分」欄については、該当する番号に○を付してください。
B42: ２ 「看護職員の状況」には、サービス毎に単位を分けている場合は、看護職員の数を単位別に記載してください。
B43: ３ 多機能型（人員配置特例の利用あり）の場合、は、「看護職員の状況」単位①・②欄にそれぞれ児童発達支援と 放課後等デイサービスの「基準人員」等をそれぞれ記載してください。
B44: ４ 「うち保健師の員数」等には、サービス毎に配置されている看護職員の数を単位別に記載してください。
B45: ５ 資格等を求める配置については、配置する職員の資格等を証明する書類を添付してください。

Sheet 別紙64
B1: （別紙64）
F2: 年 月 日
B3: 栄養士配置加算に関する届出書
B5: １ 児童発達支援セン ターの名称 | D5: =様式第1号【必ず提出】!J31 -> 0
B6: ２ 異動区分 | C6: １ 新規 ２ 変更 ３ 終了
B7: ３ 届出項目 | C7: １ 栄養士配置加算(Ⅰ） ２ 栄養士配置加算(Ⅱ)
B9: ４ 栄養士配置の状況
E10: 常勤 | F10: 非常勤
D11: 管理栄養士 | E11: 人 | F11: 人
D12: 栄養士 | E12: 人 | F12: 人
B15: 備考１「異動区分」、「届出項目」欄については、該当する番号に○を付してください。
B16: ２ 資格等を求める配置については、配置する職員の資格等を証明する書類を添付してください。

Sheet 別紙65
B2: （別紙65） | G2: 年 月 日
A3: 食事提供加算届出書
B5: 事業所・施設の名称 | C5: =様式第1号【必ず提出】!J31 -> 0
B6: １ 異動区分 | C6: ① 新規 ② 変更 ③ 終了
B7: ２ 届出項目 | C7: １ 食事提供加算(Ⅰ） ２ 食事提供加算(Ⅱ)
B8: ３ 調理室での調理 | C8: ① 行っている ② 行っていない
B9: ４ 助言・指導を行う栄養士または管理栄養士
B10: 食事提供加算（Ⅰ）
F11: 所属 氏名
D12: 栄養士
B14: 食事提供加算（Ⅱ）
F15: 所属 氏名
D16: 管理栄養士
B19: 備考１ 「異動区分」欄については、該当する番号に○を付してください。
B20: ２ 「届出項目」欄については、該当する番号に〇を付してください。
B21: ３ 「調理室での調理」の欄については、該当する番号に〇を付してください。
B22: ４ 助言、指導を行う栄養士または管理栄養士は、資格を証明する書類を添付して ください。
B23: ５ 資格等を求める配置については、配置する職員の資格等を証明する書類を添付 してください。

Sheet 別紙66-1
B1: （別紙66-１）
F2: 年 月 日
A4: 強度行動障害児支援加算に関する届出書 （児童発達支援・居宅訪問型児童発達支援・保育所等訪問支援）
B6: 事業所・施設の名称 | D6: =様式第1号【必ず提出】!J31 -> 0
B7: １ 異動区分 | C7: ① 新規 ② 変更 ③ 終了
B8: ２ サービス種別 | C8: ①児童発達支援 ②居宅訪問型児童発達支援 ③保育所等訪問支援
B9: ３ 職員の勤務体制
D11: １ 強度行動障害支援者養成研修（実践研修）修了者 配置
D13: ２ 強度行動障害支援者養成研修（基礎研修）修了者 配置
D14: ※ １は必須 ２は１が兼ねる場合も可
B15: 備考１ 「異動区分」欄及び「サービス種別」欄については、該当する番号に○を付してください。
B16: ２ 資格等を求める配置については、配置する職員の資格等を証明する書類を添付してください。

Sheet 別紙66-２
B1: （別紙66-２）
F2: 年 月 日
A4: 強度行動障害児支援加算に関する届出書 （放課後等デイサービス）
B6: 事業所・施設の名称 | D6: =様式第1号【必ず提出】!J31 -> 0
B7: １ 異動区分 | C7: ① 新規 ② 変更 ③ 終了
B8: ２ 届出項目 | C8: ① 強度行動障害児支援加算（Ⅰ） ② 強度行動障害児支援加算（Ⅱ）
B9: ３ 職員の体制
D10: ※加算（Ⅰ）
D11: １ 強度行動障害支援者養成研修（実践研修）修了者 配置
D13: ※加算（Ⅱ）
D14: ２ 強度行動障害支援者養成研修（中核的人材）修了者 配置
B16: 備考１ 「異動区分」欄については、該当する番号に○を付してください。
B17: ２ 資格等を求める配置については、配置する職員の資格等を証明する書類を添付してください。

Sheet 別紙67
B1: （別紙67）
E2: 年 月 日
A4: 送迎加算に関する届出書（重症心身障害児・医療的ケア児）
B6: １ 事業所の名称 | C6: =様式第1号【必ず提出】!J31 -> 0
B7: ２ 異動区分 | C7: １ 新規 ２ 変更 ３ 終了
B8: ３ サービス種別 | C8: ① 児童発達支援（児童発達支援センター又は主として重症心身障害児を 通わせる事業所で行われるものを除く）
C9: ② 児童発達支援（児童発達支援センター又は主として重症心身障害児を 通わせる事業所で行われるものに限る）
C10: ③ 放課後等デイサービス
B11: ４ 送迎の対象に 含まれる児童 | C11: １ 重症心身障害児 ２ 医療的ケア児 ３ １及び２
B13: ５ 送迎の体制 （運転手以外） | D13: 氏名 | E13: 職種 | F13: 喀痰吸引等の 実施可否
C14: 1
C15: 2
C16: 3
C17: 計 | D17: 人
B19: 備考１ 「異動区分」欄及び「サービス種別」欄については、該当する番号に○を付してください。
B20: ２ 重症心身障害児又は医療的ケア児に対して支援を提供する児童発達支援事業所、児童発達支援 センター、放課後等デイサービス事業所においてそれぞれ作成してください。
B21: ３ 「送迎の対象に含まれる児童」欄については、１から３のうちいずれかの番号に○を付して ください。
B22: ４ 「喀痰吸引等の実施可否」欄については、送迎同乗者が実施可能な医療的ケアについて記載 してください。

Sheet 別紙68
B1: （別紙68）
H2: 年 月 日
B4: 延長支援加算に関する届出書
B6: １ 事業所名 | D6: =様式第1号【必ず提出】!J31 -> 0
B7: ２ サービス種別 | D7: ① 児童発達支援 ② 放課後等デイサービス ③ ①・②の多機能
B8: ２-２ サービス種別 の詳細 | D8: ① 主として重症心身障害児を通わせる事業所 ②共生型サービス ③ 基準該当サービス ④ その他
B9: ３ 運営規程上の 営業時間 | D9: （ ） 時間
B10: ４ 延長支援時間帯 に職員を２以上 配置しているか | D10: ①あり ②なし
B12: 備考１ | C12: 「サービス種別の詳細」欄で①・②・③に該当する場合には、「運営規程上の営業時間」が８時間以上である必要があります。
B13: ２ | C13: 「サービス種別の詳細」欄で④に該当する場合（※）には、「運営規程上の営業時間」が６時間以上である必要があります。 ※放課後等デイサービス事業所については、学校休業日に指定放課後等デイサービスを行う場合

Sheet 別紙69
B1: （別紙69）
L2: 年 月 日
A3: 専門的支援体制加算に関する届出書
B5: 事業所・施設の名称 | D5: =様式第1号【必ず提出】!J31 -> 0
B6: サービス種別 | D6: ① 児童発達支援 ② 放課後等デイサービス ③ ①・②の多機能
B7: １ 異動区分 | D7: ① 新規 ② 変更 ③ 終了
B8: ２ 従業者の状況
I9: 単位① | K9: 単位②
E10: 基準人数の総数 A | I10: 人 | K10: 人
E11: 従業者の総数 B（常勤換算） | I11: 人 | K11: 人
F12: うち理学療法士等の員数（保育士及び児童指導員を除く。） | I12: 人 | K12: 人
F13: うち５年以上保育士の員数 | I13: 人 | K13: 人
F14: うち５年以上児童指導員の員数 | I14: 人 | K14: 人
E15: 加配人数（B－A） | I15: 人 | K15: 人
E16: 専門的支援体制加算の 算定対象となる従業者 | I16: ア 理学療法士等（保育士及び児童指導員を除く。） イ ５年以上保育士 ウ ５年以上児童指導員 | K16: ア 理学療法士等（保育士及び児童指導員を除く。） イ ５年以上保育士 ウ ５年以上児童指導員
B19: 備考１ | C19: 「サービス種別」、「異動区分」欄については、該当する番号に○を付してください。
B20: ２ | C20: 「従業者の状況」には、サービス毎に単位を分けている場合は、それぞれの員数を単位別に記載してください。
B21: ３ | C21: 多機能型（人員配置特例の利用なし）の場合は、「従業者の状況」単位①・②欄にそれぞれ児童発達支援と放課後等デイサービスの「基準人数」等をそれぞれ記載してください。
B22: ４ | C22: 「うち理学療法士等の員数（保育士及び児童指導員を除く。）」には、サービス毎に配置されている理学療法士、作業療法士、言語聴覚士、心理担当職員又は視覚障害者の生活訓練の養成を行う研修を終了した従業者の数を単位別に記載してください。
B23: ５ | C23: 「うち５年以上保育士の員数」には、保育士の資格を得てから５年以上児童福祉事業に従事した経験を有する保育士の数を単位別に記載してください。
B24: ６ | C24: 「うち５年以上児童指導員の員数」には、児童指導員として任用されてから５年以上児童福祉事業に従事した経験を有する児童指導員の数を単位別に記載してください。
B25: ７ | C25: ５年以上児童福祉事業に従事した経験については、実務経験を証明する書類を添付してください。
B26: ８ | C26: 算定対象となる従業者については、該当項目に○を付してください。
B27: ９ | C27: 資格等を求める配置については、配置する職員の資格等を証明する書類を添付してください。
B28: 10 | C28: 「算定に必要となる従業者」とは、障害児に対して一定の割合で配置する必要がある児童指導員又は保育士のみを指すのではなく、指定基準に定める全ての職種を指したものです。よって、例えば、児童指導員や保育士を指定基準で置くこととしている員数＋１の配置がされていても、児童発達支援管理責任者に欠如が生じている等の場合は、本加算を算定することはできない点に留意ください。

Sheet 別紙70
B1: （別紙70） | H1: 年 月 日
B2: 専門的支援実施加算に関する届出書
B4: １ 事業所の名称 | D4: =様式第1号【必ず提出】!J31 -> 0
B5: ２ 異動区分 | D5: １ 新規 ２ 変更 ３ 終了
B7: ３ 理学療法士等 | D7: 理学療法士 | I7: 名
D8: 作業療法士 | I8: 名
D9: 言語聴覚士 | I9: 名
D10: 心理担当職員 | I10: 名
D11: 保育士（児童福祉事業経験５年以上） | I11: 名
D12: 児童指導員（児童福祉事業経験５年以上） | I12: 名
D13: 視覚障害者の生活訓練を専門とする技術者の養成を行う研修を修了した者 | I13: 名
B15: 備考１ 「異動区分」欄については、該当する番号に○を付してください。
B16: ２ 配置する職員の資格を証明する書類を添付してください。
B17: ３ 保育士・児童指導員については実務経験を証明する書類を添付してください。
B18: ４ 保育士・児童指導員については、資格を得てから５年以上児童福祉事業に従事した経験 を有している必要があります。
B19: ５ 資格等を求める配置については、配置する職員の資格等を証明する書類を添付して ください。

Sheet 別紙71
B1: （別紙71）
I2: 年 月 日
A4: 中核機能強化加算・中核機能強化事業所加算に関する届出書
B6: 事業所・施設の名称 | C6: =様式第1号【必ず提出】!J31 -> 0
B7: 事業所・施設種別 | C7: ① 児童発達支援センター ② 児童発達支援事業所 ③ 放課後等デイサービス
B8: １ 異動区分 | C8: ① 新規 ② 変更 ③ 終了
B9: ２ 配置する専門職 員の状況 | D9: 配置する専門職員の職種 | G9: 障害児支援に従事した 経験年数
C10: １人目
C11: ２人目
B13: ３ 支援体制の状況 （中核機能強化加算（Ⅰ）を算定する場合のみ） | C13: 各職種の職員数（常勤換算）
C14: 理学療法士 | D14: 作業療法士 | E14: 言語聴覚士 | F14: 看護職員 | G14: 心理担当 職員 | H14: 保育士 （備考５） | I14: 児童指導員 （備考５）
B17: 備考１ 「施設種別」、「異動区分」欄については、該当する番号に○を付けてください。
B18: ２ 「配置する専門職員の職種」は、以下の職種のうちいずれかに該当するものを記入してください。なお、基準人 員に加えて（児童指導員等加配加算又は専門支援体制加算を算定している場合においては、当該加算の算定に必要 となる従業者の員数を含む。）配置する（加配する）者について記載してください。
B20: ３ 「障害児支援に従事した経験年数」欄は、配置する専門職員について、障害児通所支援又は障害児入所支援、 若しくは障害児相談支援に従事した経験年数を記入すること。なお、５年以上従事した経験がない場合、加算の対 象になりません。
B21: ４ 中核機能強化加算（Ⅰ）及び（Ⅱ）を算定する場合には「１人目」欄及び「２人目」欄に、中核機能強化加算 （Ⅲ）を算定する場合には「１人目」欄に記入されている必要があります。
B22: ５ 「支援体制の状況」欄の保育士・児童指導員は、障害児通所支援又は障害児入所支援に３年以上従事した者であ る必要があります。また、従事歴などの実務経験については、それを証明する書類を添付してください。
B23: ６ 「支援体制の状況」欄において、常勤換算により１以上配置する職種が５つ以上ないと算定できませ ん。なお、この配置については、以下の点に留意してください。 ・ 基準人員、児童指導員等加配加算、専門的支援体制加算により加配した人員、上記イ及びロの人員でも可能と する。 ・ 配置すべき者に係る職種のうち２職種までは常勤換算ではない配置によることも可能である。 ・ 同一者が複数の職種を有している場合には、２職種までに限り評価を可能とする。
B24: ７ 資格等を求める配置については、配置する職員の資格等を証明する書類を添付してください。

Sheet 別紙72
C1: （別紙72)
AI2: 年 月 日
B4: 視覚・聴覚・言語機能障害児支援加算に関する届出書
C6: 視覚障害児等との意思疎通に関し専門性を有する者
C7: 職 名 | I7: 氏 名 | O7: 専門性を有する者が要する資格又は意思疎通の専門性
C11: 備考１ 本加算は以下の児童が対象となります。 ① 身体障害者福祉法（昭和24年法律第283号）第15条第４項の規定により交付を受けた身体障害者 手帳の障害程度が１級又は２級に該当する者 ② 身体障害者手帳の障害の程度が２級に該当する者 ③ 身体障害者手帳の障害の程度が３級に該当する者
C16: ２ 「専門性を有する者が要する資格又は意思疎通の専門性」欄には、次のⅰからⅲまでのいずれかの 内容を記載してください。 ⅰ 視覚障害児の専門性については、点字の指導、点訳、歩行支援等に関する専門性 ⅱ 聴覚障害児又は言語機能障害児の専門性については、手話通訳等に関する専門性 ⅲ 障害のある当事者が支援する場合には、障害特性に応じて、当事者としての経験に基づき コミュニケーション支援を行うことができる経験

Sheet 別紙73
B1: （別紙73）
G2: 年 月 日
A3: 人工内耳装用児支援加算に関する届出書
B5: 事業所・施設の名称 | C5: =様式第1号【必ず提出】!J31 -> 0
B6: １ 異動区分 | C6: ① 新規 ② 変更 ③ 終了
B7: ２ 届出項目 | C7: １ 人工内耳装用加算(Ⅰ） ２ 人工内耳装用加算(Ⅱ)
B8: ３ 聴力検査室の 設置状況 ※児童発達支援セン ターのみ | C8: ① あり ② なし
B9: ４．言語聴覚士の配置
B10: 人工内耳装用加算（Ⅰ）
F11: 人数等
D12: 言語聴覚士（常勤換算） | F12: 人
B14: 人工内耳装用加算（Ⅱ）
F15: 人数等
D16: 言語聴覚士 | F16: 人
B19: 備考１ 「異動区分」欄については、該当する番号に○を付してください。
B20: ２ 「届出項目」欄については、該当する番号に○を付してください。
B21: ３ 「聴力検査室の設置状況」欄については、該当する番号に○を付してください。 また、新規の場合は、聴力検査室の設置状況がわかる図面又は写真を提出し てください。
B22: ４ 人工内耳装用児支援加算（Ⅰ）については、児童発達支援センターのみ算定が 可能です。
B23: ５ 「言語聴覚士の配置」欄のうち、人工内耳装用児加算（Ⅰ）の言語聴覚士の配置 は基準人員に加えて配置する（加配する）人員数について記載してください。なお、 旧主として難聴児を通わせる児童発達支援センターにあっては、本加算の算定に必要な 言語聴覚士の配置は加配ではなく、配置している人員数を記載する点に留意ください。
B24: ６ 資格等を求める配置については、配置する職員の資格等を証明する書類を添付 してください。

Sheet 別紙74
B1: （別紙74）
F2: 年 月 日
B4: 入浴支援加算に関する届出書
B6: １ 事業所の名称 | D6: =様式第1号【必ず提出】!J31 -> 0
B7: ２ 異動区分 | C7: １ 新規 ２ 変更 ３ 終了
B8: ３ 入浴設備 | C8: １ あり ２なし
B9: ４ 安全計画の整備 | C9: １ あり ２なし
B11: 備考１ 「異動区分」、「届出項目」欄については、該当する番号に○を付してください。
B12: ２ 新規の場合は、入浴設備がわかる図面又は写真を提出してください。
B13: ３ 入浴に係る安全確保の取り組みを記載した安全計画を提出してください。

Sheet 別紙75
B1: （別紙75）
F2: 年 月 日
A4: 共生型サービス体制強化加算・共生型サービス医療的ケア児支援加算に関する届出書
B6: 事業所・施設の名称
B7: サービス種別 | C7: ①児童発達支援 ②放課後等デイサービス
B8: １ 異動区分 | C8: ① 新規 ② 変更 ③ 終了
B9: ２ 児童発達支援管理責任 者等の配置の状況
C10: （共生型サービス体制強化加算を算定する場合）
D11: 児童発達支援管理責任者 | E11: 人
D12: 保育士又は児童指導員 | E12: 人
B14: ３ 看護職員の配置の状況
C15: （共生型サービス医療的ケア児支援加算を算定する場合）
D16: 看護職員 | E16: 人
B18: ４ 地域に貢献する 活動の内容 | C18: 【自由記述】
B22: 備考１ 「異動区分」欄及び「サービス種別」欄については、該当する番号に○を付してください。
B23: ２ 資格等を求める配置については、配置する職員の資格等を証明する書類を添付してください。

Sheet 別紙76
B1: （別紙76）
G2: 年 月 日
A4: 保育職員加配加算に関する届出書
B6: 施設の名称 | C6: =様式第1号【必ず提出】!J31 -> 0
B7: １ 異動区分 | C7: １ 新規 ２ 変更 ３ 終了
B8: ２ 保育職員の状況
F9: 人数等
D10: 基準人数 A | F10: 人
D11: 従業者の総数 B （常勤換算） | F11: 人
E12: うち児童指導員の員数 | F12: 人
E13: うち保育士の員数 | F13: 人
D14: 加配人数 （B－A） | F14: 人
B17: 備考１ 「異動区分」欄については、該当する番号に○を付してください。
B18: ２ 資格等を求める配置については、配置する職員の資格等を証明する書類を添付してください。

Sheet 別紙77 
B1: （別紙77）
F2: 年 月 日
A4: 個別サポート加算（Ⅰ）に関する届出書
B6: 事業所・施設の名称 | C6: =様式第1号【必ず提出】!J31 -> 0
B7: １ 異動区分 | C7: ① 新規 ② 変更 ③ 終了
B8: ２ サービス種別 | C8: 放課後等デイサービス
B9: ３ 職員の勤務体制
D11: １ 強度行動障害支援者養成研修（基礎研修）修了者 配置
B13: 備考１ 「異動区分」欄については、該当する番号に○を付してください。
B14: ２ 資格等を求める配置については、配置する職員の資格等を証明する書類を添付してください。

Sheet 別紙78
C1: （別紙78）
G2: 年 月 日
B4: 訪問支援員に関する届出書 (訪問支援員特別加算・多職種連携加算・ケアニーズ対応加算関係)
B6: 事業所・施設の名称 | E6: =様式第1号【必ず提出】!J31 -> 0
B7: サービス種別 | E7: ① 居宅訪問型児童発達支援 ② 保育所等訪問支援
B8: 異動区分 | E8: ① 新規 ② 変更 ③ 終了
B10: ○訪問支援員の配置状況
B11: 氏名 | E11: 職種（資格） | G11: 資格取得日 | H11: 障害児支援 経験年数
B12: 1 | H12: 年 月
H13: 年 月
H14: 年 月
H15: 通算： 年 月
B17: 氏名 | E17: 職種（資格） | G17: 資格取得日 | H17: 障害児支援 経験年数
B18: 2 | H18: 年 月
H19: 年 月
H20: 年 月
H21: 通算： 年 月
B23: 氏名 | E23: 職種（資格） | G23: 資格取得日 | H23: 障害児支援 経験年数
B24: 3 | H24: 年 月
H25: 年 月
H26: 年 月
H27: 通算： 年 月
B29: 備考１ 「異動区分」欄及び「サービス種別」欄については、該当する番号に○を付し てください。
B30: ２ 事業所に配置されている訪問支援員について記載してください。記入欄が不足 する場合は、適宜追加してください。
B31: ３ 障害児支援経験年数には、資格取得後の障害児支援事業所等又は任用後の障害児 支援事業所等の実務経験年数を記載してください。また、実務経験を証明する書類 を添付してください。
B32: ４ 資格等を求める配置については、配置する職員の資格等を証明する書類を添付して ください。

Sheet 別紙79-１
B1: （別紙79-１）
F2: 年 月 日
B4: 重度障害児支援加算に関する届出書
B6: １ 施設の名称 | D6: =様式第1号【必ず提出】!J31 -> 0
B7: ２ 異動区分 | C7: １ 新規 ２ 変更 ３ 終了
B9: ３ 重度棟の設置状況
D10: 重度棟の設置の有無 | E10: 有 （定員 人）
E11: 無
B14: 備考１ 「異動区分」欄については、該当する番号に○を付してください。
B15: ２ 「重度棟の設置状況」には、重度棟の有無について、該当する番号に○を付し、有の場合は定員を 記載してください。
B16: ３ 重度棟の設置がない場合、施設平面図と職員の勤務体制一覧を添付してください。

Sheet 別紙79-２
B1: （別紙79-2）
F2: 年 月 日
A4: 重度障害児支援加算（実践研修等修了分）に関する届出書
B6: 事業所・施設の名称 | D6: =様式第1号【必ず提出】!J31 -> 0
B7: 異動区分 | C7: １ 新規 ２ 変更 ３ 終了
B8: 職員の勤務体制 | C8: 強度行動障害支援者養成研修（実践研修）修了者 配置
B10: 備考１ 「異動区分」欄については、該当する番号に○を付してください。
B11: ２ 資格等を求める配置については、配置する職員の資格等を証明する書類を添付してください。

Sheet 別紙80
A1: （別紙80）
F2: 年 月 日
A4: 日中活動支援加算に関する届出書
A6: １ 事業所・施設の名称 | C6: =様式第1号【必ず提出】!J31 -> 0
A7: ２ 異動区分 | B7: １ 新規 ２ 変更 ３ 終了
A8: 職業指導員氏名 | E8: 経験年数
A10: 備考１ 「異動区分」欄については、該当する番号に○を付してください。
A11: ２ 資格等を求める配置については、配置する職員の資格等を証明する書類を添付してください。

Sheet 別紙81
B1: （別紙81）
F2: 年 月 日
A4: 強度行動障害児特別支援加算に関する届出書 （福祉型障害児入所施設・医療型障害児入所施設）
B6: 事業所・施設の名称 | D6: =様式第1号【必ず提出】!J31 -> 0
B7: １ 異動区分 | C7: ① 新規 ② 変更 ③ 終了
B8: ２ 届出項目 | C8: ① 強度行動障害児特別支援加算（Ⅰ） ② 強度行動障害児特別支援加算（Ⅱ）
B9: ３ 職員の勤務体制 | D9: （１）医師の勤務体制
D10: 職種 | E10: 員数 | F10: 1月あたりの勤務日数
D11: 医師
D13: （２）児童指導員の員数
D14: 職種 | E14: 員数（常勤） | F14: 基準上必要な数
D15: 児童指導員
D17: （３）心理担当職員
D18: 職種 | E18: 氏名
D22: （４）加算（Ⅰ）
D23: １ 強度行動障害支援者養成研修（実践研修）修了者 配置
D25: （５）加算（Ⅱ）
D26: １ 強度行動障害支援者養成研修（中核的人材）修了者 配置
B28: ４ 一時的に落ち着く ことのできる空間の 有無 | C28: ①あり ②なし
B30: 備考１ 「異動区分」欄については、該当する番号に○を付してください。
B31: ２ 医師については、経歴が分かる書類を添付してください。
B32: ３ 心理担当職員については、加算を開始しようとする月の勤務割表を添付してください。
B33: ４ 資格等を求める配置については、配置する職員の資格等を証明する書類を添付してください。

Sheet 別紙82-１
B1: （別紙82-１）
H2: 年 月 日
B4: 心理担当職員配置加算・要支援児童加算に関する届出書
B6: １ 施設の名称 | D6: =様式第1号【必ず提出】!J31 -> 0
B7: ２ 施設種別 | D7: １ 福祉型障害児入所施設 ２ 医療型障害児入所施設
B8: ３ 届け出る加算 | D8: １ 心理担当職員配置加算 ２ 要支援児童加算 ３ １及び２
B9: ４ 異動区分 | D9: １ 新規 ２ 変更 ３ 終了
B11: ５ 心理担当職員
E12: 氏名 | G12: 障害児支援に従事した 経験年数
E13: 氏名 | G13: 障害児支援に従事した 経験年数
B15: ６ 心理支援に必要 な部屋・設備
B17: 備考１ | C17: 「施設種別」欄、「届け出る加算」欄、「移動区分」欄については、該当する番号に ○を付してください。
B18: ２ | C18: 心理支援を行う部屋・設備については、具体的に記載するほか、図面等を添付して ください。
B19: ３ | C19: 心理担当職員配置加算に関する届出にあっては、心的外傷のため心理支援を必要と する障害児について、別紙名簿を提出し、対象児童に変更があった場合は、その 都度、別紙名簿のみを提出してください。
B20: ４ | C20: 心理担当職員配置加算を算定する場合には、「５ 心理担当職員」欄の「障害児支援 に従事した経験年数」を記載するとともに、実務経験を証明する書類を添付してくだ さい。
B21: ５ | C21: 資格等を求める配置については、配置する職員の資格等を証明する書類を添付してく ださい。

Sheet 別紙82-２
B2: （別紙82-２） | H2: 年 月 日
B4: 心的外傷のため心理支援を必要とする障害児名簿 （心理担当職員配置加算関係）
B6: 施設の名称 | D6: =様式第1号【必ず提出】!J31 -> 0
B7: 公認心理師資格の有無 | D7: ① 有 ② 無
B9: 氏名 | E9: 年齢 | F9: 入所日 | H9: 備考
B10: 1
B11: 2
B12: 3
B13: 4
B14: 5
B15: 6
B16: 7
B17: 8
B18: 9
B19: 10
B21: 備考１ | C21: 備考欄には、「契約による入所、措置による入所」の区別等を記入してください。
B22: ２ | C22: 心的外傷のため心理療法を必要とする障がい児かどうかの判断のため、福祉総合相談センター又は各児童相談所が作成した対象児童名簿の写しを添付してください。 ※福祉総合相談センター及び各児童相談所においては、対象児童について適宜名簿を作成し、各施設あて送付してください。
B23: ３ | C23: 資格等を求める配置については、配置する職員の資格等を証明する書類を添付してください。

Sheet 別紙83
B1: （別紙83）
J2: 年 月 日
B4: 看護職員配置加算に関する届出書
B6: 事業所の名称 | E6: =様式第1号【必ず提出】!J31 -> 0
B7: 事業所の所在地
B8: 異動区分 | E8: ① 新規 ② 変更 ③ 終了
B9: 連絡先 | D9: 電話番号 | H9: 担当者名
D10: FAX番号
B11: 看護職員の配置状況 | E11: 保健師 | F11: 常勤換算 | H11: 人
E12: 助産師 | F12: 常勤換算 | H12: 人
E13: 看護師 | F13: 常勤換算 | H13: 人
E14: 准看護師 | F14: 常勤換算 | H14: 人
B15: 医療的ケア児の医療的ケアスコア
D16: 月 | E16: ①利用した医療的ケア児のスコア（※） | G16: ②開所日数 | H16: ③医療的ケアスコアの 合計の点数 （①÷②）
D17: ４月
D18: ５月
D19: ６月
D20: ７月
D21: ８月
D22: ９月
D23: 10月
D24: 11月
D25: 12月
D26: １月
D27: ２月
D28: ３月
D29: 合計 | E29: =SUM(E17:F28) -> 0 | G29: =SUM(G17:G28) -> 0 | H29: =E29/G29 -> #DIV/0!
B38: 備考１ 「異動区分」欄については、該当する番号に○を付してください。
B39: ２ 資格等を求める配置については、配置する職員の資格等を証明する書類を添付し てください。

Sheet 別紙84
B1: （別紙84）
G2: 年 月 日
A4: 児童指導員等加配加算に関する届出書（福祉型障害児入所施設）
B6: 事業所・施設の名称 | C6: =様式第1号【必ず提出】!J31 -> 0
B7: １ 異動区分 | C7: ① 新規 ② 変更 ③ 終了
B8: ２ 従業者の状況
F9: 人数等
D10: 基準人数の総数 A | F10: 人
D11: 従業者の総数 B （常勤換算） | F11: 人
E12: うち理学療法士等の員数 | F12: 人
E13: うち児童指導員等の員数 | F13: 人
D14: 加配人数 （B－A） | F14: 人
B17: 備考１ 「異動区分」欄については、該当する番号に○を付してください。
B18: ２ 「うち理学療法士等の員数」には、サービス毎に配置されている理学療法士、作業療法 士、言語聴覚士、保育士、心理担当職員又は視覚障害者の生活訓練の養成を行う研修 を終了した従業者の数を単位別に記載してください。
B20: ３ 「うち児童指導員等の員数」には、サービス毎に配置されている児童指導員又は強度行 動障害支援者養成研修（基礎研修）を修了した指導員の数を単位別に記載してください。
B22: ４ 資格等を求める配置については、配置する職員の資格等を証明する書類を添付してくだ さい。
B24: ５ 「算定に必要となる従業者」とは、障害児に対して一定の割合で配置する必要がある 児童指導員又は保育士のみを指すのではなく、指定基準に定める全ての職種を指したも のです。よって、例えば、児童指導員や保育士を指定基準で置くこととしている員数 ＋１の配置がされていても、児童発達支援管理責任者に欠如が生じている等の場合は、 本加算を算定することはできない点に留意ください。

Sheet 別紙85-1
B1: （別紙85-1）
G2: 年 月 日
B4: 自活訓練加算に関する届出書
B6: 施設の名称 | D6: =様式第1号【必ず提出】!J31 -> 0
B7: １ 異動区分 | C7: １ 新規 ２ 変更 ３ 終了
B8: ２ 届出項目 | C8: １ 自活訓練加算(Ⅰ） ２ 自活訓練加算(Ⅱ)
B10: ３ 自活訓練の 場所
D12: １ 施設の同一敷地内 | E12: → | F12: Ⅰを算定
D13: ２ それ以外の場所 | E13: → | F13: 隣接した借家等において訓練を 行った場合、Ⅱを算定。
B15: ４ 過去２か年度 の退所状況
E16: 加算対象人数 | F16: 退所人数
D17: 年度
D18: 年度
D19: ※措置費による加算対象者も含めて記載
B22: 備考１ 「異動区分」、「届出項目」、「自活訓練の場所」欄については、該当する番号に○を付して ください。
B23: ２ 「過去２か年度の退所状況」欄には、加算の対象となる自活訓練を行おうとする年度の前年度 及び前々年度の状況を記載してください。
B25: （過去２か年度の自活訓練修了者のうち１人以上が就労等による退所をしていない場合は算定 できません）
B26: ３ 加算の対象となる障害児について、別紙名簿等を提出してください。
B27: ４ 過去２か年度の退所状況により算定の可否を判断するため、年度ごとに届出が必要です。

Sheet 別紙85-2
B1: （別紙85-2）
H2: 年 月 日
B4: 自活訓練を必要とする障害児名簿等 （自活訓練加算関係）
B6: 施設の名称 | D6: =様式第1号【必ず提出】!J31 -> 0
B8: １ 対象児童
B9: 氏名 | E9: 年齢（学年等） | F9: 自活訓練の期間 | H9: 備考
B10: 1
B11: 2
B12: 3
B13: 4
B14: 5
B16: ２ 担当職員
B17: 氏名 | E17: 職種 | F17: 指導経験年数 | H17: 備考
B18: 1 | F18: 年 月（ 年 月） | H18: 実務上の責任者
B19: 2 | F19: 年 月（ 年 月）
B20: 3 | F20: 年 月（ 年 月）
B21: 4 | F21: 年 月（ 年 月）
B23: ３ 居住場所
B24: 住居区分 | D24: 自活訓練専用棟 ・ 職員宿舎 ・ アパート ・ その他（ ）
B25: 自活訓練の場所 | D25: 施設の同一敷地内 ・ それ以外の場所
B26: 建物構造 | G26: ㎡
B27: 建物面積 | G27: ㎡ | H27: （うち居室数 室）
B28: 建物利用面積 | G28: ㎡ | H28: （原則として個室又は２人部屋）
B29: 対象者の居室 | G29: ㎡
B30: 居室の設備
B32: 備考１ 「１ 対象児童」及び「２ 担当職員」の備考欄には、「契約による入所、措置による入所」の 区別等を記入してください。
B33: ２ 「２ 担当職員」の指導経験年数には、現に勤務する施設の勤続年数を記入し、（ ）には、他 の社会福祉施設での障害児(者)の福祉に従事した通算勤続年数を記入してください。
B34: ３ 施設と居住場所との位置図・居住場所の平面図及び自活訓練計画書（指導員のチーム編成・勤務 形態・日課・スケジュール・実習予定先等）を添付してください。

Sheet 別紙86
B1: （別紙86）
F2: 年 月 日
A4: 栄養士配置加算・栄養マネジメント加算に関する届出書
B6: 施設の名称 | C6: =様式第1号【必ず提出】!J31 -> 0
B7: ２ 異動区分 | C7: １ 新規 ２ 変更 ３ 終了
B8: ３ 栄養士配置の状況
E9: 常勤 | F9: 非常勤
D10: 管理栄養士 | E10: 人 | F10: 人
D11: 栄養士 | E11: 人 | F11: 人
B13: ４ 栄養マネジメントの 状況
D14: 常勤の管理栄養士 | E14: 人
D16: 栄養マネジメントに関わる者
D17: 職種 | E17: 氏名
D18: 医師
D19: 管理栄養士
D20: 看護師
B26: 備考１ 「栄養マネジメントに関わる者」欄には、共同で栄養ケア計画を作成している者の職種及び氏名を 記入してください。
B27: ２ 資格等を求める配置については、配置する職員の資格等を証明する書類を添付してください。

Sheet 別紙87-１
B1: （別紙87-１）
J2: 年 月 日
B4: 小規模グループケア加算に関する届出書
B6: 施設名 | D6: =様式第1号【必ず提出】!J31 -> 0 | H6: 施設種別 | J6: 福祉型 ・ 医療型
H7: 入所定員 | J7: 人
B8: 異動区分 | D8: １．新規 ２．変更 ３．終了
B10: 単位１
B11: 一単位当たりの定員 | E11: 人 | H11: 専任職員の配置 | J11: 人（職種： ）
B13: 設備 | C13: 専用・共用の別 | E13: 備考
B14: 居室 | C14: 専 ・ 共 | E14: 児童一人当たりの面積（ ㎡）
B15: 台所 | C15: 専 ・ 共
B16: 食堂・居間 | C16: 専 ・ 共
B17: 浴室 | C17: 専 ・ 共
B18: 便所 | C18: 専 ・ 共
B19: 玄関 | C19: 専 ・ 共
B20: その他 | C20: 専 ・ 共
B22: 単位２
B23: 一単位当たりの定員 | E23: 人 | H23: 専任職員の配置 | J23: 人（職種： ）
B25: 設備 | C25: 専用・共用の別 | E25: 備考
B26: 居室 | C26: 専 ・ 共 | E26: 児童一人当たりの面積（ ㎡）
B27: 台所 | C27: 専 ・ 共
B28: 食堂・居間 | C28: 専 ・ 共
B29: 浴室 | C29: 専 ・ 共
B30: 便所 | C30: 専 ・ 共
B31: 玄関 | C31: 専 ・ 共
B32: その他 | C32: 専 ・ 共
B33: 備考１ 福祉型障害児入所施設及び医療型障害児入所施設において小規模なグループケアを実施する場合に届け出てください。
B34: ２ 小規模グループケアの単位の定員は、４～８名です。
B35: ３ 居室の床面積は、4.95㎡以上であることが必要です。
B36: ４ 小規模グループケアを実施する場合は、専任の職員として児童指導員又は保育士１名以上を加配し、他の職員と連携してケアを行う必要があります。
B37: ５ 小規模グループケアを行う施設の平面図を添付してください。
B38: ６ 小規模グループケアの単位ごとに届出書を作成してください（表が足りない場合は、適宜追加してください。）
B39: ７ 資格等を求める配置については、配置する職員の資格等を証明する書類を添付してください。
B40: 対象児童の状況
B42: 単位１ | J42: 障害児の人数 | L42: 人
B43: 児童氏名 | E43: 年齢 | F43: 性別 | G43: 本体施設での入所期間 | J43: グループケア実施期間
B53: 単位２ | J53: 障害児の人数 | L53: 人
B54: 児童氏名 | E54: 年齢 | F54: 性別 | G54: 本体施設での入所期間 | J54: グループケア実施期間

Sheet 別紙87-２
B1: （別紙87-２）
M2: 年 月 日
B4: 小規模グループケア加算（サテライト型）に関する届出書
B6: 施設名 | H6: 入所定員 | J6: 人
B8: 異動区分 | D8: １．新規 ２．変更 ３．終了
B10: 単位１
B11: 一単位当たりの定員 | E11: 人 | H11: 専任職員の配置 | J11: 人（職種： ）
B13: 設備 | E13: 備考
B14: 居室 | E14: 児童一人当たりの面積（ ㎡）
B15: 居間
B16: 台所
B17: 食堂
B18: 浴室
B19: 便所
B20: 玄関
B21: その他
B23: 本体施設との距離及び交通経路並びに移動に係る所要時間
B25: 備考１ 福祉型障害児入所施設において、サテライト型として小規模なグループケアを実施する場合に届 け出てください。 ２ 小規模グループケアの単位の定員は、４～６名です。 ３ 居室の床面積は、4.95㎡以上であることが必要です。 ４ 小規模グループケアを実施する場合は、専任の職員として児童指導員又は保育士３以上を配置 し、そのうち１以上は専任としたうえで、他の職員と連携してケアを行うことが必要があります。 ５ 「本体施設との距離及び交通経路並びに移動に係る所要時間」欄には地図等の貼付とすることも できます。 ６ サテライト型として小規模グループケアを行う施設の平面図を添付してください。 ７ 小規模グループケアの単位ごとに届出書を作成してください（表が足りない場合は、適宜追加し てください。） ８ 資格等を求める配置については、配置する職員の資格等を証明する書類を添付してください。
B27: 対象児童の状況
B29: 単位１
B30: 児童氏名 | E30: 年齢 | F30: 性別 | G30: 本体施設での入所期間 | J30: グループケア実施期間

Sheet 別紙88
B1: （別紙88）
E2: 年 月 日
A4: ソーシャルワーカー配置加算に係る届出書
B6: 事業所・施設の名称 | C6: =様式第1号【必ず提出】!J31 -> 0
B7: １ 施設種別 | C7: ① 福祉型障害児入所施設 ② 医療型障害児入所施設
B8: ２ 異動区分 | C8: ① 新規 ② 変更 ③ 終了
B9: ３ 配置する社会 福祉士等の 状況 | D9: 配置する社会福祉士等の資格等 （①か②を記入） | E9: 専従・兼任の別
C10: １人目 | E10: ①専従 ・ ②兼任
C11: ２人目 | E11: ①専従 ・ ②兼任
B15: 備考１ 「施設種別」欄及び「異動区分」欄については、該当する番号に○を付けてください。
B16: ２ 「配置する社会福祉士等の資格等」は、以下の選択肢のいずれかを記入してください。 （両方に該当する場合、①を選択してください）
B18: ３ 「専従・兼任の別」欄は、該当する番号に○を付けてください。なお、「①専従」に○が 付かない場合、加算の対象にならないので注意してください。
B19: ４ 社会福祉士等として専従で配置した従業者は、基準人員としては数えられないことに注意 してください。
B20: ５ 資格等を求める配置については、配置する職員の資格等を証明する書類を添付してください。

Sheet 選択肢
B3: 児童発達支援センター | C3: 61
B4: 児童発達支援 | C4: 61
B5: 児童発達支援（主として重症心身障害児を対象とする場合） | C5: 61
B6: 居宅訪問型児童発達支援 | C6: 65
B7: 放課後等デイサービス | C7: 63
B8: 放課後等デイサービス（主として重症心身障害児を対象とする場合） | C8: 63
B9: 保育所等訪問支援 | C9: 64
B10: 障害児相談支援 | C10: 55
B11: 福祉型障害児入所施設 | C11: 71
B12: 医療型障害児入所施設 | C12: 72

Sheet 選択肢 (2)
A1: ！申請するサービス類型を選択してください | B1: 職種① | C1: 職種② | D1: 職種③ | E1: 職種④ | F1: 職種⑤ | G1: 職種⑥ | H1: 職種⑦ | I1: 職種⑧ | J1: 職種⑨ | K1: 職種⑩
A2: 障害児相談支援 | B2: 管理者 | C2: 相談支援専門員 | D2: 相談支援員
A3: 児童発達支援・放課後等デイサービス | B3: 管理者 | C3: 児童発達支援管理責任者 | D3: 児童指導員 | E3: 保育士 | F3: 機能訓練担当職員 | G3: 看護職員 | H3: その他職員
A4: 児童発達支援・主として重症心身障害児を対象とする場合 | B4: 管理者 | C4: 児童発達支援管理責任者 | D4: 嘱託医 | E4: 看護職員 | F4: 児童指導員 | G4: 保育士 | H4: 機能訓練担当職員 | I4: その他職員
A5: 児童発達支援・児童発達支援センターであるもの | B5: 管理者 | C5: 児童発達支援管理責任者 | D5: 嘱託医 | E5: 児童指導員 | F5: 保育士 | G5: 栄養士 | H5: 調理員 | I5: 機能訓練担当職員 | J5: 看護職員 | K5: その他職員
A6: 保育所等訪問支援 | B6: 管理者 | C6: 児童発達支援管理責任者 | D6: 訪問支援員
A7: 居宅訪問型児童発達支援 | B7: 管理者 | C7: 児童発達支援管理責任者 | D7: 訪問支援員
A8: 福祉型障害児入所施設 | B8: 管理者 | C8: 児童発達支援管理責任者 | D8: 医師 | E8: 看護職員 | F8: 児童指導員 | G8: 保育士 | H8: 栄養士 | I8: 調理員 | J8: 心理担当職員 | K8: その他職員
A9: 医療型障害児入所施設 | B9: 児童発達支援管理責任者 | C9: 医師 | D9: 看護職員 | E9: 児童指導員 | F9: 保育士 | G9: 心理担当職員 | H9: 理学療法士又は作業療法士 | I9: 職業指導員 | J9: その他職員
