Workbook
Name ___________kk29: #REF!
Name ___________kk29: #REF!
Name ___________kk29: #REF!
Name __________kk06: #REF!
Name __________kk06: #REF!
Name __________kk06: #REF!
Name __________kk29: #REF!
Name __________kk29: #REF!
Name __________kk29: #REF!
Name _________kk06: #REF!
Name _________kk06: #REF!
Name _________kk06: #REF!
Name _________kk29: #REF!
Name _________kk29: #REF!
Name _________kk29: #REF!
Name ________kk06: #REF!
Name ________kk06: #REF!
Name ________kk06: #REF!
Name ________kk29: #REF!
Name ________kk29: #REF!
Name ________kk29: #REF!
Name _______kk06: #REF!
Name _______kk06: #REF!
Name _______kk06: #REF!
Name _______kk29: #REF!
Name _______kk29: #REF!
Name _______kk29: #REF!
Name ______kk06: #REF!
Name ______kk06: #REF!
Name ______kk06: #REF!
Name ______kk29: #REF!
Name ______kk29: #REF!
Name ______kk29: #REF!
Name _____kk06: #REF!
Name _____kk06: #REF!
Name _____kk06: #REF!
Name _____kk29: #REF!
Name _____kk29: #REF!
Name _____kk29: #REF!
Name ____kk06: #REF!
Name ____kk06: #REF!
Name ____kk06: #REF!
Name ____kk1: #REF!
Name ____kk1: #REF!
Name ____kk29: #REF!
Name ____kk29: #REF!
Name ____kk29: #REF!
Name ___kk06: #REF!
Name ___kk06: #REF!
Name ___kk06: #REF!
Name ___kk1: #REF!
Name ___kk1: #REF!
Name ___kk29: #REF!
Name ___kk29: #REF!
Name ___kk29: #REF!
Name __kk06: #REF!
Name __kk06: #REF!
Name __kk06: #REF!
Name __kk1: #REF!
Name __kk1: #REF!

Sheet 指定申請書確認表
A1: 新規指定申請書確認表
A2: 【令和８年４月】
A4: 法人名 | E4: 事業所名 | I4: 確認者名
A6: 様式名等 | D6: 大項目 | E6: 小項目 | F6: 記載時の留意事項 | K6: 確認欄
A7: まず最初に | D7: 法令遵守 | E7: 事前確認表 | F7: ＜全事業者対象＞ 指定予定日の前々月15日までに提出していますか？
E8: 事業所等に係る情報の公表 | F8: ＜すでに指定を受けている事業所がある場合＞ 障害者の日常生活及び社会生活を総合的に支援するための法律（以下「法」という。）第76条の３により、指定障害福祉サービス事業者等には事業所等に係る情報の公表が義務付けられています。ＷＡＭ-ＮＥＴの「障害福祉サービス等情報検索」ですでに指定を受けている全ての事業所の直近の情報を公表していますか？
E9: 業務管理体制の届出 | F9: ＜すでに指定を受けている事業所がある場合＞ 法第51条の２並びに第51条の31により、指定障害福祉サービス事業者等並びに指定相談支援事業者は業務管理体制の整備に関する事項の届出が義務付けられています。直近の内容で届け出ていることを確認しましたか？
A10: 様式第１号 指定申請書 | D10: 申請様式の種類 | F10: 規定様式は直近のものを使用していますか？ ※過去の指定申請等の際にダウンロードした様式は使用しないでください。
F11: 日付けは提出日になっていますか？
D12: 申請者（設置者） | E12: 名称及び主たる事務所の所在地 | F12: 法人の名称・所在地は「履歴事項全部証明書」の表記と同様になっていますか？
D13: 指定を受けようとする事業所・施設の種類 | E13: 名称及び事業所（施設）の所在地 | F13: 事業所の名称及び住所は「運営規程」の表記と同様になっていますか？
E14: 主たる事業所名称 | F14: 主たる事業所名称は記載されていますか？ ※多機能型事業所の場合、主たる事業所に統一してください。
D15: 事業の開始予定年月日 | F15: 「事業の開始予定年月日」は記載されていますか？
A16: 各付表 | D16: 管理者・サービス管理責任者・サービス提供責任者・相談支援専門員 | F16: 管理者・サービス管理責任者・サービス提供責任者・相談支援専門員の氏名や住所は参考様式４の「経歴書」と相違ないですか？
D17: 運営・設備に関する基準の確認に必要な事項 | E17: 営業日 | F17: 営業日は「運営規程」と相違ないですか？
E18: 営業時間 | F18: 営業時間は「運営規程」と相違ないですか？
E19: 主たる対象者（共同生活援助のみ） | F19: 主たる対象者は「運営規程」と相違ないですか？
F20: チェック項目にチェックを入れていますか？
E21: 利用料・その他費用 | F21: 「運営規定に定めるとおり」と記載していますので、運営規定に内容が記載されていることを確認してください。
E22: 通常の事業の実施地域 | F22: 通常の事業の実施地域は「運営規定」と相違ないですか？
A23: 別紙２（その１） 多機能型の場合 | D23: 定員 | F23: 多機能型として実施する事業について全て記載していますか？
D24: 申請に係る事業所 | F24: 申請する事業所についての記載となっていますか？
D25: 多機能型の他の事業所 | F25: 当該事業所以外の多機能型としての事業所について記載していますか？
D26: 管理者・サービス管理責任者 | F26: 管理者・サービス管理責任者の氏名や住所等は記載されていますか？
A27: 別紙２（その２）多機能型の場合 | D27: 従業者の職種・員数 | F27: 多機能型として実施する全ての従業員の合計値を記載していますか？
F28: 従業者の職種で記載されている以外の従業員が配置されている場合、「その他の従業員」の欄に記載していますか？
A29: 口座振込（変更）依頼書 | D29: 振込先 | F29: 振込先は正確に記載されていますか（通帳の写し等と突合）？
D30: 委任状 | F30: 申請者と口座名義人が異なる場合は、申請者による委任を行っていますか？ ※異なる場合だけ右欄にチェックしてください。
A31: 従業者の体制及び勤務形態一覧表 | D31: 訪問系・相談系の場合 | E31: 職種 | F31: 「職種」の欄で管理者以外は直接サービス提供職員に係る職種が記載されていますか？
E32: 勤務形態 | F32: 「勤務形態」の欄は、Ａ（常勤・専従）Ｂ（常勤・兼務）Ｃ（非常勤・専従）Ｄ（非常勤・兼務）のいずれかを選択していますか？
E33: 当該事業所・施設において常勤職員が１週間に勤務すべき時間数 | F33: 法人の就業規則に定められている常勤職員の１週間の時間数が入力されていますか？
F34: 勤務表の常勤専従の時間数と相違ないですか？
E35: 兼務先 | F35: 「兼務状況」は記載されていますか？
A36: 従業者の体制及び勤務形態一覧表 | D36: 訪問系・相談系、共同生活援助以外の場合 | E36: 職種 | F36: 「職種」の欄で管理者・サービス管理責任者以外は直接サービス提供職員に係る職種が記載されていますか？
E37: サービス管理責任者① | F37: サービス管理責任者は直接サービス提供職員と兼務していませんか？
E38: サービス管理責任者② | F38: サービス管理責任者は常勤換算に含まれていませんか？
E39: 当該事業所・施設において常勤職員が１週間に勤務すべき時間数 | F39: 法人の就業規則に定められている常勤職員の１週間の時間数が入力されていますか？
E40: 兼務先 | F40: 「兼務状況」は記載されていますか？
E41: 直接支援以外の職員 | F41: 運転手・事務員・調理員等の職員を常勤換算に含めていませんか？
E42: ※就労継続支援事業所のみ確認 | F42: 目標工賃達成指導員は常勤換算から抜いていますか？
...

Sheet 口座振込依頼書
A1: 口座振込（変更）依頼書（兼 受領委任状）
A4: 神奈川県国民健康保険団体連合会理事長 殿
A6: 以下の口座に，次に掲げる介護給付費等の振込を依頼します。
U8: 令和 | AA8: 年 | AG8: 月 | AM8: 日
A11: 申請者（債権者） | C11: 法人名称 ( 開 設 者 ) | AG11: 届出印
C13: 郵便番号 | I13: 〒 | N13: -
C14: 事業所 所在地
C18: 代表者氏名
C20: 事業所名称
C22: 事業所番号
C24: 対象事業名
A27: 送付先 | C27: 郵便番号 | I27: 〒 | K27: =IF(#REF!="","",LEFT(#REF!,3)) -> #REF! | N27: - | O27: =IF(#REF!="","",RIGHT(#REF!,4)) -> #REF!
C28: 送付先住所 | I28: =IF(#REF!="","",#REF!) -> #REF!
I30: =IF(#REF!="","",#REF!) -> #REF!
C32: 宛名 | I32: =IF(#REF!="","",#REF!) -> #REF!
C34: 電話番号 | I34: =IF(#REF!="","",#REF!) -> #REF! | L34: =IF(I34="","","-") -> #REF! | M34: =IF(#REF!="","",#REF!) -> #REF! | P34: =IF(M34="","","-") -> #REF! | Q34: =IF(#REF!="","",#REF!) -> #REF!
A37: 振込先 | C37: 金融機関名 | Y37: 金 融 機 関 コ ー ド
C39: 支店名 | Y39: 支 店 コ ー ド
C41: 口座番号 | W41: 預金種目 | AC41: 1
C43: 口座名義人 | E43: ﾌﾘｶﾞﾅ
E45: 氏名
A49: 受領委任状
C50: 申請者（債権者）は，口座名義人（受任者）に，上記介護給付費等の受領に関する一切の権限を
C51: 委任します。
C52: =U8 -> 令和 | F52: =IF(X8<>"",X8,"") | I52: 年 | J52: =IF(AD8<>"",AD8,"") | M52: 月 | N52: =IF(AJ8<>"",AJ8,"") | Q52: 日
C54: 委任者 | I54: =IF(I18<>"",I18,"") | AK54: 印
I57: ※振込エラー防止のためどちらか一方にチェックをお願いします。
E58: 取扱金融機関の確認を以下に明記します。 | V58: ２枚目に通帳のコピーを添付します。
A60: 金 融 機 関 記 載 欄
I61: 上記口座が存在することを確認しました。
K63: 金融機関名
K65: 確認年月日 | AH65: ㊞
A69: 【振込先金融機関 通帳の写し添付様式】
U72: =$U$8 -> 令和 | AA72: 年 | AG72: 月 | AM72: 日
E75: 事業所名
E81: ※振込先金融機関の通帳の表面の名義人名の写し
D98: こちらに通帳の表面の写しを貼ってください。
E106: ※振込先金融機関の通帳の名義人名カタカナの写し
E123: こちらにカタカナ部分の写しを貼ってください。
T169: 指定年月日

Sheet 別紙１　他法指定事業等
A1: 別紙１
G3: 他の法律において既に指定を受けている事業等について
A5: 法律の名称 | G5: サービスの種類 | K5: 事業所・施設名称 | O5: 指定年月日 | T5: 指定事業所番号

Sheet 別紙２（その１）多機能型
A1: 別紙２（その１）
A2: 指定障害福祉サービス事業所にかかる多機能型による事業を実施する場合の記載事項（総括表）
D4: ＊ 多機能型事業実施時は、各事業の付表とこの別紙を併せて提出してください。
A6: 実施事業 | M6: 生活介護 | S6: 自立訓練 | Y6: 就労移行支援 | AE6: 就労継続支援
S7: （機能） | V7: （生活） | Y7: （通常） | AB7: （資格） | AE7: （Ａ型） | AH7: （Ｂ型） | AL7: 0
I8: 単位の有無 | AL8: FALSE | AM8: TRUE | AN8: FALSE | AO8: FALSE | AP8: FALSE | AQ8: FALSE | AR8: FALSE | AS8: FALSE
A9: 定員 | E9: 合計 | I9: 単位① | R9: 人 | U9: 人 | X9: 人 | AA9: 人 | AD9: 人 | AG9: 人 | AJ9: 人
H10: 人 | I10: 単位② | R10: 人
I11: 単位③ | R11: 人
I12: 単位④ | R12: 人
I13: 単位⑤ | R13: 人
A14: 定員緩和措置の有無 | I14: 2
A15: 申請に係る 事業所 | C15: ﾌﾘｶﾞﾅ
C16: 名 称
C17: 所在地 | I17: 〒 | Q17: ←郵便番号を半角数字７桁で入力してください
C20: 連 絡 先 | I20: 電話番号 | W20: ＦＡＸ番号
A21: 多機能型の他の 事業所Ⅰ | C21: サービス種類 | T21: 事業所番号
C22: ﾌﾘｶﾞﾅ
C23: 名 称
C24: 所在地 | I24: 〒 | Q24: ←郵便番号を半角数字７桁で入力してください
C27: 連 絡 先 | I27: 電話番号 | W27: ＦＡＸ番号
A28: 多機能型の他の 事業所Ⅱ | C28: サービス種類
C29: ﾌﾘｶﾞﾅ
C30: 名 称
C31: 所在地 | I31: 〒 | Q31: ←郵便番号を半角数字７桁で入力してください
C34: 連 絡 先 | I34: 電話番号 | W34: ＦＡＸ番号
A35: 多機能型の他の 事業所Ⅲ | C35: サービス種類
C36: ﾌﾘｶﾞﾅ
C37: 名 称
C38: 所在地 | I38: 〒 | Q38: ←郵便番号を半角数字７桁で入力してください
C41: 連 絡 先 | I41: 電話番号 | W41: ＦＡＸ番号
A42: 多機能型の他の 事業所Ⅳ | C42: サービス種類
C43: ﾌﾘｶﾞﾅ
C44: 名 称
C45: 所在地 | I45: 〒 | Q45: ←郵便番号を半角数字７桁で入力してください
C48: 連 絡 先 | I48: 電話番号 | W48: ＦＡＸ番号
A49: 管理者 | C49: ﾌﾘｶﾞﾅ
C50: 氏 名
C51: 住 所 | I51: 〒 | Q51: ←郵便番号を半角数字７桁で入力してください
C54: 他の事業所又は施設の従業者との兼務（兼務の場合記入） | O54: 事業所等の名称
...

Sheet 別紙２（その２）多機能型
A1: 別紙２（その２）
A4: 従業者の職種・員数
A5: (単位：人） | I5: サービス 管理責任者 | M5: 医師 | Q5: 看護職員 | U5: 生活支援員 | AG5: 就労支援員
U6: 合計 | Y6: 通所 | AC6: 訪問
I7: 専従 | K7: 兼務 | M7: 専従 | O7: 兼務 | Q7: 専従 | S7: 兼務 | U7: 専従 | W7: 兼務 | Y7: 専従 | AA7: 兼務 | AC7: 専従 | AE7: 兼務 | AG7: 専従 | AI7: 兼務
A8: 合計 | C8: 従業者数 | F8: 常勤
F9: 非常勤
C10: 常勤換算後の人数
C11: ※基準上の必要人数
A12: (単位：人） | I12: 理学療法士等 | Y12: 職業指導員
I13: 合計 | M13: 理学療法士 | Q13: 作業療法士 | U13: 機能訓練指導員 | Y13: 合計 | AC13: 右記以外 | AG13: 兼教官
I14: 専従 | K14: 兼務 | M14: 専従 | O14: 兼務 | Q14: 専従 | S14: 兼務 | U14: 専従 | W14: 兼務 | Y14: 専従 | AA14: 兼務 | AC14: 専従 | AE14: 兼務 | AG14: 専従 | AI14: 兼務
A15: 合計 | C15: 従業者数 | F15: 常勤
F16: 非常勤
C17: 常勤換算後の人数
C18: ※基準上の必要人数
A19: (単位：人） | I19: その他の従業者
I21: 専従 | K21: 兼務 | M21: 専従 | O21: 兼務 | Q21: 専従 | S21: 兼務 | U21: 専従 | W21: 兼務 | Y21: 専従 | AA21: 兼務 | AC21: 専従 | AE21: 兼務 | AG21: 専従 | AI21: 兼務
A22: 合計 | C22: 従業者数 | F22: 常勤
F23: 非常勤
C24: 常勤換算後の人数
C25: ※基準上の必要人数
A26: （備考）
A27: １．「※」のついた欄には、記載しないでください。
A28: ２． 多機能型に従事するすべての従業者の員数を記載してください。
A29: ３． 新設の場合には、「前年度平均入所者数」欄は推定数を記入してください。

Sheet 勤務形態一覧表（居宅介護）
A1: 従業者の勤務の体制及び勤務形態一覧表 | AI1: サービス種別 | AK1: 居宅介護
M2: 2026 | Q2: 年 | S2: 4 | U2: 月 | AI2: 事業所名
AI3: (1)記載する期間 | AK3: ４週
AI4: (2)予定/実績の別
AG5: (3)事業所における常勤の従業者が勤務すべき時間数 | AK5: 時間/週 | AM5: 時間/月
A7: No. | B7: (4)職種 | C7: (5)勤務形態 | D7: (6)資格 | E7: (7)氏名 | F7: (8) | AK7: (9)勤務時間数合計 | AL7: (10)週平均の勤務時間数 | AM7: (11)兼務状況 （兼務先／兼務する職務の内容）等
F8: 第１週 | M8: 第２週 | T8: 第３週 | AA8: 第４週 | AH8: 第５週
B9: ※選択肢にない職種については直接入力してください | F9: =DATE($M$2,$S$2,1) -> 46113 | G9: =DATE($M$2,$S$2,2) -> 46114 | H9: =DATE($M$2,$S$2,3) -> 46115 | I9: =DATE($M$2,$S$2,4) -> 46116 | J9: =DATE($M$2,$S$2,5) -> 46117 | K9: =DATE($M$2,$S$2,6) -> 46118 | L9: =DATE($M$2,$S$2,7) -> 46119 | M9: =DATE($M$2,$S$2,8) -> 46120 | N9: =DATE($M$2,$S$2,9) -> 46121 | O9: =DATE($M$2,$S$2,10) -> 46122 | P9: =DATE($M$2,$S$2,11) -> 46123 | Q9: =DATE($M$2,$S$2,12) -> 46124 | R9: =DATE($M$2,$S$2,13) -> 46125 | S9: =DATE($M$2,$S$2,14) -> 46126 | T9: =DATE($M$2,$S$2,15) -> 46127 | U9: =DATE($M$2,$S$2,16) -> 46128 | V9: =DATE($M$2,$S$2,17) -> 46129 | W9: =DATE($M$2,$S$2,18) -> 46130 | X9: =DATE($M$2,$S$2,19) -> 46131 | Y9: =DATE($M$2,$S$2,20) -> 46132 | Z9: =DATE($M$2,$S$2,21) -> 46133 | AA9: =DATE($M$2,$S$2,22) -> 46134 | AB9: =DATE($M$2,$S$2,23) -> 46135 | AC9: =DATE($M$2,$S$2,24) -> 46136 | AD9: =DATE($M$2,$S$2,25) -> 46137 | AE9: =DATE($M$2,$S$2,26) -> 46138 | AF9: =DATE($M$2,$S$2,27) -> 46139 | AG9: =DATE($M$2,$S$2,28) -> 46140 | AH9: =IF(DAY(EOMONTH(F9,0))<29,"",DATE($M$2,$S$2,29)) -> 46141 | AI9: =IF(DAY(EOMONTH(F9,0))<30,"",DATE($M$2,$S$2,30)) -> 46142 | AJ9: =IF(DAY(EOMONTH(F9,0))<31,"",DATE($M$2,$S$2,31))
F10: =DATE($M$2,$S$2,1) -> 46113 | G10: =DATE($M$2,$S$2,2) -> 46114 | H10: =DATE($M$2,$S$2,3) -> 46115 | I10: =DATE($M$2,$S$2,4) -> 46116 | J10: =DATE($M$2,$S$2,5) -> 46117 | K10: =DATE($M$2,$S$2,6) -> 46118 | L10: =DATE($M$2,$S$2,7) -> 46119 | M10: =DATE($M$2,$S$2,8) -> 46120 | N10: =DATE($M$2,$S$2,9) -> 46121 | O10: =DATE($M$2,$S$2,10) -> 46122 | P10: =DATE($M$2,$S$2,11) -> 46123 | Q10: =DATE($M$2,$S$2,12) -> 46124 | R10: =DATE($M$2,$S$2,13) -> 46125 | S10: =DATE($M$2,$S$2,14) -> 46126 | T10: =DATE($M$2,$S$2,15) -> 46127 | U10: =DATE($M$2,$S$2,16) -> 46128 | V10: =DATE($M$2,$S$2,17) -> 46129 | W10: =DATE($M$2,$S$2,18) -> 46130 | X10: =DATE($M$2,$S$2,19) -> 46131 | Y10: =DATE($M$2,$S$2,20) -> 46132 | Z10: =DATE($M$2,$S$2,21) -> 46133 | AA10: =DATE($M$2,$S$2,22) -> 46134 | AB10: =DATE($M$2,$S$2,23) -> 46135 | AC10: =DATE($M$2,$S$2,24) -> 46136 | AD10: =DATE($M$2,$S$2,25) -> 46137 | AE10: =DATE($M$2,$S$2,26) -> 46138 | AF10: =DATE($M$2,$S$2,27) -> 46139 | AG10: =DATE($M$2,$S$2,28) -> 46140 | AH10: =IF(DAY(EOMONTH(F10,0))<29,"",DATE($M$2,$S$2,29)) -> 46141 | AI10: =IF(DAY(EOMONTH(F10,0))<30,"",DATE($M$2,$S$2,30)) -> 46142 | AJ10: =IF(DAY(EOMONTH(F10,0))<31,"",DATE($M$2,$S$2,31))
A11: 1 | B11: 管理者 | C11: A | E11: A
A12: 2 | B12: サービス提供責任者 | C12: B | E12: B | AK12: =+SUM(F12:AJ12) -> 0 | AL12: =IF($AK$3="４週",AK12/4,AK12/(DAY(EOMONTH($F$9,0))/7)) -> 0
A13: 3 | B13: サービス提供責任者 | C13: C | E13: C | AK13: =+SUM(F13:AJ13) -> 0 | AL13: =IF($AK$3="４週",AK13/4,AK13/(DAY(EOMONTH($F$9,0))/7)) -> 0
A14: 4 | B14: 従業者 | C14: C | E14: D | AK14: =+SUM(F14:AJ14) -> 0 | AL14: =IF($AK$3="４週",AK14/4,AK14/(DAY(EOMONTH($F$9,0))/7)) -> 0
A15: 5 | B15: 従業者 | C15: C | E15: E | AK15: =+SUM(F15:AJ15) -> 0 | AL15: =IF($AK$3="４週",AK15/4,AK15/(DAY(EOMONTH($F$9,0))/7)) -> 0
A16: 6 | B16: 従業者 | C16: D | E16: F | AK16: =+SUM(F16:AJ16) -> 0 | AL16: =IF($AK$3="４週",AK16/4,AK16/(DAY(EOMONTH($F$9,0))/7)) -> 0
A17: 7 | B17: 従業者 | C17: D | E17: G | AK17: =+SUM(F17:AJ17) -> 0 | AL17: =IF($AK$3="４週",AK17/4,AK17/(DAY(EOMONTH($F$9,0))/7)) -> 0
A18: 8 | B18: 従業者 | C18: D | E18: H | AK18: =+SUM(F18:AJ18) -> 0 | AL18: =IF($AK$3="４週",AK18/4,AK18/(DAY(EOMONTH($F$9,0))/7)) -> 0
A19: 9 | B19: 従業者 | C19: D | E19: I | AK19: =+SUM(F19:AJ19) -> 0 | AL19: =IF($AK$3="４週",AK19/4,AK19/(DAY(EOMONTH($F$9,0))/7)) -> 0
A20: 10 | B20: 従業者 | C20: D | E20: J | AK20: =+SUM(F20:AJ20) -> 0 | AL20: =IF($AK$3="４週",AK20/4,AK20/(DAY(EOMONTH($F$9,0))/7)) -> 0
A21: 11 | AK21: =+SUM(F21:AJ21) -> 0 | AL21: =IF($AK$3="４週",AK21/4,AK21/(DAY(EOMONTH($F$9,0))/7)) -> 0
A22: 12 | AK22: =+SUM(F22:AJ22) -> 0 | AL22: =IF($AK$3="４週",AK22/4,AK22/(DAY(EOMONTH($F$9,0))/7)) -> 0
A23: 13 | AK23: =+SUM(F23:AJ23) -> 0 | AL23: =IF($AK$3="４週",AK23/4,AK23/(DAY(EOMONTH($F$9,0))/7)) -> 0
A24: 14 | AK24: =+SUM(F24:AJ24) -> 0 | AL24: =IF($AK$3="４週",AK24/4,AK24/(DAY(EOMONTH($F$9,0))/7)) -> 0
A25: 15 | AK25: =+SUM(F25:AJ25) -> 0 | AL25: =IF($AK$3="４週",AK25/4,AK25/(DAY(EOMONTH($F$9,0))/7)) -> 0
A26: 16 | AK26: =+SUM(F26:AJ26) -> 0 | AL26: =IF($AK$3="４週",AK26/4,AK26/(DAY(EOMONTH($F$9,0))/7)) -> 0
A27: 17 | AK27: =+SUM(F27:AJ27) -> 0 | AL27: =IF($AK$3="４週",AK27/4,AK27/(DAY(EOMONTH($F$9,0))/7)) -> 0
A28: 18 | AK28: =+SUM(F28:AJ28) -> 0 | AL28: =IF($AK$3="４週",AK28/4,AK28/(DAY(EOMONTH($F$9,0))/7)) -> 0
A29: 19 | AK29: =+SUM(F29:AJ29) -> 0 | AL29: =IF($AK$3="４週",AK29/4,AK29/(DAY(EOMONTH($F$9,0))/7)) -> 0
A30: 20 | AK30: =+SUM(F30:AJ30) -> 0 | AL30: =IF($AK$3="４週",AK30/4,AK30/(DAY(EOMONTH($F$9,0))/7)) -> 0
A31: 合計 | F31: =+SUM(F11:F30) -> 0 | G31: =+SUM(G11:G30) -> 0 | H31: =+SUM(H11:H30) -> 0 | I31: =+SUM(I11:I30) -> 0 | J31: =+SUM(J11:J30) -> 0 | K31: =+SUM(K11:K30) -> 0 | L31: =+SUM(L11:L30) -> 0 | M31: =+SUM(M11:M30) -> 0 | ... AJ31: =+SUM(AJ11:AJ30) -> 0 | AK31: =+SUM(F31:AJ31) -> 0 | AL31: =IF($AK$3="４週",AK31/4,AK31/(DAY(EOMONTH($F$9,0))/7)) -> 0
A32: サービス提供時間
A37: ＜人員に関する基準＞
A38: （新規申請の場合は推定数） | M38: ○サービス提供責任者 | U38: =IF(COUNTIF(M40:M43,"○")>1,"いずれか１つを選択してください。","")
D39: =IF(S2=1,10,IF(S2=2,11,IF(S2=3,12,S2-3))) -> 1 | E39: =IF(S2=1,11,IF(S2=2,12,S2-2)) -> 2 | F39: =IF(S2=1,12,S2-1) -> 3 | I39: 合計 | M39: 区分 | AH39: 各区分の値とそれに基づく配置数 | AM39: 必要な配置数
A40: 利用者数（通院等乗降介助以外） | D40: 80 | E40: 80 | F40: 81 | I40: =SUM(D40:F40) -> 241 | M40: ○ | N40: 常勤換算方法によらない場合 | Q40: サービス提供時間が450時間又はその端数を増すごとに1人以上 | AH40: =SUM(F32:AJ32) -> 0 | AJ40: h | AK40: =ROUNDUP(AH40/450,0) -> 0 | AM40: =MIN(AH40:AK42) -> 0
A41: 利用者数（通院等乗降介助） | D41: 10 | E41: 15 | F41: 14 | I41: =SUM(D41:H41)*0.1 -> 3.9 | Q41: 従業者数が10人又はその端数を増すごとに1人以上 | AH41: =COUNTA(B12:B30) -> 9 | AJ41: 人 | AK41: =ROUNDUP(AH41/10,0) -> 1
A42: 合計 | D42: =D40+D41*0.1 -> 81 | E42: =E40+E41*0.1 -> 81.5 | F42: =F40+F41*0.1 -> 82.4 | I42: =SUM(D42:H42) -> 244.9 | Q42: 利用者数が40人又はその端数を増すごとに1人以上 | AH42: =ROUNDDOWN(I44,1) -> 81.6 | AJ42: 人 | AK42: =ROUNDUP(IF(X44="",AH42/40,IF(X44="○",AH42/50)),0) -> 3
A43: ※通院等乗降介助のみの利用者については1人0.1人換算 | H43: （平均利用者数） | N43: 常勤換算方法による場合 | AM43: {=ROUNDUP(_xlfn.IFS(AM40<2,1,AND(AM40<=2,AM40<6),AM40-1,AM40>=6,AM40/2*3),1)} -> 1
I44: =I42/3 -> 81.633333 | M44: 次の条件を満たす場合は「○」を選択→
M45: ①常勤のサービス提供責任者を３人以上配置
...

Sheet 勤務形態一覧表（重度訪問介護）
A1: 従業者の勤務の体制及び勤務形態一覧表 | AI1: サービス種別 | AK1: 重度訪問介護
M2: 2024 | Q2: 年 | S2: 5 | U2: 月 | AI2: 事業所名
AI3: (1)記載する期間 | AK3: ４週
AI4: (2)予定/実績の別
AG5: (3)事業所における常勤の従業者が勤務すべき時間数 | AK5: 時間/週 | AM5: 時間/月
A7: No. | B7: (4)職種 | C7: (5)勤務形態 | D7: (6)資格 | E7: (7)氏名 | F7: (8) | AK7: (9)勤務時間数合計 | AL7: (10)週平均の勤務時間数 | AM7: (11)兼務状況 （兼務先／兼務する職務の内容）等
F8: 第１週 | M8: 第２週 | T8: 第３週 | AA8: 第４週 | AH8: 第５週
B9: ※選択肢にない職種については直接入力してください | F9: =DATE($M$2,$S$2,1) -> 45413 | G9: =DATE($M$2,$S$2,2) -> 45414 | H9: =DATE($M$2,$S$2,3) -> 45415 | I9: =DATE($M$2,$S$2,4) -> 45416 | J9: =DATE($M$2,$S$2,5) -> 45417 | K9: =DATE($M$2,$S$2,6) -> 45418 | L9: =DATE($M$2,$S$2,7) -> 45419 | M9: =DATE($M$2,$S$2,8) -> 45420 | N9: =DATE($M$2,$S$2,9) -> 45421 | O9: =DATE($M$2,$S$2,10) -> 45422 | P9: =DATE($M$2,$S$2,11) -> 45423 | Q9: =DATE($M$2,$S$2,12) -> 45424 | R9: =DATE($M$2,$S$2,13) -> 45425 | S9: =DATE($M$2,$S$2,14) -> 45426 | T9: =DATE($M$2,$S$2,15) -> 45427 | U9: =DATE($M$2,$S$2,16) -> 45428 | V9: =DATE($M$2,$S$2,17) -> 45429 | W9: =DATE($M$2,$S$2,18) -> 45430 | X9: =DATE($M$2,$S$2,19) -> 45431 | Y9: =DATE($M$2,$S$2,20) -> 45432 | Z9: =DATE($M$2,$S$2,21) -> 45433 | AA9: =DATE($M$2,$S$2,22) -> 45434 | AB9: =DATE($M$2,$S$2,23) -> 45435 | AC9: =DATE($M$2,$S$2,24) -> 45436 | AD9: =DATE($M$2,$S$2,25) -> 45437 | AE9: =DATE($M$2,$S$2,26) -> 45438 | AF9: =DATE($M$2,$S$2,27) -> 45439 | AG9: =DATE($M$2,$S$2,28) -> 45440 | AH9: =IF(DAY(EOMONTH(F9,0))<29,"",DATE($M$2,$S$2,29)) -> 45441 | AI9: =IF(DAY(EOMONTH(F9,0))<30,"",DATE($M$2,$S$2,30)) -> 45442 | AJ9: =IF(DAY(EOMONTH(F9,0))<31,"",DATE($M$2,$S$2,31)) -> 45443
F10: =DATE($M$2,$S$2,1) -> 45413 | G10: =DATE($M$2,$S$2,2) -> 45414 | H10: =DATE($M$2,$S$2,3) -> 45415 | I10: =DATE($M$2,$S$2,4) -> 45416 | J10: =DATE($M$2,$S$2,5) -> 45417 | K10: =DATE($M$2,$S$2,6) -> 45418 | L10: =DATE($M$2,$S$2,7) -> 45419 | M10: =DATE($M$2,$S$2,8) -> 45420 | N10: =DATE($M$2,$S$2,9) -> 45421 | O10: =DATE($M$2,$S$2,10) -> 45422 | P10: =DATE($M$2,$S$2,11) -> 45423 | Q10: =DATE($M$2,$S$2,12) -> 45424 | R10: =DATE($M$2,$S$2,13) -> 45425 | S10: =DATE($M$2,$S$2,14) -> 45426 | T10: =DATE($M$2,$S$2,15) -> 45427 | U10: =DATE($M$2,$S$2,16) -> 45428 | V10: =DATE($M$2,$S$2,17) -> 45429 | W10: =DATE($M$2,$S$2,18) -> 45430 | X10: =DATE($M$2,$S$2,19) -> 45431 | Y10: =DATE($M$2,$S$2,20) -> 45432 | Z10: =DATE($M$2,$S$2,21) -> 45433 | AA10: =DATE($M$2,$S$2,22) -> 45434 | AB10: =DATE($M$2,$S$2,23) -> 45435 | AC10: =DATE($M$2,$S$2,24) -> 45436 | AD10: =DATE($M$2,$S$2,25) -> 45437 | AE10: =DATE($M$2,$S$2,26) -> 45438 | AF10: =DATE($M$2,$S$2,27) -> 45439 | AG10: =DATE($M$2,$S$2,28) -> 45440 | AH10: =IF(DAY(EOMONTH(F10,0))<29,"",DATE($M$2,$S$2,29)) -> 45441 | AI10: =IF(DAY(EOMONTH(F10,0))<30,"",DATE($M$2,$S$2,30)) -> 45442 | AJ10: =IF(DAY(EOMONTH(F10,0))<31,"",DATE($M$2,$S$2,31)) -> 45443
A11: 1 | B11: 管理者 | C11: A | E11: A
A12: 2 | B12: サービス提供責任者 | C12: B | E12: B | AK12: =+SUM(F12:AJ12) -> 0 | AL12: =IF($AK$3="４週",AK12/4,AK12/(DAY(EOMONTH($F$9,0))/7)) -> 0
A13: 3 | B13: サービス提供責任者 | C13: C | E13: C | AK13: =+SUM(F13:AJ13) -> 0 | AL13: =IF($AK$3="４週",AK13/4,AK13/(DAY(EOMONTH($F$9,0))/7)) -> 0
A14: 4 | B14: 従業者 | C14: C | E14: D | AK14: =+SUM(F14:AJ14) -> 0 | AL14: =IF($AK$3="４週",AK14/4,AK14/(DAY(EOMONTH($F$9,0))/7)) -> 0
A15: 5 | B15: 従業者 | C15: C | E15: E | AK15: =+SUM(F15:AJ15) -> 0 | AL15: =IF($AK$3="４週",AK15/4,AK15/(DAY(EOMONTH($F$9,0))/7)) -> 0
A16: 6 | B16: 従業者 | C16: D | E16: F | AK16: =+SUM(F16:AJ16) -> 0 | AL16: =IF($AK$3="４週",AK16/4,AK16/(DAY(EOMONTH($F$9,0))/7)) -> 0
A17: 7 | B17: 従業者 | C17: D | E17: G | AK17: =+SUM(F17:AJ17) -> 0 | AL17: =IF($AK$3="４週",AK17/4,AK17/(DAY(EOMONTH($F$9,0))/7)) -> 0
A18: 8 | B18: 従業者 | C18: D | E18: H | AK18: =+SUM(F18:AJ18) -> 0 | AL18: =IF($AK$3="４週",AK18/4,AK18/(DAY(EOMONTH($F$9,0))/7)) -> 0
A19: 9 | B19: 従業者 | C19: D | E19: I | AK19: =+SUM(F19:AJ19) -> 0 | AL19: =IF($AK$3="４週",AK19/4,AK19/(DAY(EOMONTH($F$9,0))/7)) -> 0
A20: 10 | B20: 従業者 | C20: D | E20: J | AK20: =+SUM(F20:AJ20) -> 0 | AL20: =IF($AK$3="４週",AK20/4,AK20/(DAY(EOMONTH($F$9,0))/7)) -> 0
A21: 11 | AK21: =+SUM(F21:AJ21) -> 0 | AL21: =IF($AK$3="４週",AK21/4,AK21/(DAY(EOMONTH($F$9,0))/7)) -> 0
A22: 12 | AK22: =+SUM(F22:AJ22) -> 0 | AL22: =IF($AK$3="４週",AK22/4,AK22/(DAY(EOMONTH($F$9,0))/7)) -> 0
A23: 13 | AK23: =+SUM(F23:AJ23) -> 0 | AL23: =IF($AK$3="４週",AK23/4,AK23/(DAY(EOMONTH($F$9,0))/7)) -> 0
A24: 14 | AK24: =+SUM(F24:AJ24) -> 0 | AL24: =IF($AK$3="４週",AK24/4,AK24/(DAY(EOMONTH($F$9,0))/7)) -> 0
A25: 15 | AK25: =+SUM(F25:AJ25) -> 0 | AL25: =IF($AK$3="４週",AK25/4,AK25/(DAY(EOMONTH($F$9,0))/7)) -> 0
A26: 16 | AK26: =+SUM(F26:AJ26) -> 0 | AL26: =IF($AK$3="４週",AK26/4,AK26/(DAY(EOMONTH($F$9,0))/7)) -> 0
A27: 17 | AK27: =+SUM(F27:AJ27) -> 0 | AL27: =IF($AK$3="４週",AK27/4,AK27/(DAY(EOMONTH($F$9,0))/7)) -> 0
A28: 18 | AK28: =+SUM(F28:AJ28) -> 0 | AL28: =IF($AK$3="４週",AK28/4,AK28/(DAY(EOMONTH($F$9,0))/7)) -> 0
A29: 19 | AK29: =+SUM(F29:AJ29) -> 0 | AL29: =IF($AK$3="４週",AK29/4,AK29/(DAY(EOMONTH($F$9,0))/7)) -> 0
A30: 20 | AK30: =+SUM(F30:AJ30) -> 0 | AL30: =IF($AK$3="４週",AK30/4,AK30/(DAY(EOMONTH($F$9,0))/7)) -> 0
A31: 合計 | F31: =+SUM(F11:F30) -> 0 | G31: =+SUM(G11:G30) -> 0 | H31: =+SUM(H11:H30) -> 0 | I31: =+SUM(I11:I30) -> 0 | J31: =+SUM(J11:J30) -> 0 | K31: =+SUM(K11:K30) -> 0 | L31: =+SUM(L11:L30) -> 0 | M31: =+SUM(M11:M30) -> 0 | ... AJ31: =+SUM(AJ11:AJ30) -> 0 | AK31: =+SUM(F31:AJ31) -> 0 | AL31: =IF($AK$3="４週",AK31/4,AK31/(DAY(EOMONTH($F$9,0))/7)) -> 0
A32: サービス提供時間
A37: ＜人員に関する基準＞
A38: （新規申請の場合は推定数） | M38: ○サービス提供責任者 | U38: =IF(COUNTIF(M40:M43,"○")>1,"いずれか１つを選択してください。","")
D39: =IF(S2=1,10,IF(S2=2,11,IF(S2=3,12,S2-3))) -> 2 | E39: =IF(S2=1,11,IF(S2=2,12,S2-2)) -> 3 | F39: =IF(S2=1,12,S2-1) -> 4 | I39: 合計 | M39: 区分 | AH39: 各区分の値とそれに基づく配置数 | AM39: 必要な配置数
A40: 利用者数 | D40: 80 | E40: 80 | F40: 81 | I40: =SUM(D40:F40) -> 241 | M40: ○ | N40: 常勤換算方法によらない場合 | Q40: サービス提供時間が1000時間又はその端数を増すごとに1人以上 | AH40: =SUM(F32:AJ32) -> 0 | AJ40: h | AK40: =ROUNDUP(AH40/1000,0) -> 0 | AM40: =MIN(AH40:AK42) -> 0
H41: （平均利用者数） | Q41: 従業者数が20人又はその端数を増すごとに1人以上 | AH41: =COUNTA(B12:B30) -> 9 | AJ41: 人 | AK41: =ROUNDUP(AH41/20,0) -> 1
I42: =I40/3 -> 80.333333 | Q42: 利用者数が10人又はその端数を増すごとに1人以上 | AH42: =ROUNDDOWN(I42,1) -> 80.3 | AJ42: 人 | AK42: =ROUNDUP(AH42/10,0) -> 9
N43: 常勤換算方法による場合 | AM43: {=ROUNDUP(_xlfn.IFS(AM40<2,1,AND(AM40<=2,AM40<6),AM40-1,AM40>=6,AM40/2*3),1)} -> 1
M44: ※事業所における待機時間や移動時間については、サービス提供時間から除く。
A46: ＜人員基準に関する実人数集計＞
...

Sheet 勤務形態一覧表（同行援護）
A1: 従業者の勤務の体制及び勤務形態一覧表 | AI1: サービス種別 | AK1: 同行援護
M2: 2024 | Q2: 年 | S2: 5 | U2: 月 | AI2: 事業所名
AI3: (1)記載する期間 | AK3: ４週
AI4: (2)予定/実績の別
AG5: (3)事業所における常勤の従業者が勤務すべき時間数 | AH5: 100 | AK5: 時間/週 | AM5: 時間/月
A7: No. | B7: (4)職種 | C7: (5)勤務形態 | D7: (6)資格 | E7: (7)氏名 | F7: (8) | AK7: (9)勤務時間数合計 | AL7: (10)週平均の勤務時間数 | AM7: (11)兼務状況 （兼務先／兼務する職務の内容）等
F8: 第１週 | M8: 第２週 | T8: 第３週 | AA8: 第４週 | AH8: 第５週
B9: ※選択肢にない職種については直接入力してください | F9: =DATE($M$2,$S$2,1) -> 45413 | G9: =DATE($M$2,$S$2,2) -> 45414 | H9: =DATE($M$2,$S$2,3) -> 45415 | I9: =DATE($M$2,$S$2,4) -> 45416 | J9: =DATE($M$2,$S$2,5) -> 45417 | K9: =DATE($M$2,$S$2,6) -> 45418 | L9: =DATE($M$2,$S$2,7) -> 45419 | M9: =DATE($M$2,$S$2,8) -> 45420 | N9: =DATE($M$2,$S$2,9) -> 45421 | O9: =DATE($M$2,$S$2,10) -> 45422 | P9: =DATE($M$2,$S$2,11) -> 45423 | Q9: =DATE($M$2,$S$2,12) -> 45424 | R9: =DATE($M$2,$S$2,13) -> 45425 | S9: =DATE($M$2,$S$2,14) -> 45426 | T9: =DATE($M$2,$S$2,15) -> 45427 | U9: =DATE($M$2,$S$2,16) -> 45428 | V9: =DATE($M$2,$S$2,17) -> 45429 | W9: =DATE($M$2,$S$2,18) -> 45430 | X9: =DATE($M$2,$S$2,19) -> 45431 | Y9: =DATE($M$2,$S$2,20) -> 45432 | Z9: =DATE($M$2,$S$2,21) -> 45433 | AA9: =DATE($M$2,$S$2,22) -> 45434 | AB9: =DATE($M$2,$S$2,23) -> 45435 | AC9: =DATE($M$2,$S$2,24) -> 45436 | AD9: =DATE($M$2,$S$2,25) -> 45437 | AE9: =DATE($M$2,$S$2,26) -> 45438 | AF9: =DATE($M$2,$S$2,27) -> 45439 | AG9: =DATE($M$2,$S$2,28) -> 45440 | AH9: =IF(DAY(EOMONTH(F9,0))<29,"",DATE($M$2,$S$2,29)) -> 45441 | AI9: =IF(DAY(EOMONTH(F9,0))<30,"",DATE($M$2,$S$2,30)) -> 45442 | AJ9: =IF(DAY(EOMONTH(F9,0))<31,"",DATE($M$2,$S$2,31)) -> 45443
F10: =DATE($M$2,$S$2,1) -> 45413 | G10: =DATE($M$2,$S$2,2) -> 45414 | H10: =DATE($M$2,$S$2,3) -> 45415 | I10: =DATE($M$2,$S$2,4) -> 45416 | J10: =DATE($M$2,$S$2,5) -> 45417 | K10: =DATE($M$2,$S$2,6) -> 45418 | L10: =DATE($M$2,$S$2,7) -> 45419 | M10: =DATE($M$2,$S$2,8) -> 45420 | N10: =DATE($M$2,$S$2,9) -> 45421 | O10: =DATE($M$2,$S$2,10) -> 45422 | P10: =DATE($M$2,$S$2,11) -> 45423 | Q10: =DATE($M$2,$S$2,12) -> 45424 | R10: =DATE($M$2,$S$2,13) -> 45425 | S10: =DATE($M$2,$S$2,14) -> 45426 | T10: =DATE($M$2,$S$2,15) -> 45427 | U10: =DATE($M$2,$S$2,16) -> 45428 | V10: =DATE($M$2,$S$2,17) -> 45429 | W10: =DATE($M$2,$S$2,18) -> 45430 | X10: =DATE($M$2,$S$2,19) -> 45431 | Y10: =DATE($M$2,$S$2,20) -> 45432 | Z10: =DATE($M$2,$S$2,21) -> 45433 | AA10: =DATE($M$2,$S$2,22) -> 45434 | AB10: =DATE($M$2,$S$2,23) -> 45435 | AC10: =DATE($M$2,$S$2,24) -> 45436 | AD10: =DATE($M$2,$S$2,25) -> 45437 | AE10: =DATE($M$2,$S$2,26) -> 45438 | AF10: =DATE($M$2,$S$2,27) -> 45439 | AG10: =DATE($M$2,$S$2,28) -> 45440 | AH10: =IF(DAY(EOMONTH(F10,0))<29,"",DATE($M$2,$S$2,29)) -> 45441 | AI10: =IF(DAY(EOMONTH(F10,0))<30,"",DATE($M$2,$S$2,30)) -> 45442 | AJ10: =IF(DAY(EOMONTH(F10,0))<31,"",DATE($M$2,$S$2,31)) -> 45443
A11: 1 | B11: 管理者 | C11: A | E11: A
A12: 2 | B12: サービス提供責任者 | C12: B | E12: B | AK12: =+SUM(F12:AJ12) -> 0 | AL12: =IF($AK$3="４週",AK12/4,AK12/(DAY(EOMONTH($F$9,0))/7)) -> 0
A13: 3 | B13: 従業者 | C13: C | E13: C | AK13: =+SUM(F13:AJ13) -> 0 | AL13: =IF($AK$3="４週",AK13/4,AK13/(DAY(EOMONTH($F$9,0))/7)) -> 0
A14: 4 | B14: 従業者 | C14: C | E14: D | AK14: =+SUM(F14:AJ14) -> 0 | AL14: =IF($AK$3="４週",AK14/4,AK14/(DAY(EOMONTH($F$9,0))/7)) -> 0
A15: 5 | B15: 従業者 | C15: C | E15: E | AK15: =+SUM(F15:AJ15) -> 0 | AL15: =IF($AK$3="４週",AK15/4,AK15/(DAY(EOMONTH($F$9,0))/7)) -> 0
A16: 6 | B16: 従業者 | C16: D | E16: F | AK16: =+SUM(F16:AJ16) -> 0 | AL16: =IF($AK$3="４週",AK16/4,AK16/(DAY(EOMONTH($F$9,0))/7)) -> 0
A17: 7 | B17: 従業者 | C17: D | E17: G | AK17: =+SUM(F17:AJ17) -> 0 | AL17: =IF($AK$3="４週",AK17/4,AK17/(DAY(EOMONTH($F$9,0))/7)) -> 0
A18: 8 | B18: 従業者 | C18: D | E18: H | AK18: =+SUM(F18:AJ18) -> 0 | AL18: =IF($AK$3="４週",AK18/4,AK18/(DAY(EOMONTH($F$9,0))/7)) -> 0
A19: 9 | B19: 従業者 | C19: D | E19: I | AK19: =+SUM(F19:AJ19) -> 0 | AL19: =IF($AK$3="４週",AK19/4,AK19/(DAY(EOMONTH($F$9,0))/7)) -> 0
A20: 10 | B20: 従業者 | C20: D | E20: J | AK20: =+SUM(F20:AJ20) -> 0 | AL20: =IF($AK$3="４週",AK20/4,AK20/(DAY(EOMONTH($F$9,0))/7)) -> 0
A21: 11 | AK21: =+SUM(F21:AJ21) -> 0 | AL21: =IF($AK$3="４週",AK21/4,AK21/(DAY(EOMONTH($F$9,0))/7)) -> 0
A22: 12 | AK22: =+SUM(F22:AJ22) -> 0 | AL22: =IF($AK$3="４週",AK22/4,AK22/(DAY(EOMONTH($F$9,0))/7)) -> 0
A23: 13 | AK23: =+SUM(F23:AJ23) -> 0 | AL23: =IF($AK$3="４週",AK23/4,AK23/(DAY(EOMONTH($F$9,0))/7)) -> 0
A24: 14 | AK24: =+SUM(F24:AJ24) -> 0 | AL24: =IF($AK$3="４週",AK24/4,AK24/(DAY(EOMONTH($F$9,0))/7)) -> 0
A25: 15 | AK25: =+SUM(F25:AJ25) -> 0 | AL25: =IF($AK$3="４週",AK25/4,AK25/(DAY(EOMONTH($F$9,0))/7)) -> 0
A26: 16 | AK26: =+SUM(F26:AJ26) -> 0 | AL26: =IF($AK$3="４週",AK26/4,AK26/(DAY(EOMONTH($F$9,0))/7)) -> 0
A27: 17 | AK27: =+SUM(F27:AJ27) -> 0 | AL27: =IF($AK$3="４週",AK27/4,AK27/(DAY(EOMONTH($F$9,0))/7)) -> 0
A28: 18 | AK28: =+SUM(F28:AJ28) -> 0 | AL28: =IF($AK$3="４週",AK28/4,AK28/(DAY(EOMONTH($F$9,0))/7)) -> 0
A29: 19 | AK29: =+SUM(F29:AJ29) -> 0 | AL29: =IF($AK$3="４週",AK29/4,AK29/(DAY(EOMONTH($F$9,0))/7)) -> 0
A30: 20 | AK30: =+SUM(F30:AJ30) -> 0 | AL30: =IF($AK$3="４週",AK30/4,AK30/(DAY(EOMONTH($F$9,0))/7)) -> 0
A31: 合計 | F31: =+SUM(F11:F30) -> 0 | G31: =+SUM(G11:G30) -> 0 | H31: =+SUM(H11:H30) -> 0 | I31: =+SUM(I11:I30) -> 0 | J31: =+SUM(J11:J30) -> 0 | K31: =+SUM(K11:K30) -> 0 | L31: =+SUM(L11:L30) -> 0 | M31: =+SUM(M11:M30) -> 0 | ... AJ31: =+SUM(AJ11:AJ30) -> 0 | AK31: =+SUM(F31:AJ31) -> 0 | AL31: =IF($AK$3="４週",AK31/4,AK31/(DAY(EOMONTH($F$9,0))/7)) -> 0
A32: サービス提供時間
A37: ＜人員に関する基準＞
A38: （新規申請の場合は推定数） | M38: ○サービス提供責任者 | U38: =IF(COUNTIF(M40:M43,"○")>1,"いずれか１つを選択してください。","")
D39: =IF(S2=1,10,IF(S2=2,11,IF(S2=3,12,S2-3))) -> 2 | E39: =IF(S2=1,11,IF(S2=2,12,S2-2)) -> 3 | F39: =IF(S2=1,12,S2-1) -> 4 | I39: 合計 | M39: 区分 | AH39: 各区分の値とそれに基づく配置数 | AM39: 必要な配置数
A40: 利用者数 | D40: 80 | E40: 80 | F40: 81 | I40: =SUM(D40:F40) -> 241 | M40: ○ | N40: 常勤換算方法によらない場合 | Q40: サービス提供時間が450時間又はその端数を増すごとに1人以上 | AH40: =SUM(F32:AJ32) -> 0 | AJ40: h | AK40: =ROUNDUP(AH40/450,0) -> 0 | AM40: =MIN(AH40:AK42) -> 0
I41: （平均利用者数） | Q41: 従業者数が10人又はその端数を増すごとに1人以上 | AH41: =COUNTA(B12:B30) -> 9 | AJ41: 人 | AK41: =ROUNDUP(AH41/10,0) -> 1
I42: =I40/3 -> 80.333333 | Q42: 利用者数が40人又はその端数を増すごとに1人以上 | AH42: =ROUNDDOWN(I42,1) -> 80.3 | AJ42: 人 | AK42: =ROUNDUP(AH42/40,0) -> 3
N43: 常勤換算方法による場合 | AM43: {=ROUNDUP(_xlfn.IFS(AM40<2,1,AND(AM40<=2,AM40<6),AM40-1,AM40>=6,AM40/2*3),1)} -> 1
A45: ＜人員基準に関する実人数集計＞
C46: =IF(VLOOKUP($AK$1,[5]選択肢!$A$1:$J$32,C51,FALSE)=0,"-",VLOOKUP($AK$1,[5]選択肢!$A$1:$J$32,C51,FALSE)) -> 管理者 | E46: =IF(VLOOKUP($AK$1,[5]選択肢!$A$1:$J$32,E51,FALSE)=0,"-",VLOOKUP($AK$1,[5]選択肢!$A$1:$J$32,E51,FALSE)) -> サービス提供責任者 | I46: =IF(VLOOKUP($AK$1,[5]選択肢!$A$1:$J$32,I51,FALSE)=0,"-",VLOOKUP($AK$1,[5]選択肢!$A$1:$J$32,I51,FALSE)) -> 従業者
...

Sheet 勤務形態一覧表（行動援護）
A1: 従業者の勤務の体制及び勤務形態一覧表 | AI1: サービス種別 | AK1: 行動援護
M2: 2024 | Q2: 年 | S2: 5 | U2: 月 | AI2: 事業所名
AI3: (1)記載する期間 | AK3: ４週
AI4: (2)予定/実績の別
AG5: (3)事業所における常勤の従業者が勤務すべき時間数 | AH5: 100 | AK5: 時間/週 | AM5: 時間/月
A7: No. | B7: (4)職種 | C7: (5)勤務形態 | D7: (6)資格 | E7: (7)氏名 | F7: (8) | AK7: (9)勤務時間数合計 | AL7: (10)週平均の勤務時間数 | AM7: (11)兼務状況 （兼務先／兼務する職務の内容）等
F8: 第１週 | M8: 第２週 | T8: 第３週 | AA8: 第４週 | AH8: 第５週
B9: ※選択肢にない職種については直接入力してください | F9: =DATE($M$2,$S$2,1) -> 45413 | G9: =DATE($M$2,$S$2,2) -> 45414 | H9: =DATE($M$2,$S$2,3) -> 45415 | I9: =DATE($M$2,$S$2,4) -> 45416 | J9: =DATE($M$2,$S$2,5) -> 45417 | K9: =DATE($M$2,$S$2,6) -> 45418 | L9: =DATE($M$2,$S$2,7) -> 45419 | M9: =DATE($M$2,$S$2,8) -> 45420 | N9: =DATE($M$2,$S$2,9) -> 45421 | O9: =DATE($M$2,$S$2,10) -> 45422 | P9: =DATE($M$2,$S$2,11) -> 45423 | Q9: =DATE($M$2,$S$2,12) -> 45424 | R9: =DATE($M$2,$S$2,13) -> 45425 | S9: =DATE($M$2,$S$2,14) -> 45426 | T9: =DATE($M$2,$S$2,15) -> 45427 | U9: =DATE($M$2,$S$2,16) -> 45428 | V9: =DATE($M$2,$S$2,17) -> 45429 | W9: =DATE($M$2,$S$2,18) -> 45430 | X9: =DATE($M$2,$S$2,19) -> 45431 | Y9: =DATE($M$2,$S$2,20) -> 45432 | Z9: =DATE($M$2,$S$2,21) -> 45433 | AA9: =DATE($M$2,$S$2,22) -> 45434 | AB9: =DATE($M$2,$S$2,23) -> 45435 | AC9: =DATE($M$2,$S$2,24) -> 45436 | AD9: =DATE($M$2,$S$2,25) -> 45437 | AE9: =DATE($M$2,$S$2,26) -> 45438 | AF9: =DATE($M$2,$S$2,27) -> 45439 | AG9: =DATE($M$2,$S$2,28) -> 45440 | AH9: =IF(DAY(EOMONTH(F9,0))<29,"",DATE($M$2,$S$2,29)) -> 45441 | AI9: =IF(DAY(EOMONTH(F9,0))<30,"",DATE($M$2,$S$2,30)) -> 45442 | AJ9: =IF(DAY(EOMONTH(F9,0))<31,"",DATE($M$2,$S$2,31)) -> 45443
F10: =DATE($M$2,$S$2,1) -> 45413 | G10: =DATE($M$2,$S$2,2) -> 45414 | H10: =DATE($M$2,$S$2,3) -> 45415 | I10: =DATE($M$2,$S$2,4) -> 45416 | J10: =DATE($M$2,$S$2,5) -> 45417 | K10: =DATE($M$2,$S$2,6) -> 45418 | L10: =DATE($M$2,$S$2,7) -> 45419 | M10: =DATE($M$2,$S$2,8) -> 45420 | N10: =DATE($M$2,$S$2,9) -> 45421 | O10: =DATE($M$2,$S$2,10) -> 45422 | P10: =DATE($M$2,$S$2,11) -> 45423 | Q10: =DATE($M$2,$S$2,12) -> 45424 | R10: =DATE($M$2,$S$2,13) -> 45425 | S10: =DATE($M$2,$S$2,14) -> 45426 | T10: =DATE($M$2,$S$2,15) -> 45427 | U10: =DATE($M$2,$S$2,16) -> 45428 | V10: =DATE($M$2,$S$2,17) -> 45429 | W10: =DATE($M$2,$S$2,18) -> 45430 | X10: =DATE($M$2,$S$2,19) -> 45431 | Y10: =DATE($M$2,$S$2,20) -> 45432 | Z10: =DATE($M$2,$S$2,21) -> 45433 | AA10: =DATE($M$2,$S$2,22) -> 45434 | AB10: =DATE($M$2,$S$2,23) -> 45435 | AC10: =DATE($M$2,$S$2,24) -> 45436 | AD10: =DATE($M$2,$S$2,25) -> 45437 | AE10: =DATE($M$2,$S$2,26) -> 45438 | AF10: =DATE($M$2,$S$2,27) -> 45439 | AG10: =DATE($M$2,$S$2,28) -> 45440 | AH10: =IF(DAY(EOMONTH(F10,0))<29,"",DATE($M$2,$S$2,29)) -> 45441 | AI10: =IF(DAY(EOMONTH(F10,0))<30,"",DATE($M$2,$S$2,30)) -> 45442 | AJ10: =IF(DAY(EOMONTH(F10,0))<31,"",DATE($M$2,$S$2,31)) -> 45443
A11: 1 | B11: 管理者 | C11: A | E11: A
A12: 2 | B12: サービス提供責任者 | C12: B | E12: B | AK12: =+SUM(F12:AJ12) -> 0 | AL12: =IF($AK$3="４週",AK12/4,AK12/(DAY(EOMONTH($F$9,0))/7)) -> 0
A13: 3 | B13: サービス提供責任者 | C13: C | E13: C | AK13: =+SUM(F13:AJ13) -> 0 | AL13: =IF($AK$3="４週",AK13/4,AK13/(DAY(EOMONTH($F$9,0))/7)) -> 0
A14: 4 | B14: 従業者 | C14: C | E14: D | AK14: =+SUM(F14:AJ14) -> 0 | AL14: =IF($AK$3="４週",AK14/4,AK14/(DAY(EOMONTH($F$9,0))/7)) -> 0
A15: 5 | B15: 従業者 | C15: C | E15: E | AK15: =+SUM(F15:AJ15) -> 0 | AL15: =IF($AK$3="４週",AK15/4,AK15/(DAY(EOMONTH($F$9,0))/7)) -> 0
A16: 6 | B16: 従業者 | C16: D | E16: F | AK16: =+SUM(F16:AJ16) -> 0 | AL16: =IF($AK$3="４週",AK16/4,AK16/(DAY(EOMONTH($F$9,0))/7)) -> 0
A17: 7 | B17: 従業者 | C17: D | E17: G | AK17: =+SUM(F17:AJ17) -> 0 | AL17: =IF($AK$3="４週",AK17/4,AK17/(DAY(EOMONTH($F$9,0))/7)) -> 0
A18: 8 | B18: 従業者 | C18: D | E18: H | AK18: =+SUM(F18:AJ18) -> 0 | AL18: =IF($AK$3="４週",AK18/4,AK18/(DAY(EOMONTH($F$9,0))/7)) -> 0
A19: 9 | B19: 従業者 | C19: D | E19: I | AK19: =+SUM(F19:AJ19) -> 0 | AL19: =IF($AK$3="４週",AK19/4,AK19/(DAY(EOMONTH($F$9,0))/7)) -> 0
A20: 10 | B20: 従業者 | C20: D | E20: J | AK20: =+SUM(F20:AJ20) -> 0 | AL20: =IF($AK$3="４週",AK20/4,AK20/(DAY(EOMONTH($F$9,0))/7)) -> 0
A21: 11 | AK21: =+SUM(F21:AJ21) -> 0 | AL21: =IF($AK$3="４週",AK21/4,AK21/(DAY(EOMONTH($F$9,0))/7)) -> 0
A22: 12 | AK22: =+SUM(F22:AJ22) -> 0 | AL22: =IF($AK$3="４週",AK22/4,AK22/(DAY(EOMONTH($F$9,0))/7)) -> 0
A23: 13 | AK23: =+SUM(F23:AJ23) -> 0 | AL23: =IF($AK$3="４週",AK23/4,AK23/(DAY(EOMONTH($F$9,0))/7)) -> 0
A24: 14 | AK24: =+SUM(F24:AJ24) -> 0 | AL24: =IF($AK$3="４週",AK24/4,AK24/(DAY(EOMONTH($F$9,0))/7)) -> 0
A25: 15 | AK25: =+SUM(F25:AJ25) -> 0 | AL25: =IF($AK$3="４週",AK25/4,AK25/(DAY(EOMONTH($F$9,0))/7)) -> 0
A26: 16 | AK26: =+SUM(F26:AJ26) -> 0 | AL26: =IF($AK$3="４週",AK26/4,AK26/(DAY(EOMONTH($F$9,0))/7)) -> 0
A27: 17 | AK27: =+SUM(F27:AJ27) -> 0 | AL27: =IF($AK$3="４週",AK27/4,AK27/(DAY(EOMONTH($F$9,0))/7)) -> 0
A28: 18 | AK28: =+SUM(F28:AJ28) -> 0 | AL28: =IF($AK$3="４週",AK28/4,AK28/(DAY(EOMONTH($F$9,0))/7)) -> 0
A29: 19 | AK29: =+SUM(F29:AJ29) -> 0 | AL29: =IF($AK$3="４週",AK29/4,AK29/(DAY(EOMONTH($F$9,0))/7)) -> 0
A30: 20 | AK30: =+SUM(F30:AJ30) -> 0 | AL30: =IF($AK$3="４週",AK30/4,AK30/(DAY(EOMONTH($F$9,0))/7)) -> 0
A31: 合計 | F31: =+SUM(F11:F30) -> 0 | G31: =+SUM(G11:G30) -> 0 | H31: =+SUM(H11:H30) -> 0 | I31: =+SUM(I11:I30) -> 0 | J31: =+SUM(J11:J30) -> 0 | K31: =+SUM(K11:K30) -> 0 | L31: =+SUM(L11:L30) -> 0 | M31: =+SUM(M11:M30) -> 0 | ... AJ31: =+SUM(AJ11:AJ30) -> 0 | AK31: =+SUM(F31:AJ31) -> 0 | AL31: =IF($AK$3="４週",AK31/4,AK31/(DAY(EOMONTH($F$9,0))/7)) -> 0
A32: サービス提供時間
A37: ＜人員に関する基準＞
A38: （新規申請の場合は推定数） | M38: ○サービス提供責任者 | U38: =IF(COUNTIF(M40:M43,"○")>1,"いずれか１つを選択してください。","")
D39: =IF(S2=1,10,IF(S2=2,11,IF(S2=3,12,S2-3))) -> 2 | E39: =IF(S2=1,11,IF(S2=2,12,S2-2)) -> 3 | F39: =IF(S2=1,12,S2-1) -> 4 | I39: 合計 | M39: 区分 | AH39: 各区分の値とそれに基づく配置数 | AM39: 必要な配置数
A40: 利用者数 | D40: 80 | E40: 80 | F40: 81 | I40: =SUM(D40:F40) -> 241 | M40: ○ | N40: 常勤換算方法によらない場合 | Q40: サービス提供時間が450時間又はその端数を増すごとに1人以上 | AH40: =SUM(F32:AJ32) -> 0 | AJ40: h | AK40: =ROUNDUP(AH40/450,0) -> 0 | AM40: =MIN(AH40:AK42) -> 0
I41: （平均利用者数） | Q41: 従業者数が10人又はその端数を増すごとに1人以上 | AH41: =COUNTA(B12:B30) -> 9 | AJ41: 人 | AK41: =ROUNDUP(AH41/10,0) -> 1
I42: =I40/3 -> 80.333333 | Q42: 利用者数が40人又はその端数を増すごとに1人以上 | AH42: =ROUNDDOWN(I42,1) -> 80.3 | AJ42: 人 | AK42: =ROUNDUP(AH42/40,0) -> 3
N43: 常勤換算方法による場合 | AM43: {=ROUNDUP(_xlfn.IFS(AM40<2,1,AND(AM40<=2,AM40<6),AM40-1,AM40>=6,AM40/2*3),1)} -> 1
A45: ＜人員基準に関する実人数集計＞
C46: =IF(VLOOKUP($AK$1,[4]選択肢!$A$1:$J$32,C51,FALSE)=0,"-",VLOOKUP($AK$1,[4]選択肢!$A$1:$J$32,C51,FALSE)) -> 管理者 | E46: =IF(VLOOKUP($AK$1,[4]選択肢!$A$1:$J$32,E51,FALSE)=0,"-",VLOOKUP($AK$1,[4]選択肢!$A$1:$J$32,E51,FALSE)) -> サービス提供責任者 | I46: =IF(VLOOKUP($AK$1,[4]選択肢!$A$1:$J$32,I51,FALSE)=0,"-",VLOOKUP($AK$1,[4]選択肢!$A$1:$J$32,I51,FALSE)) -> 従業者
...

Sheet 勤務形態一覧表（療養介護）
A1: 従業者の勤務の体制及び勤務形態一覧表 | AI1: サービス種別 | AK1: 療養介護
M2: 2024 | Q2: 年 | S2: 5 | U2: 月 | AI2: 事業所名
AI3: (1)記載する期間 | AK3: ４週
AI4: (2)予定/実績の別
AG5: (3)事業所における常勤の従業者が勤務すべき時間数 | AH5: 100 | AK5: 時間/週 | AM5: 時間/月
A7: No. | B7: (4)職種 | C7: (5)勤務形態 | D7: (6)資格 | E7: (7)氏名 | F7: (8) | AK7: (9)勤務時間数合計 | AL7: (10)週平均の勤務時間数 | AM7: (11)兼務状況 （兼務先／兼務する職務の内容）等
F8: 第１週 | M8: 第２週 | T8: 第３週 | AA8: 第４週 | AH8: 第５週
B9: ※選択肢にない職種については直接入力してください | F9: =DATE($M$2,$S$2,1) -> 45413 | G9: =DATE($M$2,$S$2,2) -> 45414 | H9: =DATE($M$2,$S$2,3) -> 45415 | I9: =DATE($M$2,$S$2,4) -> 45416 | J9: =DATE($M$2,$S$2,5) -> 45417 | K9: =DATE($M$2,$S$2,6) -> 45418 | L9: =DATE($M$2,$S$2,7) -> 45419 | M9: =DATE($M$2,$S$2,8) -> 45420 | N9: =DATE($M$2,$S$2,9) -> 45421 | O9: =DATE($M$2,$S$2,10) -> 45422 | P9: =DATE($M$2,$S$2,11) -> 45423 | Q9: =DATE($M$2,$S$2,12) -> 45424 | R9: =DATE($M$2,$S$2,13) -> 45425 | S9: =DATE($M$2,$S$2,14) -> 45426 | T9: =DATE($M$2,$S$2,15) -> 45427 | U9: =DATE($M$2,$S$2,16) -> 45428 | V9: =DATE($M$2,$S$2,17) -> 45429 | W9: =DATE($M$2,$S$2,18) -> 45430 | X9: =DATE($M$2,$S$2,19) -> 45431 | Y9: =DATE($M$2,$S$2,20) -> 45432 | Z9: =DATE($M$2,$S$2,21) -> 45433 | AA9: =DATE($M$2,$S$2,22) -> 45434 | AB9: =DATE($M$2,$S$2,23) -> 45435 | AC9: =DATE($M$2,$S$2,24) -> 45436 | AD9: =DATE($M$2,$S$2,25) -> 45437 | AE9: =DATE($M$2,$S$2,26) -> 45438 | AF9: =DATE($M$2,$S$2,27) -> 45439 | AG9: =DATE($M$2,$S$2,28) -> 45440 | AH9: =IF(DAY(EOMONTH(F9,0))<29,"",DATE($M$2,$S$2,29)) -> 45441 | AI9: =IF(DAY(EOMONTH(F9,0))<30,"",DATE($M$2,$S$2,30)) -> 45442 | AJ9: =IF(DAY(EOMONTH(F9,0))<31,"",DATE($M$2,$S$2,31)) -> 45443
F10: =DATE($M$2,$S$2,1) -> 45413 | G10: =DATE($M$2,$S$2,2) -> 45414 | H10: =DATE($M$2,$S$2,3) -> 45415 | I10: =DATE($M$2,$S$2,4) -> 45416 | J10: =DATE($M$2,$S$2,5) -> 45417 | K10: =DATE($M$2,$S$2,6) -> 45418 | L10: =DATE($M$2,$S$2,7) -> 45419 | M10: =DATE($M$2,$S$2,8) -> 45420 | N10: =DATE($M$2,$S$2,9) -> 45421 | O10: =DATE($M$2,$S$2,10) -> 45422 | P10: =DATE($M$2,$S$2,11) -> 45423 | Q10: =DATE($M$2,$S$2,12) -> 45424 | R10: =DATE($M$2,$S$2,13) -> 45425 | S10: =DATE($M$2,$S$2,14) -> 45426 | T10: =DATE($M$2,$S$2,15) -> 45427 | U10: =DATE($M$2,$S$2,16) -> 45428 | V10: =DATE($M$2,$S$2,17) -> 45429 | W10: =DATE($M$2,$S$2,18) -> 45430 | X10: =DATE($M$2,$S$2,19) -> 45431 | Y10: =DATE($M$2,$S$2,20) -> 45432 | Z10: =DATE($M$2,$S$2,21) -> 45433 | AA10: =DATE($M$2,$S$2,22) -> 45434 | AB10: =DATE($M$2,$S$2,23) -> 45435 | AC10: =DATE($M$2,$S$2,24) -> 45436 | AD10: =DATE($M$2,$S$2,25) -> 45437 | AE10: =DATE($M$2,$S$2,26) -> 45438 | AF10: =DATE($M$2,$S$2,27) -> 45439 | AG10: =DATE($M$2,$S$2,28) -> 45440 | AH10: =IF(DAY(EOMONTH(F10,0))<29,"",DATE($M$2,$S$2,29)) -> 45441 | AI10: =IF(DAY(EOMONTH(F10,0))<30,"",DATE($M$2,$S$2,30)) -> 45442 | AJ10: =IF(DAY(EOMONTH(F10,0))<31,"",DATE($M$2,$S$2,31)) -> 45443
A11: 1 | B11: 管理者 | C11: A | E11: A | AK11: =+SUM(F11:AJ11) -> 0 | AL11: =IF($AK$3="４週",AK11/4,AK11/(DAY(EOMONTH($F$9,0))/7)) -> 0
A12: 2 | B12: サービス管理責任者 | C12: B | E12: B | AK12: =+SUM(F12:AJ12) -> 0 | AL12: =IF($AK$3="４週",AK12/4,AK12/(DAY(EOMONTH($F$9,0))/7)) -> 0
A13: 3 | B13: 医師 | C13: C | E13: C | AK13: =+SUM(F13:AJ13) -> 0 | AL13: =IF($AK$3="４週",AK13/4,AK13/(DAY(EOMONTH($F$9,0))/7)) -> 0
A14: 4 | B14: 看護職員 | C14: D | E14: D | AK14: =+SUM(F14:AJ14) -> 0 | AL14: =IF($AK$3="４週",AK14/4,AK14/(DAY(EOMONTH($F$9,0))/7)) -> 0
A15: 5 | AK15: =+SUM(F15:AJ15) -> 0 | AL15: =IF($AK$3="４週",AK15/4,AK15/(DAY(EOMONTH($F$9,0))/7)) -> 0
A16: 6 | AK16: =+SUM(F16:AJ16) -> 0 | AL16: =IF($AK$3="４週",AK16/4,AK16/(DAY(EOMONTH($F$9,0))/7)) -> 0
A17: 7 | AK17: =+SUM(F17:AJ17) -> 0 | AL17: =IF($AK$3="４週",AK17/4,AK17/(DAY(EOMONTH($F$9,0))/7)) -> 0
A18: 8 | AK18: =+SUM(F18:AJ18) -> 0 | AL18: =IF($AK$3="４週",AK18/4,AK18/(DAY(EOMONTH($F$9,0))/7)) -> 0
A19: 9 | AK19: =+SUM(F19:AJ19) -> 0 | AL19: =IF($AK$3="４週",AK19/4,AK19/(DAY(EOMONTH($F$9,0))/7)) -> 0
A20: 10 | AK20: =+SUM(F20:AJ20) -> 0 | AL20: =IF($AK$3="４週",AK20/4,AK20/(DAY(EOMONTH($F$9,0))/7)) -> 0
A21: 11 | AK21: =+SUM(F21:AJ21) -> 0 | AL21: =IF($AK$3="４週",AK21/4,AK21/(DAY(EOMONTH($F$9,0))/7)) -> 0
A22: 12 | AK22: =+SUM(F22:AJ22) -> 0 | AL22: =IF($AK$3="４週",AK22/4,AK22/(DAY(EOMONTH($F$9,0))/7)) -> 0
A23: 13 | AK23: =+SUM(F23:AJ23) -> 0 | AL23: =IF($AK$3="４週",AK23/4,AK23/(DAY(EOMONTH($F$9,0))/7)) -> 0
A24: 14 | AK24: =+SUM(F24:AJ24) -> 0 | AL24: =IF($AK$3="４週",AK24/4,AK24/(DAY(EOMONTH($F$9,0))/7)) -> 0
A25: 15 | AK25: =+SUM(F25:AJ25) -> 0 | AL25: =IF($AK$3="４週",AK25/4,AK25/(DAY(EOMONTH($F$9,0))/7)) -> 0
A26: 16 | AK26: =+SUM(F26:AJ26) -> 0 | AL26: =IF($AK$3="４週",AK26/4,AK26/(DAY(EOMONTH($F$9,0))/7)) -> 0
... A30: 20 | AK30: =+SUM(F30:AJ30) -> 0 | AL30: =IF($AK$3="４週",AK30/4,AK30/(DAY(EOMONTH($F$9,0))/7)) -> 0
A31: 合計 | F31: =+SUM(F11:F30) -> 0 | G31: =+SUM(G11:G30) -> 0 | H31: =+SUM(H11:H30) -> 0 | I31: =+SUM(I11:I30) -> 0 | J31: =+SUM(J11:J30) -> 0 | K31: =+SUM(K11:K30) -> 0 | L31: =+SUM(L11:L30) -> 0 | M31: =+SUM(M11:M30) -> 0 | ... AJ31: =+SUM(AJ11:AJ30) -> 0 | AK31: =+SUM(F31:AJ31) -> 0 | AL31: =IF($AK$3="４週",AK31/4,AK31/(DAY(EOMONTH($F$9,0))/7)) -> 0
A32: サービス提供時間
A36: ＜前年度の平均値＞※新規申請の場合は推定数を記載ください。
D37: 4 | E37: 5 | F37: 6 | I37: 7 | L37: 8 | O37: 9 | R37: 10 | U37: 11 | X37: 12 | AA37: 1 | AD37: 2 | AG37: 3 | AJ37: 計 | AL37: 平均利用者数
A38: 利用者延べ数 | D38: 1400 | E38: 1310 | F38: 1400 | I38: 1470 | L38: 1470 | O38: 1330 | R38: 1400 | U38: 1400 | X38: 1330 | AA38: 1330 | AD38: 1330 | AG38: 1400 | AJ38: =SUM(D38:AI38) -> 16570 | AL38: =ROUNDUP(AJ38/AJ39,1) -> 70
A39: 開所日数 | D39: 20 | E39: 19 | F39: 20 | I39: 21 | L39: 21 | O39: 19 | R39: 20 | U39: 20 | X39: 19 | AA39: 19 | AD39: 19 | AG39: 20 | AJ39: =+SUM(D39:AI39) -> 237
A41: ＜人員に関する基準＞
A42: 区分 | C42: サービス管理責任者 | E42: 看護職員 | I42: 生活支援員
A43: 必要な配置数 | C43: =ROUNDDOWN(IF(AL38<=60,1,1+ROUNDUP((AL38-60)/40,0)),1) -> 2 | E43: =ROUNDDOWN(AL38/2,1) -> 35 | I43: =ROUNDDOWN(AL38/4,1) -> 17.5
A44: ＜人員基準に関する実人数集計＞
C45: =IF(VLOOKUP($AK$1,[4]選択肢!$A$1:$J$32,C50,FALSE)=0,"-",VLOOKUP($AK$1,[4]選択肢!$A$1:$J$32,C50,FALSE)) -> 管理者 | E45: =IF(VLOOKUP($AK$1,[4]選択肢!$A$1:$J$32,E50,FALSE)=0,"-",VLOOKUP($AK$1,[4]選択肢!$A$1:$J$32,E50,FALSE)) -> サービス管理責任者 | I45: =IF(VLOOKUP($AK$1,[4]選択肢!$A$1:$J$32,I50,FALSE)=0,"-",VLOOKUP($AK$1,[4]選択肢!$A$1:$J$32,I50,FALSE)) -> 医師 | O45: =IF(VLOOKUP($AK$1,[4]選択肢!$A$1:$J$32,O50,FALSE)=0,"-",VLOOKUP($AK$1,[4]選択肢!$A$1:$J$32,O50,FALSE)) -> 看護職員 | U45: =IF(VLOOKUP($AK$1,[4]選択肢!$A$1:$J$32,U50,FALSE)=0,"-",VLOOKUP($AK$1,[4]選択肢!$A$1:$J$32,U50,FALSE)) -> 生活支援員 | AA45: =IF(VLOOKUP($AK$1,[4]選択肢!$A$1:$J$32,AA50,FALSE)=0,"-",VLOOKUP($AK$1,[4]選択肢!$A$1:$J$32,AA50,FALSE)) -> - | AG45: =IF(VLOOKUP($AK$1,[4]選択肢!$A$1:$J$32,AG50,FALSE)=0,"-",VLOOKUP($AK$1,[4]選択肢!$A$1:$J$32,AG50,FALSE)) -> - | AL45: =IF(VLOOKUP($AK$1,[4]選択肢!$A$1:$J$32,AL50,FALSE)=0,"-",VLOOKUP($AK$1,[4]選択肢!$A$1:$J$32,AL50,FALSE)) -> -
C46: 専従 | D46: 兼務 | E46: 専従 | F46: 兼務 | I46: 専従 | L46: 兼務 | O46: 専従 | R46: 兼務 | U46: 専従 | X46: 兼務 | AA46: 専従 | AD46: 兼務 | AG46: 専従 | AJ46: 兼務 | AL46: 専従 | AM46: 兼務
B47: 常勤 | C47: =COUNTIFS($B$11:$B$30,C$45,$C$11:$C$30,"A",$E$11:$E$30,"*") -> 1 | D47: =COUNTIFS($B$11:$B$30,C$45,$C$11:$C$30,"B",$E$11:$E$30,"*") -> 0 | E47: =COUNTIFS($B$11:$B$30,E$45,$C$11:$C$30,"A",$E$11:$E$30,"*") -> 0 | F47: =COUNTIFS($B$11:$B$30,E$45,$C$11:$C$30,"B",$E$11:$E$30,"*") -> 1 | I47: =COUNTIFS($B$11:$B$30,I$45,$C$11:$C$30,"A",$E$11:$E$30,"*") -> 0 | L47: =COUNTIFS($B$11:$B$30,I$45,$C$11:$C$30,"B",$E$11:$E$30,"*") -> 0 | O47: =COUNTIFS($B$11:$B$30,O$45,$C$11:$C$30,"A",$E$11:$E$30,"*") -> 0 | R47: =COUNTIFS($B$11:$B$30,O$45,$C$11:$C$30,"B",$E$11:$E$30,"*") -> 0 | U47: =COUNTIFS($B$11:$B$30,U$45,$C$11:$C$30,"A",$E$11:$E$30,"*") -> 0 | X47: =COUNTIFS($B$11:$B$30,U$45,$C$11:$C$30,"B",$E$11:$E$30,"*") -> 0 | AA47: =COUNTIFS($B$11:$B$30,AA$45,$C$11:$C$30,"A",$E$11:$E$30,"*") -> 0 | AD47: =COUNTIFS($B$11:$B$30,AA$45,$C$11:$C$30,"B",$E$11:$E$30,"*") -> 0 | AG47: =COUNTIFS($B$11:$B$30,AG$45,$C$11:$C$30,"A",$E$11:$E$30,"*") -> 0 | AJ47: =COUNTIFS($B$11:$B$30,AG$45,$C$11:$C$30,"B",$E$11:$E$30,"*") -> 0 | AL47: =COUNTIFS($B$11:$B$30,AL$45,$C$11:$C$30,"A",$E$11:$E$30,"*") -> 0 | AM47: =COUNTIFS($B$11:$B$30,AL$45,$C$11:$C$30,"B",$E$11:$E$30,"*") -> 0
B48: 非常勤 | C48: =COUNTIFS($B$11:$B$30,C$45,$C$11:$C$30,"C",$E$11:$E$30,"*") -> 0 | D48: =COUNTIFS($B$11:$B$30,C$45,$C$11:$C$30,"D",$E$11:$E$30,"*") -> 0 | E48: =COUNTIFS($B$11:$B$30,E$45,$C$11:$C$30,"C",$E$11:$E$30,"*") -> 0 | F48: =COUNTIFS($B$11:$B$30,E$45,$C$11:$C$30,"D",$E$11:$E$30,"*") -> 0 | I48: =COUNTIFS($B$11:$B$30,I$45,$C$11:$C$30,"C",$E$11:$E$30,"*") -> 1 | L48: =COUNTIFS($B$11:$B$30,I$45,$C$11:$C$30,"D",$E$11:$E$30,"*") -> 0 | O48: =COUNTIFS($B$11:$B$30,O$45,$C$11:$C$30,"C",$E$11:$E$30,"*") -> 0 | R48: =COUNTIFS($B$11:$B$30,O$45,$C$11:$C$30,"D",$E$11:$E$30,"*") -> 1 | U48: =COUNTIFS($B$11:$B$30,U$45,$C$11:$C$30,"C",$E$11:$E$30,"*") -> 0 | X48: =COUNTIFS($B$11:$B$30,U$45,$C$11:$C$30,"D",$E$11:$E$30,"*") -> 0 | AA48: =COUNTIFS($B$11:$B$30,AA$45,$C$11:$C$30,"C",$E$11:$E$30,"*") -> 0 | AD48: =COUNTIFS($B$11:$B$30,AA$45,$C$11:$C$30,"D",$E$11:$E$30,"*") -> 0 | AG48: =COUNTIFS($B$11:$B$30,AG$45,$C$11:$C$30,"C",$E$11:$E$30,"*") -> 0 | AJ48: =COUNTIFS($B$11:$B$30,AG$45,$C$11:$C$30,"D",$E$11:$E$30,"*") -> 0 | AL48: =COUNTIFS($B$11:$B$30,AL$45,$C$11:$C$30,"C",$E$11:$E$30,"*") -> 0 | AM48: =COUNTIFS($B$11:$B$30,AL$45,$C$11:$C$30,"D",$E$11:$E$30,"*") -> 0
...

Sheet 勤務形態一覧表（生活介護）
A1: 従業者の勤務の体制及び勤務形態一覧表 | AI1: サービス種別 | AK1: 生活介護
M2: 2024 | Q2: 年 | S2: 5 | U2: 月 | AI2: 事業所名
AI3: (1)記載する期間 | AK3: ４週
AI4: (2)予定/実績の別
AG5: (3)事業所における常勤の従業者が勤務すべき時間数 | AH5: 160 | AK5: 時間/週 | AM5: 時間/月
A7: No. | B7: (4)職種 | C7: (5)勤務形態 | D7: (6)資格 | E7: (7)氏名 | F7: (8) | AK7: (9)勤務時間数合計 | AL7: (10)週平均の勤務時間数 | AM7: (11)兼務状況 （兼務先／兼務する職務の内容）等
F8: 第１週 | M8: 第２週 | T8: 第３週 | AA8: 第４週 | AH8: 第５週
B9: ※選択肢にない職種については直接入力してください | F9: =DATE($M$2,$S$2,1) -> 45413 | G9: =DATE($M$2,$S$2,2) -> 45414 | H9: =DATE($M$2,$S$2,3) -> 45415 | I9: =DATE($M$2,$S$2,4) -> 45416 | J9: =DATE($M$2,$S$2,5) -> 45417 | K9: =DATE($M$2,$S$2,6) -> 45418 | L9: =DATE($M$2,$S$2,7) -> 45419 | M9: =DATE($M$2,$S$2,8) -> 45420 | N9: =DATE($M$2,$S$2,9) -> 45421 | O9: =DATE($M$2,$S$2,10) -> 45422 | P9: =DATE($M$2,$S$2,11) -> 45423 | Q9: =DATE($M$2,$S$2,12) -> 45424 | R9: =DATE($M$2,$S$2,13) -> 45425 | S9: =DATE($M$2,$S$2,14) -> 45426 | T9: =DATE($M$2,$S$2,15) -> 45427 | U9: =DATE($M$2,$S$2,16) -> 45428 | V9: =DATE($M$2,$S$2,17) -> 45429 | W9: =DATE($M$2,$S$2,18) -> 45430 | X9: =DATE($M$2,$S$2,19) -> 45431 | Y9: =DATE($M$2,$S$2,20) -> 45432 | Z9: =DATE($M$2,$S$2,21) -> 45433 | AA9: =DATE($M$2,$S$2,22) -> 45434 | AB9: =DATE($M$2,$S$2,23) -> 45435 | AC9: =DATE($M$2,$S$2,24) -> 45436 | AD9: =DATE($M$2,$S$2,25) -> 45437 | AE9: =DATE($M$2,$S$2,26) -> 45438 | AF9: =DATE($M$2,$S$2,27) -> 45439 | AG9: =DATE($M$2,$S$2,28) -> 45440 | AH9: =IF(DAY(EOMONTH(F9,0))<29,"",DATE($M$2,$S$2,29)) -> 45441 | AI9: =IF(DAY(EOMONTH(F9,0))<30,"",DATE($M$2,$S$2,30)) -> 45442 | AJ9: =IF(DAY(EOMONTH(F9,0))<31,"",DATE($M$2,$S$2,31)) -> 45443
F10: =DATE($M$2,$S$2,1) -> 45413 | G10: =DATE($M$2,$S$2,2) -> 45414 | H10: =DATE($M$2,$S$2,3) -> 45415 | I10: =DATE($M$2,$S$2,4) -> 45416 | J10: =DATE($M$2,$S$2,5) -> 45417 | K10: =DATE($M$2,$S$2,6) -> 45418 | L10: =DATE($M$2,$S$2,7) -> 45419 | M10: =DATE($M$2,$S$2,8) -> 45420 | N10: =DATE($M$2,$S$2,9) -> 45421 | O10: =DATE($M$2,$S$2,10) -> 45422 | P10: =DATE($M$2,$S$2,11) -> 45423 | Q10: =DATE($M$2,$S$2,12) -> 45424 | R10: =DATE($M$2,$S$2,13) -> 45425 | S10: =DATE($M$2,$S$2,14) -> 45426 | T10: =DATE($M$2,$S$2,15) -> 45427 | U10: =DATE($M$2,$S$2,16) -> 45428 | V10: =DATE($M$2,$S$2,17) -> 45429 | W10: =DATE($M$2,$S$2,18) -> 45430 | X10: =DATE($M$2,$S$2,19) -> 45431 | Y10: =DATE($M$2,$S$2,20) -> 45432 | Z10: =DATE($M$2,$S$2,21) -> 45433 | AA10: =DATE($M$2,$S$2,22) -> 45434 | AB10: =DATE($M$2,$S$2,23) -> 45435 | AC10: =DATE($M$2,$S$2,24) -> 45436 | AD10: =DATE($M$2,$S$2,25) -> 45437 | AE10: =DATE($M$2,$S$2,26) -> 45438 | AF10: =DATE($M$2,$S$2,27) -> 45439 | AG10: =DATE($M$2,$S$2,28) -> 45440 | AH10: =IF(DAY(EOMONTH(F10,0))<29,"",DATE($M$2,$S$2,29)) -> 45441 | AI10: =IF(DAY(EOMONTH(F10,0))<30,"",DATE($M$2,$S$2,30)) -> 45442 | AJ10: =IF(DAY(EOMONTH(F10,0))<31,"",DATE($M$2,$S$2,31)) -> 45443
A11: 1 | B11: 管理者 | C11: A | E11: A | AK11: =+SUM(F11:AJ11) -> 0 | AL11: =IF($AK$3="４週",AK11/4,AK11/(DAY(EOMONTH($F$9,0))/7)) -> 0
A12: 2 | B12: サービス管理責任者 | C12: D | E12: B | AK12: =+SUM(F12:AJ12) -> 0 | AL12: =IF($AK$3="４週",AK12/4,AK12/(DAY(EOMONTH($F$9,0))/7)) -> 0
A13: 3 | B13: 医師 | C13: C | E13: C | AK13: =+SUM(F13:AJ13) -> 0 | AL13: =IF($AK$3="４週",AK13/4,AK13/(DAY(EOMONTH($F$9,0))/7)) -> 0
A14: 4 | B14: 看護職員 | C14: D | E14: D | AK14: =+SUM(F14:AJ14) -> 0 | AL14: =IF($AK$3="４週",AK14/4,AK14/(DAY(EOMONTH($F$9,0))/7)) -> 0
A15: 5 | AK15: =+SUM(F15:AJ15) -> 0 | AL15: =IF($AK$3="４週",AK15/4,AK15/(DAY(EOMONTH($F$9,0))/7)) -> 0
A16: 6 | AK16: =+SUM(F16:AJ16) -> 0 | AL16: =IF($AK$3="４週",AK16/4,AK16/(DAY(EOMONTH($F$9,0))/7)) -> 0
A17: 7 | AK17: =+SUM(F17:AJ17) -> 0 | AL17: =IF($AK$3="４週",AK17/4,AK17/(DAY(EOMONTH($F$9,0))/7)) -> 0
A18: 8 | AK18: =+SUM(F18:AJ18) -> 0 | AL18: =IF($AK$3="４週",AK18/4,AK18/(DAY(EOMONTH($F$9,0))/7)) -> 0
A19: 9 | AK19: =+SUM(F19:AJ19) -> 0 | AL19: =IF($AK$3="４週",AK19/4,AK19/(DAY(EOMONTH($F$9,0))/7)) -> 0
A20: 10 | AK20: =+SUM(F20:AJ20) -> 0 | AL20: =IF($AK$3="４週",AK20/4,AK20/(DAY(EOMONTH($F$9,0))/7)) -> 0
A21: 11 | AK21: =+SUM(F21:AJ21) -> 0 | AL21: =IF($AK$3="４週",AK21/4,AK21/(DAY(EOMONTH($F$9,0))/7)) -> 0
A22: 12 | AK22: =+SUM(F22:AJ22) -> 0 | AL22: =IF($AK$3="４週",AK22/4,AK22/(DAY(EOMONTH($F$9,0))/7)) -> 0
A23: 13 | AK23: =+SUM(F23:AJ23) -> 0 | AL23: =IF($AK$3="４週",AK23/4,AK23/(DAY(EOMONTH($F$9,0))/7)) -> 0
A24: 14 | AK24: =+SUM(F24:AJ24) -> 0 | AL24: =IF($AK$3="４週",AK24/4,AK24/(DAY(EOMONTH($F$9,0))/7)) -> 0
A25: 15 | AK25: =+SUM(F25:AJ25) -> 0 | AL25: =IF($AK$3="４週",AK25/4,AK25/(DAY(EOMONTH($F$9,0))/7)) -> 0
A26: 16 | AK26: =+SUM(F26:AJ26) -> 0 | AL26: =IF($AK$3="４週",AK26/4,AK26/(DAY(EOMONTH($F$9,0))/7)) -> 0
... A30: 20 | AK30: =+SUM(F30:AJ30) -> 0 | AL30: =IF($AK$3="４週",AK30/4,AK30/(DAY(EOMONTH($F$9,0))/7)) -> 0
A31: 合計 | F31: =+SUM(F11:F30) -> 0 | G31: =+SUM(G11:G30) -> 0 | H31: =+SUM(H11:H30) -> 0 | I31: =+SUM(I11:I30) -> 0 | J31: =+SUM(J11:J30) -> 0 | K31: =+SUM(K11:K30) -> 0 | L31: =+SUM(L11:L30) -> 0 | M31: =+SUM(M11:M30) -> 0 | ... AJ31: =+SUM(AJ11:AJ30) -> 0 | AK31: =+SUM(F31:AJ31) -> 0 | AL31: =IF($AK$3="４週",AK31/4,AK31/(DAY(EOMONTH($F$9,0))/7)) -> 0
A32: サービス提供時間
A36: ＜前年度の平均値＞※新規申請の場合は推定数を記載ください。
D37: 4 | E37: 5 | F37: 6 | I37: 7 | L37: 8 | O37: 9 | R37: 10 | U37: 11 | X37: 12 | AA37: 1 | AD37: 2 | AG37: 3 | AJ37: 計 | AL37: 平均利用者数 | AM37: 平均障害支援区分
A38: 利用者延べ数計 | D38: =SUM(D39:D43) -> 4500 | E38: =SUM(E39:E43) -> 4215 | F38: =SUM(F39:H43) -> 4500 | I38: =SUM(I39:K43) -> 4725 | L38: =SUM(L39:N43) -> 4725 | O38: =SUM(O39:Q43) -> 4275 | R38: =SUM(R39:T43) -> 4500 | U38: =SUM(U39:W43) -> 4500 | X38: =SUM(X39:Z43) -> 4275 | AA38: =SUM(AA39:AC43) -> 4275 | AD38: =SUM(AD39:AF43) -> 4275 | AG38: =SUM(AG39:AI43) -> 2500 | AJ38: =SUM(D38:AI38) -> 51265 | AL38: =ROUNDUP(((AJ38-AJ44-AJ45)+AJ44*0.5+AJ45*0.75)/AJ46,1) -> 208.6 | AM38: =ROUND((2*AJ39+3*AJ40+4*AJ41+5*AJ42+6*AJ43)/AJ38,1) -> 4.3
A39: 区分２の延べ利用者数 | D39: 100 | E39: 95 | F39: 100 | I39: 105 | L39: 105 | O39: 95 | R39: 100 | U39: 100 | X39: 95 | AA39: 95 | AD39: 95 | AG39: 100 | AJ39: =SUM(D39:AI39) -> 1185
A40: 区分３の延べ利用者数 | D40: 100 | E40: 95 | F40: 100 | I40: 105 | L40: 105 | O40: 95 | R40: 100 | U40: 100 | X40: 95 | AA40: 95 | AD40: 95 | AG40: 100 | AJ40: =SUM(D40:AI40) -> 1185
A41: 区分４の延べ利用者数 | D41: 2800 | E41: 2620 | F41: 2800 | I41: 2940 | L41: 2940 | O41: 2660 | R41: 2800 | U41: 2800 | X41: 2660 | AA41: 2660 | AD41: 2660 | AG41: 800 | AJ41: =SUM(D41:AI41) -> 31140
A42: 区分５の延べ利用者数 | D42: 1400 | E42: 1310 | F42: 1400 | I42: 1470 | L42: 1470 | O42: 1330 | R42: 1400 | U42: 1400 | X42: 1330 | AA42: 1330 | AD42: 1330 | AG42: 1400 | AJ42: =SUM(D42:AI42) -> 16570
A43: 区分６の延べ利用者数 | D43: 100 | E43: 95 | F43: 100 | I43: 105 | L43: 105 | O43: 95 | R43: 100 | U43: 100 | X43: 95 | AA43: 95 | AD43: 95 | AG43: 100 | AJ43: =SUM(D43:AI43) -> 1185
B44: 所要時間５時間未満の利用者数 | D44: 100 | E44: 95 | F44: 100 | I44: 105 | L44: 105 | O44: 95 | R44: 100 | U44: 100 | X44: 95 | AA44: 95 | AD44: 95 | AG44: 2000 | AJ44: =SUM(D44:AI44) -> 3085
B45: 所要時間５時間以上７時間未満の 利用者数 | D45: 100 | E45: 95 | F45: 100 | I45: 105 | L45: 105 | O45: 95 | R45: 100 | U45: 100 | X45: 95 | AA45: 95 | AD45: 95 | AG45: 100 | AJ45: =SUM(D45:AI45) -> 1185
A46: 開所日数 | D46: 20 | E46: 19 | F46: 20 | I46: 21 | L46: 21 | O46: 19 | R46: 20 | U46: 20 | X46: 19 | AA46: 19 | AD46: 19 | AG46: 20 | AJ46: =+SUM(D46:AI46) -> 237
A47: (※)利用者延べ数の内数を記載してください。所要時間は、送迎や障害特性等による配慮事項を含む、個別支援計画に位置付けられた標準的な時間を指します。
...

Sheet 勤務形態一覧表（短期入所・併設型）
A1: 従業者の勤務の体制及び勤務形態一覧表 | AI1: サービス種別 | AK1: 短期入所・併設型
M2: 2024 | Q2: 年 | S2: 5 | U2: 月 | AI2: 事業所名
AI3: (1)記載する期間 | AK3: ４週
AI4: (2)予定/実績の別
AG5: (3)事業所における常勤の従業者が勤務すべき時間数 | AH5: 160 | AK5: 時間/週 | AM5: 時間/月
A7: No. | B7: (4)職種 | C7: (5)勤務形態 | D7: (6)資格 | E7: (7)氏名 | F7: (8) | AK7: (9)勤務時間数合計 | AL7: (10)週平均の勤務時間数 | AM7: (11)兼務状況 （兼務先／兼務する職務の内容）等
F8: 第１週 | M8: 第２週 | T8: 第３週 | AA8: 第４週 | AH8: 第５週
B9: ※選択肢にない職種については直接入力してください | F9: =DATE($M$2,$S$2,1) -> 45413 | G9: =DATE($M$2,$S$2,2) -> 45414 | H9: =DATE($M$2,$S$2,3) -> 45415 | I9: =DATE($M$2,$S$2,4) -> 45416 | J9: =DATE($M$2,$S$2,5) -> 45417 | K9: =DATE($M$2,$S$2,6) -> 45418 | L9: =DATE($M$2,$S$2,7) -> 45419 | M9: =DATE($M$2,$S$2,8) -> 45420 | N9: =DATE($M$2,$S$2,9) -> 45421 | O9: =DATE($M$2,$S$2,10) -> 45422 | P9: =DATE($M$2,$S$2,11) -> 45423 | Q9: =DATE($M$2,$S$2,12) -> 45424 | R9: =DATE($M$2,$S$2,13) -> 45425 | S9: =DATE($M$2,$S$2,14) -> 45426 | T9: =DATE($M$2,$S$2,15) -> 45427 | U9: =DATE($M$2,$S$2,16) -> 45428 | V9: =DATE($M$2,$S$2,17) -> 45429 | W9: =DATE($M$2,$S$2,18) -> 45430 | X9: =DATE($M$2,$S$2,19) -> 45431 | Y9: =DATE($M$2,$S$2,20) -> 45432 | Z9: =DATE($M$2,$S$2,21) -> 45433 | AA9: =DATE($M$2,$S$2,22) -> 45434 | AB9: =DATE($M$2,$S$2,23) -> 45435 | AC9: =DATE($M$2,$S$2,24) -> 45436 | AD9: =DATE($M$2,$S$2,25) -> 45437 | AE9: =DATE($M$2,$S$2,26) -> 45438 | AF9: =DATE($M$2,$S$2,27) -> 45439 | AG9: =DATE($M$2,$S$2,28) -> 45440 | AH9: =IF(DAY(EOMONTH(F9,0))<29,"",DATE($M$2,$S$2,29)) -> 45441 | AI9: =IF(DAY(EOMONTH(F9,0))<30,"",DATE($M$2,$S$2,30)) -> 45442 | AJ9: =IF(DAY(EOMONTH(F9,0))<31,"",DATE($M$2,$S$2,31)) -> 45443
F10: =DATE($M$2,$S$2,1) -> 45413 | G10: =DATE($M$2,$S$2,2) -> 45414 | H10: =DATE($M$2,$S$2,3) -> 45415 | I10: =DATE($M$2,$S$2,4) -> 45416 | J10: =DATE($M$2,$S$2,5) -> 45417 | K10: =DATE($M$2,$S$2,6) -> 45418 | L10: =DATE($M$2,$S$2,7) -> 45419 | M10: =DATE($M$2,$S$2,8) -> 45420 | N10: =DATE($M$2,$S$2,9) -> 45421 | O10: =DATE($M$2,$S$2,10) -> 45422 | P10: =DATE($M$2,$S$2,11) -> 45423 | Q10: =DATE($M$2,$S$2,12) -> 45424 | R10: =DATE($M$2,$S$2,13) -> 45425 | S10: =DATE($M$2,$S$2,14) -> 45426 | T10: =DATE($M$2,$S$2,15) -> 45427 | U10: =DATE($M$2,$S$2,16) -> 45428 | V10: =DATE($M$2,$S$2,17) -> 45429 | W10: =DATE($M$2,$S$2,18) -> 45430 | X10: =DATE($M$2,$S$2,19) -> 45431 | Y10: =DATE($M$2,$S$2,20) -> 45432 | Z10: =DATE($M$2,$S$2,21) -> 45433 | AA10: =DATE($M$2,$S$2,22) -> 45434 | AB10: =DATE($M$2,$S$2,23) -> 45435 | AC10: =DATE($M$2,$S$2,24) -> 45436 | AD10: =DATE($M$2,$S$2,25) -> 45437 | AE10: =DATE($M$2,$S$2,26) -> 45438 | AF10: =DATE($M$2,$S$2,27) -> 45439 | AG10: =DATE($M$2,$S$2,28) -> 45440 | AH10: =IF(DAY(EOMONTH(F10,0))<29,"",DATE($M$2,$S$2,29)) -> 45441 | AI10: =IF(DAY(EOMONTH(F10,0))<30,"",DATE($M$2,$S$2,30)) -> 45442 | AJ10: =IF(DAY(EOMONTH(F10,0))<31,"",DATE($M$2,$S$2,31)) -> 45443
A11: 1 | B11: 管理者 | AK11: =+SUM(F11:AJ11) -> 0 | AL11: =IF($AK$3="４週",AK11/4,AK11/(DAY(EOMONTH($F$9,0))/7)) -> 0
A12: 2 | AK12: =+SUM(F12:AJ12) -> 0 | AL12: =IF($AK$3="４週",AK12/4,AK12/(DAY(EOMONTH($F$9,0))/7)) -> 0
A13: 3 | AK13: =+SUM(F13:AJ13) -> 0 | AL13: =IF($AK$3="４週",AK13/4,AK13/(DAY(EOMONTH($F$9,0))/7)) -> 0
A14: 4 | AK14: =+SUM(F14:AJ14) -> 0 | AL14: =IF($AK$3="４週",AK14/4,AK14/(DAY(EOMONTH($F$9,0))/7)) -> 0
A15: 5 | AK15: =+SUM(F15:AJ15) -> 0 | AL15: =IF($AK$3="４週",AK15/4,AK15/(DAY(EOMONTH($F$9,0))/7)) -> 0
A16: 6 | AK16: =+SUM(F16:AJ16) -> 0 | AL16: =IF($AK$3="４週",AK16/4,AK16/(DAY(EOMONTH($F$9,0))/7)) -> 0
A17: 7 | AK17: =+SUM(F17:AJ17) -> 0 | AL17: =IF($AK$3="４週",AK17/4,AK17/(DAY(EOMONTH($F$9,0))/7)) -> 0
A18: 8 | AK18: =+SUM(F18:AJ18) -> 0 | AL18: =IF($AK$3="４週",AK18/4,AK18/(DAY(EOMONTH($F$9,0))/7)) -> 0
A19: 9 | AK19: =+SUM(F19:AJ19) -> 0 | AL19: =IF($AK$3="４週",AK19/4,AK19/(DAY(EOMONTH($F$9,0))/7)) -> 0
A20: 10 | AK20: =+SUM(F20:AJ20) -> 0 | AL20: =IF($AK$3="４週",AK20/4,AK20/(DAY(EOMONTH($F$9,0))/7)) -> 0
A21: 11 | AK21: =+SUM(F21:AJ21) -> 0 | AL21: =IF($AK$3="４週",AK21/4,AK21/(DAY(EOMONTH($F$9,0))/7)) -> 0
A22: 12 | AK22: =+SUM(F22:AJ22) -> 0 | AL22: =IF($AK$3="４週",AK22/4,AK22/(DAY(EOMONTH($F$9,0))/7)) -> 0
A23: 13 | AK23: =+SUM(F23:AJ23) -> 0 | AL23: =IF($AK$3="４週",AK23/4,AK23/(DAY(EOMONTH($F$9,0))/7)) -> 0
... A30: 20 | AK30: =+SUM(F30:AJ30) -> 0 | AL30: =IF($AK$3="４週",AK30/4,AK30/(DAY(EOMONTH($F$9,0))/7)) -> 0
A31: 合計 | F31: =+SUM(F11:F30) -> 0 | G31: =+SUM(G11:G30) -> 0 | H31: =+SUM(H11:H30) -> 0 | I31: =+SUM(I11:I30) -> 0 | J31: =+SUM(J11:J30) -> 0 | K31: =+SUM(K11:K30) -> 0 | L31: =+SUM(L11:L30) -> 0 | M31: =+SUM(M11:M30) -> 0 | ... AJ31: =+SUM(AJ11:AJ30) -> 0 | AK31: =+SUM(F31:AJ31) -> 0 | AL31: =IF($AK$3="４週",AK31/4,AK31/(DAY(EOMONTH($F$9,0))/7)) -> 0
A32: サービス提供時間
A36: ・最初に「年月欄」「サービス種別」「事業所名」を入力してください。 | R36: 6 | X36: 7 | AD36: 8 | AJ36: 9
A37: (1) 「４週」・「暦月」のいずれかを選択してください。
A38: (2) 「予定」・「実績」のいずれかを選択してください。
A39: (3) 事業所における常勤の従業者が勤務すべき時間数を入力してください。
A40: (4) 従業者の職種を入力してください。
A41: 記入の順序は、職種ごとにまとめてください。
A42: (5) 従業者の勤務形態について、下記のうち該当する区分の記号を入力してください。
B43: 記号 | C43: 区分
B44: A | C44: 常勤で専従
B45: B | C45: 常勤で兼務
B46: C | C46: 非常勤で専従
B47: D | C47: 非常勤で兼務
B48: （注）常勤・非常勤の区分について
B49: 当該事業所における勤務時間が、当該事業所において定められている常勤の従業者が勤務すべき時間数に達していることをいいます。雇用の形態は考慮しません。
B50: （例えば、常勤者は週に40時間勤務することとされた事業所であれば、非正規雇用であっても、週40時間勤務する従業者は常勤扱いとなります。）
...

Sheet 勤務形態一覧表（短期入所・空床利用型）
A1: 従業者の勤務の体制及び勤務形態一覧表 | AI1: サービス種別 | AK1: 短期入所・空床利用型
M2: 2024 | Q2: 年 | S2: 5 | U2: 月 | AI2: 事業所名
AI3: (1)記載する期間 | AK3: ４週
AI4: (2)予定/実績の別
AG5: (3)事業所における常勤の従業者が勤務すべき時間数 | AH5: 160 | AK5: 時間/週 | AM5: 時間/月
A7: No. | B7: (4)職種 | C7: (5)勤務形態 | D7: (6)資格 | E7: (7)氏名 | F7: (8) | AK7: (9)勤務時間数合計 | AL7: (10)週平均の勤務時間数 | AM7: (11)兼務状況 （兼務先／兼務する職務の内容）等
F8: 第１週 | M8: 第２週 | T8: 第３週 | AA8: 第４週 | AH8: 第５週
B9: ※選択肢にない職種については直接入力してください | F9: =DATE($M$2,$S$2,1) -> 45413 | G9: =DATE($M$2,$S$2,2) -> 45414 | H9: =DATE($M$2,$S$2,3) -> 45415 | I9: =DATE($M$2,$S$2,4) -> 45416 | J9: =DATE($M$2,$S$2,5) -> 45417 | K9: =DATE($M$2,$S$2,6) -> 45418 | L9: =DATE($M$2,$S$2,7) -> 45419 | M9: =DATE($M$2,$S$2,8) -> 45420 | N9: =DATE($M$2,$S$2,9) -> 45421 | O9: =DATE($M$2,$S$2,10) -> 45422 | P9: =DATE($M$2,$S$2,11) -> 45423 | Q9: =DATE($M$2,$S$2,12) -> 45424 | R9: =DATE($M$2,$S$2,13) -> 45425 | S9: =DATE($M$2,$S$2,14) -> 45426 | T9: =DATE($M$2,$S$2,15) -> 45427 | U9: =DATE($M$2,$S$2,16) -> 45428 | V9: =DATE($M$2,$S$2,17) -> 45429 | W9: =DATE($M$2,$S$2,18) -> 45430 | X9: =DATE($M$2,$S$2,19) -> 45431 | Y9: =DATE($M$2,$S$2,20) -> 45432 | Z9: =DATE($M$2,$S$2,21) -> 45433 | AA9: =DATE($M$2,$S$2,22) -> 45434 | AB9: =DATE($M$2,$S$2,23) -> 45435 | AC9: =DATE($M$2,$S$2,24) -> 45436 | AD9: =DATE($M$2,$S$2,25) -> 45437 | AE9: =DATE($M$2,$S$2,26) -> 45438 | AF9: =DATE($M$2,$S$2,27) -> 45439 | AG9: =DATE($M$2,$S$2,28) -> 45440 | AH9: =IF(DAY(EOMONTH(F9,0))<29,"",DATE($M$2,$S$2,29)) -> 45441 | AI9: =IF(DAY(EOMONTH(F9,0))<30,"",DATE($M$2,$S$2,30)) -> 45442 | AJ9: =IF(DAY(EOMONTH(F9,0))<31,"",DATE($M$2,$S$2,31)) -> 45443
F10: =DATE($M$2,$S$2,1) -> 45413 | G10: =DATE($M$2,$S$2,2) -> 45414 | H10: =DATE($M$2,$S$2,3) -> 45415 | I10: =DATE($M$2,$S$2,4) -> 45416 | J10: =DATE($M$2,$S$2,5) -> 45417 | K10: =DATE($M$2,$S$2,6) -> 45418 | L10: =DATE($M$2,$S$2,7) -> 45419 | M10: =DATE($M$2,$S$2,8) -> 45420 | N10: =DATE($M$2,$S$2,9) -> 45421 | O10: =DATE($M$2,$S$2,10) -> 45422 | P10: =DATE($M$2,$S$2,11) -> 45423 | Q10: =DATE($M$2,$S$2,12) -> 45424 | R10: =DATE($M$2,$S$2,13) -> 45425 | S10: =DATE($M$2,$S$2,14) -> 45426 | T10: =DATE($M$2,$S$2,15) -> 45427 | U10: =DATE($M$2,$S$2,16) -> 45428 | V10: =DATE($M$2,$S$2,17) -> 45429 | W10: =DATE($M$2,$S$2,18) -> 45430 | X10: =DATE($M$2,$S$2,19) -> 45431 | Y10: =DATE($M$2,$S$2,20) -> 45432 | Z10: =DATE($M$2,$S$2,21) -> 45433 | AA10: =DATE($M$2,$S$2,22) -> 45434 | AB10: =DATE($M$2,$S$2,23) -> 45435 | AC10: =DATE($M$2,$S$2,24) -> 45436 | AD10: =DATE($M$2,$S$2,25) -> 45437 | AE10: =DATE($M$2,$S$2,26) -> 45438 | AF10: =DATE($M$2,$S$2,27) -> 45439 | AG10: =DATE($M$2,$S$2,28) -> 45440 | AH10: =IF(DAY(EOMONTH(F10,0))<29,"",DATE($M$2,$S$2,29)) -> 45441 | AI10: =IF(DAY(EOMONTH(F10,0))<30,"",DATE($M$2,$S$2,30)) -> 45442 | AJ10: =IF(DAY(EOMONTH(F10,0))<31,"",DATE($M$2,$S$2,31)) -> 45443
A11: 1 | B11: 管理者 | AK11: =+SUM(F11:AJ11) -> 0 | AL11: =IF($AK$3="４週",AK11/4,AK11/(DAY(EOMONTH($F$9,0))/7)) -> 0
A12: 2 | AK12: =+SUM(F12:AJ12) -> 0 | AL12: =IF($AK$3="４週",AK12/4,AK12/(DAY(EOMONTH($F$9,0))/7)) -> 0
A13: 3 | AK13: =+SUM(F13:AJ13) -> 0 | AL13: =IF($AK$3="４週",AK13/4,AK13/(DAY(EOMONTH($F$9,0))/7)) -> 0
A14: 4 | AK14: =+SUM(F14:AJ14) -> 0 | AL14: =IF($AK$3="４週",AK14/4,AK14/(DAY(EOMONTH($F$9,0))/7)) -> 0
A15: 5 | AK15: =+SUM(F15:AJ15) -> 0 | AL15: =IF($AK$3="４週",AK15/4,AK15/(DAY(EOMONTH($F$9,0))/7)) -> 0
A16: 6 | AK16: =+SUM(F16:AJ16) -> 0 | AL16: =IF($AK$3="４週",AK16/4,AK16/(DAY(EOMONTH($F$9,0))/7)) -> 0
A17: 7 | AK17: =+SUM(F17:AJ17) -> 0 | AL17: =IF($AK$3="４週",AK17/4,AK17/(DAY(EOMONTH($F$9,0))/7)) -> 0
A18: 8 | AK18: =+SUM(F18:AJ18) -> 0 | AL18: =IF($AK$3="４週",AK18/4,AK18/(DAY(EOMONTH($F$9,0))/7)) -> 0
A19: 9 | AK19: =+SUM(F19:AJ19) -> 0 | AL19: =IF($AK$3="４週",AK19/4,AK19/(DAY(EOMONTH($F$9,0))/7)) -> 0
