Workbook
Name ___________kk29: #REF!
Name __________kk06: #REF!
Name __________kk29: #REF!
Name _________kk06: #REF!
Name _________kk29: #REF!
Name ________kk06: #REF!
Name ________kk29: #REF!
Name _______kk06: #REF!
Name _______kk29: #REF!
Name ______kk06: #REF!
Name ______kk29: #REF!
Name _____kk06: #REF!
Name _____kk29: #REF!
Name ____kk06: #REF!
Name ____kk1: #REF!
Name ____kk29: #REF!
Name ___kk06: #REF!
Name ___kk1: #REF!
Name ___kk29: #REF!
Name __kk06: #REF!
Name __kk06: #REF!
Name __kk06: #REF!
Name __kk06: #REF!
Name __kk1: #REF!
Name __kk29: #REF!
Name __kk29: #REF!
Name __kk29: #REF!
Name _kk06: #REF!
Name _kk06: #REF!
Name _kk06: #REF!
Name _kk1: #REF!
Name _kk2: #REF!
Name _kk29: #REF!
Name ▼選択してください。: #REF!
Name ②従業者の員数: #REF!
Name aa: #REF!
Name aaaaa: #REF!
Name as: #REF!
Name Avrg: #REF!
Name Avrg: #REF!
Name Avrg: #REF!
Name Avrg: #REF!
Name Avrg: #REF!
Name avrg1: #REF!
Name CSV_サービス情報: #REF!
Name CSV_サービス情報: #REF!
Name CSV_サービス情報: #REF!
Name CSV_サービス情報: #REF!
Name CSV_サービス情報: #REF!
Name CSV_口座振込依頼書: #REF!
Name CSV_口座振込依頼書: #REF!
Name CSV_口座振込依頼書: #REF!
Name CSV_口座振込依頼書: #REF!
Name CSV_口座振込依頼書: #REF!
Name CSV_施設種別: #REF!
Name CSV_追加情報: #REF!
Name CSV_追加情報: #REF!
Name CSV_追加情報: #REF!
Name CSV_追加情報: #REF!
Name CSV_付表１: #REF!

Sheet 提出書類一覧
B4: 事業所名： ご担当者： | D4: 〇：必ず提出 △：該当がある場合提出 －：提出不要
B5: ＴＥＬ： | D5: 地域移行 地域定着
A6: 参考 | B6: Ｅ－ｍａｉｌ：
D7: 地域移行 | E7: 地域定着 | F7: 確認 | G7: 備考
B8: 必要書類一覧（このリスト） | D8: ○ | E8: ○
A9: ② | B9: 新規指定申請書類チェックシート | D9: ○ | E9: ○
A10: ① | B10: 様式第１号 | D10: ○ | E10: ○
A11: ② | B11: 申請書別紙 ※他法で指定を受けている事業がある場合のみ | D11: △ | E11: △
A12: ① | B12: 口座振込（変更）依頼書 | D12: ○ | E12: ○
A13: ① | B13: 通帳の写し | D13: ○ | E13: ○
A14: ② | B14: 付表１４ | D14: ○ | E14: ○
A15: ② | B15: 付表別紙（他の事業所又は施設の従事者と兼務する相談支援専門員について） | D15: △ | E15: △ | G15: ※同一事業所内他ｻｰﾋﾞｽの兼務を含む
A16: ⑦ | B16: 定款 | D16: ○ | E16: ○
A17: ⑦ | B17: 履歴事項全部証明書 ※指定予定日から3か月以内に発行した原本 | D17: ○ | E17: ○
A18: ④ | B18: 運営規程 | D18: ○ | E18: ○
A19: ② | B19: 参考様式１（平面図） | D19: ○ | E19: ○
A20: ② | B20: 参考様式２（居室面積等一覧表） | D20: ○ ※１ | E20: ○ ※２ | G20: ※１ 体験宿泊を行う場合に限る ※２ 一時的な滞在を行う場合に限る
A21: ② | B21: 参考様式３（設備） | D21: ○ | E21: ○
A22: ② | B22: 参考様式（写真） （事業所のカラー写真） | D22: ○ | E22: ○ | G22: 設備・備品を全て設置後の写真が必要です。
A23: ② | B23: 参考様式７（組織体制） | D23: ○ | E23: ○
A24: ② | B24: 別紙２（勤務形態） | D24: ○ | E24: ○
A25: ② | B25: 人員（管理者） に関する書類 | C25: 参考様式４（経歴書） | D25: ○ | E25: ○
A26: ② | B26: 人員 （相談支援専門員） に関する 書類 | C26: 参考様式４（経歴書） | D26: ○ | E26: ○
A27: ⑦ | C27: 資格証・研修修了証の写し | D27: ○ | E27: ○
A28: ② | C28: 参考様式５（実務経験） | D28: △ | E28: △
A29: ② | B29: 人員（その他従業者）に関する書類 | C29: 参考様式４（経歴書） | D29: △ ※３ | E29: △ ※４ | G29: ※３ 地域移行支援従事者 ※４ 地域定着支援従事者
A30: ② | B30: 参考様式６（苦情解決） ※法人の内規があれば別途添付 | D30: ○ | E30: ○
A31: ② | B31: 参考様式８ ※主たる対象者限定の場合のみ | D31: △ | E31: △
A32: ② | B32: 参考様式９（誓約書） | D32: ○ | E32: ○
A33: ② | B33: 参考様式９別紙（役員名簿） | D33: ○ | E33: ○
A34: ② | B34: 参考様式１０（関係機関との協力体制） | D34: ○ ※⑥ | E34: ○ ※⑦ | G34: ※⑥ 体験宿泊の場所が自事業所に無い場合には、体験宿泊について関係機関と連携して実施する旨を記載 ※⑦ 一時滞在の場所が自事業所に無い場合には、一時滞在について関係機関と連携して実施する旨を記載
A35: ② | B35: 管理者の誓約書 | D35: ○ | E35: ○
A36: ⑦ | B36: 財産目録又は決算報告書 | D36: ○ | E36: ○
A37: ② | B37: 参考様式１１ 事業計画書 ※事業所内で別途事業計画がある場合はあわせて添付すること。 | D37: ○ | E37: ○
A38: ② | B38: 収支予算書 | D38: ○ | E38: ○
A39: ② | B39: 賠償責任保険証書の写し等 当該業務内容が保証されていることがわかる書類 ※有効期間の記載必要 | D39: ○ | E39: ○
A40: ② | B40: 事業所物件の賃貸借契約書の写し ※自社物件の場合、所有状況がわかるもの | D40: ○ | E40: ○
A41: ② | B41: 参考様式１２（事業開始届） | D41: ○ | E41: ○
A42: ② | B42: 参考様式１３（常時の連絡体制） | D42: ― | E42: ○
A43: ② | B43: 社会保険及び労働保険への加入状況にかかる確認票 | D43: ○ | E43: ○
...

Sheet 新規指定申請チェックシート
A1: 新規指定申請書確認表・新規指定申請書類チェックシート
A2: 指定申請をする際は、必ず以下のチェック項目について確認をした上で書類を御提出ください。
A3: ※申請するサービスにより提出が必要な様式・確認項目が異なります。サービスごとの必要書類一覧の必要な様式をまず御確認の上、記載された内容にうちて御確認ください。
A4: ※以下のチェック事項にない事項でも、記載内容によっては、修正が必要となる場合があります。
A5: 様式・該当項目 | D5: チェック事項（よくある誤り） | K5: 確認
A6: 全様式 共通事項 | D6: 初回書類提出時には書類の日付記載欄は（証明書を除き）空欄で、記載しないようにお願いします。 ※書類最終提出時に日付をご記載いただきます。 | K6: □
D7: 法人名称は、履歴事項全部証明書にある名称と完全に一致させてください。（スペースの有無も完全に一致させる） 【よくある誤り：「登記では「○○ 株式会社」とあるものを、書類には「○○株式会社」と記載している】 | K7: □
D8: 職員の氏名を正しく記載してください。（「高」と「髙」の違い、「沢」と「澤」の違い 等） | K8: □
D9: 職員の氏名は、苗字の名前の間を１文字開けてください。（フリガナも同様） | K9: □
D10: 宛先が記載されている書類は、宛先が必ず川崎市長になっていることを確認してください。 | K10: □
D11: 代表者氏名には必ず役職・肩書きを記載してください。 | K11: □
D12: 日付は全て和暦（令和○年○月○日）で記載してください。（西暦や、Ｈ○年 という記載は×） | K12: □
D13: 事業所の所在地は全ての書類で一致させてください。 | K13: □
A14: 様式第１号（指定申請書） | B14: 申請日 | D14: 初回書類提出時には書類の日付記載欄は空欄で、記載しないようにお願いします。 ※書類最終提出時に日付をご記載いただきます。 | K14: □
B15: （申請者） | C15: 所在地 | D15: 法人の所在地を記載していますか？ また、その記載は「履歴事項全部証明書」の記載と完全に一致していますか？ 【よくある誤り】 ・登記では「三丁目」とあるものを書類には「３丁目」と記載している （漢数字・算用数字の記載は、履歴事項全部証明書にある記載と完全に一致させてください） ・登記では「三丁目八番地五号」となっている所、「３－８－５」等ハイフン標記にしている （番地・号数の記載方法は、履歴事項全部証明書にある記載と完全に一致させてください） ・登記には建物名がないが、書類には建物名を記載している （建物名の記載の有無は、履歴事項全部証明書にある記載と完全に一致させてください） | K15: □
C16: 名称 | D16: 法人の名称を記載していますか？ また、その名称は、 履歴事項全部証明書にある法人名と一致していますか？（スペースの有無も完全に一致させてください） 【よくある誤り：「登記では「○○ 株式会社」とあるものを、書類には「○○株式会社」と記載している】 | K16: □
C17: 代表者氏名 | D17: 法人の代表者の役職と氏名を記載し、役職・苗字・名前の間を１文字開けて記載しましたか？ | K17: □
B18: 申請者（設置者） | C18: 名称(ﾌﾘｶﾞﾅ) | D18: 法人の名称を半角ｶﾀｶﾅで記載しましたか？ | K18: □
C19: 名称 | D19: 法人の名称を記載していますか？ また、その名称は、 履歴事項全部証明書にある法人名と一致していますか？（スペースの有無も完全に一致させてください） 【よくある誤り：「登記では「○○ 株式会社」とあるものを、書類には「○○株式会社」と記載している】 | K19: □
C20: 主たる事務所の所在地 （郵便番号） | D20: 半角数字7桁（ハイフンなし）で入力しましたか？ ※ハイフンを手動で入力してしまうと、後述する口座振替依頼書の記載に誤りが出るので、注意してください。 | K20: □
C21: 主たる事務所の所在地 | D21: 法人の所在地を記載していますか？ また、その記載は「履歴事項全部証明書」の記載と完全に一致していますか？ 【よくある誤り】 ・登記では「三丁目」とあるものを書類には「３丁目」と記載している （漢数字・算用数字の記載は、履歴事項全部証明書にある記載と完全に一致させてください） ・登記では「三丁目八番地五号」となっている所、「３－８－５」等ハイフン標記にしている （番地・号数の記載方法は、履歴事項全部証明書にある記載と完全に一致させてください） ・登記には建物名がないが、書類には建物名を記載している （建物名の記載の有無は、履歴事項全部証明書にある記載と完全に一致させてください） | K21: □
C22: 連絡先（電話番号） | D22: 半角数字＋ﾊｲﾌﾝで記載しましたか？ | K22: □
C23: 連絡先（FAX番号） | D23: 半角数字＋ﾊｲﾌﾝで記載しましたか？ | K23: □
C24: 法人の種類 | D24: 正しく選択しましたか？ | K24: □
C25: 法人所轄庁 | D25: 正しく記載しましたか？（営利法人の場合、「法人所轄庁」欄は空欄としてください。） | K25: □
C26: 代表者（役職） | D26: 正しく記載しましたか？ | K26: □
C27: 代表者(氏名) | D27: 法人の代表者の氏名を記載し、苗字・名前の間を１文字開けて記載しましたか？（役職はこの欄には記載不要です） | K27: □
C28: 代表者(住所) | D28: 法人の代表者住所を記載しましたか？ また、履歴事項全部証明書にある代表者住所と記載は完全に一致していますか？ 【よくある誤り】 ・登記では「三丁目」とあるものを書類には「３丁目」と記載している （漢数字・算用数字の記載は、履歴事項全部証明書にある記載と完全に一致させてください） ・登記では「三丁目八番地五号」となっている所、「３－８－５」等ハイフン標記にしている （番地・号数の記載方法は、履歴事項全部証明書にある記載と完全に一致させてください） ・登記には建物名がないが、書類には建物名を記載している （建物名の記載の有無は、履歴事項全部証明書にある記載と完全に一致させてください） | K28: □
B29: 指定を受けようとする事業所・施設の種類 | C29: 名称(ﾌﾘｶﾞﾅ) | D29: 事業所の名称を半角ｶﾀｶﾅで記載しましたか？ | K29: □
C30: 名称 | D30: 事業所の名称は、運営規程等、各種様式の記載と一致していますか？ | K30: □
C31: 事業所（施設）の所在地 | D31: 事業所の所在地を記載しましたか？ また、運営規程に定める事業所の所在地と記載は完全に一致していますか？ 【よくある誤り】 ・運営規程では「三丁目」とあるものを書類には「３丁目」と記載している （漢数字・算用数字の記載も運営規程にある記載と完全に一致させてください） ・運営規程では「三丁目八番地五号」となっている所、「３－８－５」等ハイフン標記にしている （番地・号数の記載方法は運営規程にある記載と完全に一致させてください） ・運営規程には建物名がないが、書類には建物名を記載している （建物名の記載の有無は運営規程にある記載と完全に一致させてください） | K31: □
C32: 事業等の種類 | D32: 正しく選択されていますか？ | K32: □
C33: 指定申請をする事業等の事業開始年月日 | D33: 指定予定年月日（原則１日）を記入しましたか？ | K33: □
B34: 主たる事業所名称 | D34: 事業所の名称は、運営規程等、各種様式の記載と一致していますか？ | K34: □
B35: 指定有効開始年月日 | D35: 指定予定年月日（原則１日）を記入しましたか？ | K35: □
B36: 指定有効終了年月日 | D36: 「指定有効終了年月日」欄には指定有効開始年月日の６年後の日付を記載しましたか？ | K36: □
B37: 指定更新中区分 | D37: ※川崎市から何か指定がない限り、記載不要です。 | K37: □
B38: ※地域生活支援拠点等区分
B39: 効力停止開始年月
B40: 効力停止終了年月
...

Sheet 申請書別紙
AA1: （別紙）
G3: 他の法律において既に指定を受けている事業等について
A5: 法律の名称 | G5: サービスの種類 | K5: 事業所・施設名称 | O5: 指定年月日 | T5: 指定事業所番号

Sheet 付表別紙
A2: 付表 別紙 | F2: 他の事業所又は施設の従事者と兼務する相談支援専門員について
A5: 他の事業所又は施設の従業者と兼務する相談支援専門員を全て記載してください。 ※記入欄が不足する場合は追加して記入してください。
A6: 1 | C6: 氏 名 | K6: 事業所の名称
C7: フリガナ | K7: 事業の種類 | T7: 兼務する職種
C8: 氏名 | K8: 勤務時間
A9: 2 | C9: 氏 名 | K9: 事業所の名称
C10: フリガナ | K10: 事業の種類 | T10: 兼務する職種
C11: 氏名 | K11: 勤務時間
A12: 3 | C12: 氏 名 | K12: 事業所の名称
C13: フリガナ | K13: 事業の種類 | T13: 兼務する職種
C14: 氏名 | K14: 勤務時間
A15: 4 | C15: 氏 名 | K15: 事業所の名称
C16: フリガナ | K16: 事業の種類 | T16: 兼務する職種
C17: 氏名 | K17: 勤務時間
A18: 5 | C18: 氏 名 | K18: 事業所の名称
C19: フリガナ | K19: 事業の種類 | T19: 兼務する職種
C20: 氏名 | K20: 勤務時間

Sheet 参考様式1
A1: 参考様式１ | E1: 事業所・施設の平面図
B3: 事業所の名称
B7: 建物の名称
B8: 構造概要
B9: 事業所の共用の有無
A36: （備考）１ | B36: 各室、区画の用途及び面積を記載し、他の事業や施設と共用する場合は、その旨を記載し色分けする等わかりやすく表示してください。
A37: （備考）２ | B37: 既製の平面図がある場合にはそれを添付してください。（その場合、Ａ３に縮尺の上、折り込んでください。）
A38: （備考）３ | B38: 事業所の外観及び内部（各室、区画）の写真を添付してください。

Sheet 参考様式2
A1: 参考様式２ | F1: 居室面積等一覧表 | V1: ▼選択してください。
V2: 一般相談支援（地域移行支援）
B3: 事業所の名称 | D3: =IF(参考様式1!D3="","",参考様式1!D3) | V3: 一般相談支援（地域定着支援）
B4: サービスの種類 | D4: ▼選択してください。
B6: 設置階 | D6: 1 | E6: 階 | H6: 2 | I6: 階 | M6: 階 | Q6: 階 | S6: 合 計
A7: 種類 | C7: 室数 | D7: 面積 | F7: 備考 | G7: 室数 | H7: 面積 | J7: 備考 | K7: 室数 | L7: 面積 | N7: 備考 | O7: 室数 | P7: 面積 | R7: 備考 | S7: 室数 | T7: 面積 | U7: 備考
A8: 居室 | B8: １室の定員 | E8: 一人あたり | I8: 一人あたり | M8: 一人あたり | Q8: 一人あたり
E9: （ ） | I9: （ ） | M9: （ ） | Q9: （ ）
E10: （ ） | I10: （ ） | M10: （ ） | Q10: （ ）
E11: （ ） | I11: （ ） | M11: （ ） | Q11: （ ）
E12: （ ） | I12: （ ） | M12: （ ） | Q12: （ ）
E13: （ ） | I13: （ ） | M13: （ ） | Q13: （ ）
E14: （ ） | I14: （ ） | M14: （ ） | Q14: （ ）
E15: （ ） | I15: （ ） | M15: （ ） | Q15: （ ）
E16: （ ） | I16: （ ） | M16: （ ） | Q16: （ ）
A17: 居室以外
A28: 片廊下幅 | C28: （最も狭い個所） | F28: ｍ | G28: （最も狭い個所） | J28: ｍ | K28: （最も狭い個所） | N28: ｍ | O28: （最も狭い個所） | R28: ｍ
A29: 中廊下幅 | F29: ｍ | J29: ｍ | N29: ｍ | R29: ｍ
A30: 共用する事業所・施設名
A32: 備考１ | B32: 設備基準で定められた設備等について、設置階ごとに記載してください。
A33: ２ | B33: 居室については、「1室の定員」ごとに分けて記入してください。また、同じ定員でも面積に異なる居室がある場合には、それぞれの居室ごとに分けて記入してください。
A34: ３ | B34: 「1人あたりの面積」の算出が必要な設備は、面積欄の（ ）内に記入してください。（算出にあたっては小数点以下第二位を切捨て）
A35: ４ | B35: 部屋の種類ごとにまとめて、合計の室数、面積を記入してください。
A36: ５ | B36: 他の事業所、施設と共用がある場合は、備考欄に「共用」と記入し、「共用する事業所・施設名」欄に正式名称を記入し、共用先の当該部分の平面図を添付してください。
B37: （様式１で添付されている場合は省略可）
A38: ６ | B38: 同一の事業所又は施設の他の設備と兼用している場合は「備考欄」に「○○室と兼用」と記載してください。

Sheet 参考様式3
A1: 参考様式３ | D1: 事業所の設備・備品等一覧表
B4: 事業所の名称 | D4: =IF(参考様式1!D3="","",参考様式1!D3)
B5: サービスの種類 | D5: =IF(参考様式2!D4="▼選択してください。","",参考様式2!D4)
A7: 設備の概要 | C7: 設備基準上適合すべき項目についての状況 | H7: 備品の品名及び数量 | K7: 適合の可否
A9: サービス提供上配慮すべき設備の概要
A37: 非常災害設備等
A59: 備考 １ | B59: 申請するサービスの種類に関して、基準省令で定められた設備基準上適合すべき項目のうち、「居室面積等一覧表」（参考様式２）に記載された項目以外の事項について記載してください。
A60: ２ | B60: 「適合の可否」欄には何も記載しないでください。

Sheet 参考様式(写真)
A1: 参考様式（写真）
A3: 事業所の外観及び内部の写真
A4: 注）１、写真№、撮影年月日、撮影箇所、撮影備品、を必ず記入すること。 ２、全ての部屋（トイレ・廊下含む）が死角がないように、また撮影箇所・備品が明確に写真に写るよう撮影すること。 ３、参考様式３（事業所の設備・備品等一覧表）に記載している備品を（消防設備含めて）全て撮影すること。 ４、撮影方向、写真№を「①→」のように記入した別途レイアウト・図面を作成し、添付すること。 ※ その他、新規申請については、別途新規作成ﾁｪｯｸｼｰﾄに記入された確認事項を確認の上、御提出ください。
A5: 写真№（ ） | C5: 写真№（ ）
A7: 撮影日 | B7: 令和 年 月 日 | C7: 撮影日 | D7: 令和 年 月 日
A8: 撮影箇所（部屋） | C8: 撮影箇所（部屋）
A9: 撮影備品 | C9: 撮影備品
A10: 備考 | C10: 備考
A11: 写真№（ ） | C11: 写真№（ ）
A13: 撮影日 | B13: 令和 年 月 日 | C13: 撮影日 | D13: 令和 年 月 日
A14: 撮影箇所（部屋） | C14: 撮影箇所（部屋）
A15: 撮影備品 | C15: 撮影備品
A16: 備考 | C16: 備考

Sheet 参考様式4
A1: 参考様式４ | D1: 管 理 者 | H1: 経 歴 書
D2: サービス管理責任者
D3: サービス提供責任者
D4: 相談支援専門員
D5: 指定地域移行支援従事者
D6: 指定地域定着支援従事者
A8: 事業所の名称 | C8: =IF(参考様式1!D3="","",参考様式1!D3)
A9: サービスの種類 | C9: =IF(参考様式2!D4="▼選択してください。","",参考様式2!D4)
A10: （管理者の場合で当該管理者が管理する事業所が複数の場合はその全てを記載してください。）
B11: 事業の名称
B12: サービスの種類
A14: フリガナ | H14: 生年月日
A15: 氏 名
A16: 住 所 | B16: (自宅） | C16: （〒 - ）
A17: 電話番号 | B17: (自宅）
A18: 主な職歴
A19: 期間 | D19: 勤務先 | I19: 職務内容
A29: 職務に関する資格
A30: 資格の種類 | F30: 資格取得年月日
A43: 備考（研修等の受講の状況等）
A54: 備考 | B54: 管理者、サービス管理責任者、サービス提供責任者、相談支援専門員、指定地域移行支援従事者、指定地域定着支援従事者のいずれかを○印で囲ってください。それぞれ別葉で提出してください。

Sheet 参考様式5
A1: （参考様式５）
A2: 実 務 経 験 (見 込) 証 明 書
D5: 川崎市長 | G5: 令和 年 月 日
E7: 所在地
E8: 名称
E9: 代表者氏名 | J9: 印
E10: 電話番号
A12: 下記の者の実務経験は、以下のとおりであることを証明します。
A14: 氏 名 | G14: （生年月日 年 月 日）
A15: 現 住 所
A16: 施設又は事業所名
D17: 施設・事業所の種別（ ）
A18: 業 務 期 間
D19: 年 月 日～ 年 月 日 （ 年 月間）
A20: 上記のうち業務に従事した日数 | D20: 日
A21: 業 務 内 容 | D21: 職名（ ）
A25: （注） | B25: １． | C25: 施設又は事業所名欄には、障害児入所施設等の種別も記入すること。
B26: ２． | C26: 業務期間欄は、実務経験被証明者が要援護者に対する直接的な援助を行っていた期間（見込においては援助を行うと見込まれる期間）を記入すること。（産休・育休・療養休暇や長期研修期間等は業務期間となりません）
B28: ３． | C28: 見込証明でない場合は、表題の（見込）を二重線で消すこと。
B30: ４． | C30: 業務内容欄は、看護師、生活指導員等の職名を記入し、業務内容について、老人デイサービス事業における○○業務、○○実施要綱の○○事業の○○業務等具体的に記入すること。
B32: ５． | C32: 証明内容を訂正する場合は、二重線で消した上、証明者（代表者）の印を押すこと。

Sheet 参考様式6
A1: 参考様式6 | C1: 利用者又はその家族からの苦情を解決するために講ずる措置の概要
A3: 事業所の名称 | C3: =IF(参考様式1!D3="","",参考様式1!D3)
A4: サービスの種類 | C4: =IF(参考様式2!D4="▼選択してください。","",参考様式2!D4)
A6: 措置の概要
A7: 1 | B7: 利用者又はその家族からの相談又は苦情等に対応する常設窓口（連絡先）、担当者
A28: 2 | B28: 円滑かつ迅速に苦情を解決するための処理体制・手順
B42: ※ 具体的な対応方針
A51: 3 | B51: その他参考事項
A64: 備考 | B64: 上記は例示であるので、これに関わらず、適宜項目を追加し、その内容について具体的に記載してください。

Sheet 別紙2-1
AU1: （訪問系サービス・相談支援）
A2: 別紙2 | BB2: 常勤・専従
A3: 従業者の勤務の体制及び勤務形態一覧表 | BB3: 常勤・兼務
BB4: 非常勤・専従
A5: 事業所名 | J5: =IF(参考様式1!D3="","",参考様式1!D3) | BB5: 非常勤・兼務
A6: サービス種類 | J6: =IF(参考様式2!D4="▼選択してください。","",参考様式2!D4)
A8: 職種 | G8: 勤務 形態 | J8: 氏名 | Q8: 第１週 | X8: 第２週 | AE8: 第３週 | AL8: 第４週 | AS8: 4週の合計 | AV8: 週平均の勤務時間 | AY8: 常勤換算後の人数 | AZ8: 兼務先
O9: 日付 | Q9: 1 | R9: 2 | S9: 3 | T9: 4 | U9: 5 | V9: 6 | W9: 7 | X9: 8 | Y9: 9 | Z9: 10 | AA9: 11 | AB9: 12 | AC9: 13 | AD9: 14 | AE9: 15 | AF9: 16 | AG9: 17 | AH9: 18 | AI9: 19 | AJ9: 20 | AK9: 21 | AL9: 22 | AM9: 23 | AN9: 24 | AO9: 25 | AP9: 26 | AQ9: 27 | AR9: 28
O10: 曜日 | Q10: 月 | R10: 火 | S10: 水 | T10: 木 | U10: 金 | V10: 土 | W10: 日 | X10: 月 | Y10: 火 | Z10: 水 | AA10: 木 | AB10: 金 | AC10: 土 | AD10: 日 | AE10: 月 | AF10: 火 | AG10: 水 | AH10: 木 | AI10: 金 | AJ10: 土 | AK10: 日 | AL10: 月 | AM10: 火 | AN10: 水 | AO10: 木 | AP10: 金 | AQ10: 土 | AR10: 日
O11: 開所日
A12: 管理者 | AS12: =SUM(Q12:AR12) -> 0 | AV12: =AS12/4 -> 0 | AY12: =IF($AS$29="","",ROUNDDOWN(AV12/$AS$29,1))
AS13: =SUM(Q13:AR13) -> 0 | AV13: =AS13/4 -> 0 | AY13: =IF($AS$29="","",ROUNDDOWN(AV13/$AS$29,1))
AS14: =SUM(Q14:AR14) -> 0 | AV14: =AS14/4 -> 0 | AY14: =IF($AS$29="","",ROUNDDOWN(AV14/$AS$29,1))
AS15: =SUM(Q15:AR15) -> 0 | AV15: =AS15/4 -> 0 | AY15: =IF($AS$29="","",ROUNDDOWN(AV15/$AS$29,1))
AS16: =SUM(Q16:AR16) -> 0 | AV16: =AS16/4 -> 0 | AY16: =IF($AS$29="","",ROUNDDOWN(AV16/$AS$29,1))
AS17: =SUM(Q17:AR17) -> 0 | AV17: =AS17/4 -> 0 | AY17: =IF($AS$29="","",ROUNDDOWN(AV17/$AS$29,1))
AS18: =SUM(Q18:AR18) -> 0 | AV18: =AS18/4 -> 0 | AY18: =IF($AS$29="","",ROUNDDOWN(AV18/$AS$29,1))
AS19: =SUM(Q19:AR19) -> 0 | AV19: =AS19/4 -> 0 | AY19: =IF($AS$29="","",ROUNDDOWN(AV19/$AS$29,1))
AS20: =SUM(Q20:AR20) -> 0 | AV20: =AS20/4 -> 0 | AY20: =IF($AS$29="","",ROUNDDOWN(AV20/$AS$29,1))
AS21: =SUM(Q21:AR21) -> 0 | AV21: =AS21/4 -> 0 | AY21: =IF($AS$29="","",ROUNDDOWN(AV21/$AS$29,1))
AS22: =SUM(Q22:AR22) -> 0 | AV22: =AS22/4 -> 0 | AY22: =IF($AS$29="","",ROUNDDOWN(AV22/$AS$29,1))
AS23: =SUM(Q23:AR23) -> 0 | AV23: =AS23/4 -> 0 | AY23: =IF($AS$29="","",ROUNDDOWN(AV23/$AS$29,1))
AS24: =SUM(Q24:AR24) -> 0 | AV24: =AS24/4 -> 0 | AY24: =IF($AS$29="","",ROUNDDOWN(AV24/$AS$29,1))
... AS27: =SUM(Q27:AR27) -> 0 | AV27: =AS27/4 -> 0 | AY27: =IF($AS$29="","",ROUNDDOWN(AV27/$AS$29,1))
A28: 合計 | Q28: =IF(Q11="","",SUM(Q13:Q27)) | R28: =IF(R11="","",SUM(R13:R27)) | S28: =IF(S11="","",SUM(S13:S27)) | T28: =IF(T11="","",SUM(T13:T27)) | U28: =IF(U11="","",SUM(U13:U27)) | V28: =IF(V11="","",SUM(V13:V27)) | W28: =IF(W11="","",SUM(W13:W27)) | X28: =IF(X11="","",SUM(X13:X27)) | ... AR28: =IF(AR11="","",SUM(AR13:AR27)) | AS28: =SUM(AS13:AU27) -> 0 | AV28: =SUM(AV13:AX27) -> 0 | AY28: =IF(AND(AV28=0,AS29=0),0,ROUNDDOWN(AV28/AS29,1)) -> 0
A29: 当該事業所・施設において常勤職員が1週間に勤務すべき時間数

Sheet 参考様式7
A1: (参考様式７）
D3: 組 織 体 制 図
B5: 事業所の名称 | D5: =IF(参考様式1!D3="","",参考様式1!D3)
B6: サービスの種類 | D6: =IF(参考様式2!D4="▼選択してください。","",参考様式2!D4)
B53: 備考 既存の組織体制図がある場合は、その写し等の添付でかまいません。

Sheet 参考様式8
A1: 参考様式８
A3: 主たる対象とする障害の種類を定める理由
A6: 事業所名 | H6: =IF(参考様式1!D3="","",参考様式1!D3)
A7: サービスの種類 | H7: =IF(参考様式2!D4="▼選択してください。","",参考様式2!D4)
A10: １ 申請に係るサービスの主たる対象者 | M10: ※該当するものを○で囲むこと。
A12: 身体障害者（肢体不自由 ・ 視覚 ・ 聴覚言語 ・ 内部障害）
A13: 知的障害者 ・ 精神障害者 ・ 難病患者等
A14: ※ 障害児について障害種別を特定している場合は、括弧内に記載。
A16: ２ 主たる対象者を１のとおり特定する理由
A29: ３ 今後における主たる対象者の拡充の予定
A31: （１）拡充予定の有無
C33: あり | D33: ・ | E33: なし
A35: （２）拡充予定の内容及び予定時期
A39: （３）拡充のための方策

Sheet 参考様式9
A1: （参考様式９）
A2: 指定一般相談支援事業者の指定に係る誓約書
M4: 令和 年 月 日
A5: 川崎市長
H6: 申請者 | J6: 所在地
J7: 名 称
H8: 代表者 | J8: 住 所
J9: 氏 名
A11: 当法人（別紙に記載する役員等を含む。）は、下記に掲げる障害者の日常生活及び社会生活を総合的に支援するための法律第５１条の１９第２項において準用する同法第３６条第３項（第４号、第１０号及び第１３号を除く。）の規定のいずれにも該当しないことを誓約します。
A15: 記
A18: 【障害者の日常生活及び社会生活を総合的に支援するための法律第３６条第３項（第４号、第１０号及び第１３号を除く。）の読替後の規定】
A20: １ | B20: 申請者が法人でないとき。
A21: ２ | B21: 当該申請に係る一般相談支援事業所（第五十一条の十九第一項に規定する一般相談支援事業所をいう。以下この項において同じ。）の従業者の知識及び技能並びに人員が、第五十一条の二十三第一項の厚生労働省令で定める基準を満たしていないとき。
A23: ３ | B23: 申請者が、第五十一条の二十三第二項の厚生労働省令で定める指定地域相談支援の事業の運営に関する基準に従って適正な一般相談支援事業の運営をすることができないと認められるとき。
A25: ５ | B25: 申請者が、この法律その他国民の保健医療若しくは福祉に関する法律で政令で定めるものの規定により罰金の刑に処せられ、その執行を終わり、又は執行を受けることがなくなるまでの者であるとき。
A27: ６ | B27: 申請者が、第五十条第一項（同条第三項において準用する場合を含む。以下この項において同じ。）又は第五十一条の二十九第一項若しくは第二項の規定により指定を取り消され、その取消しの日から起算して五年を経過しない者（当該指定を取り消された者が法人である場合においては、当該取消しの処分に係る行政手続法（平成五年法律第八十八号）第十五条の規定による通知があった日前六十日以内に当該法人の役員又はその一般相談支援事業所を管理する者その他の政令で定める使用人（以下「役員等」という。）であった者で当該取消しの日から起算して五年を経過しないものを含み、当該指定を取り消された者が法人でない場合においては、当該通知があった日前六十日以内に当該者の管理者であった者で当該取消しの日から起算して五年を経過しないものを含む。）であるとき。ただし、当該指定の取消しが、指定一般相談支援事業者（第五十一条の十四第一項に規定する指定一般相談支援事業者をいう。以下この項において同じ。）の指定の取消しのうち当該指定の取消しの処分の理由となった事実及び当該事実の発生を防止するための当該指定一般相談支援事業者による業務管理体制の整備についての取組の状況その他の当該事実に関して当該指定一般相談支援事業者が有していた責任の程度を考慮して、この号本文に規定する指定の取消しに該当しないこととすることが相当であると認められるものとして厚生労働省令で定めるものに該当する場合を除く。
A35: ７ | B35: 申請者と密接な関係を有する者（申請者（法人に限る。以下この号において同じ。）の株式の所有その他の事由を通じて当該申請者の事業を実質的に支配し、若しくはその事業に重要な影響を与える関係にある者として厚生労働省令で定めるもの（以下この号において「申請者の親会社等」という。）、申請者の親会社等が株式の所有その他の事由を通じてその事業を実質的に支配し、若しくはその事業に重要な影響を与える関係にある者として厚生労働省令で定めるもの又は当該申請者が株式の所有その他の事由を通じてその事業を実質的に支配し、若しくはその事業に重要な影響を与える関係にある者として厚生労働省令で定めるもののうち、当該申請者と厚生労働省令で定める密接な関係を有する法人をいう。）が、第五十条第一項又は第五十一条の二十九第一項若しくは第二項の規定により指定を取り消され、その取消しの日から起算して五年を経過していないとき。ただし、当該指定の取消しが、指定一般相談支援事業者の指定の取消しのうち当該指定の取消しの処分の理由となった事実及び当該事実の発生を防止するための当該指定一般相談支援事業者による業務管理体制の整備についての取組の状況その他の当該事実に関して当該指定一般相談支援事業者が有していた責任の程度を考慮して、この号本文に規定する指定の取消しに該当しないこととすることが相当であると認められるものとして厚生労働省令で定めるものに該当する場合を除く。
A43: ８ | B43: 申請者が、第五十条第一項又は第五十一条の二十九第一項若しくは第二項の規定による指定の取消しの処分に係る行政手続法第十五条の規定による通知があった日から当該処分をする日又は処分をしないことを決定する日までの間に第四十六条第二項又は第五十一条の二十五第二項若しくは第四項の規定による事業の廃止の届出をした者（当該事業の廃止について相当の理由がある者を除く。）で、当該届出の日から起算して五年を経過しないものであるとき。
A46: ９ | B46: 申請者が、第四十八条第一項（同条第三項において準用する場合を含む。）又は第五十一条の二十七第一項若しくは第二項の規定による検査が行われた日から聴聞決定予定日（当該検査の結果に基づき第五十条第一項又は第五十一条の二十九第一項若しくは第二項の規定による指定の取消しの処分に係る聴聞を行うか否かの決定をすることが見込まれる日として厚生労働省令で定めるところにより都道府県知事又は市町村長が当該申請者に当該検査が行われた日から十日以内に特定の日を通知した場合における当該特定の日をいう。）までの間に第四十六条第二項又は第五十一条の二十五第二項若しくは第四項の規定による事業の廃止の届出をした者（当該事業の廃止について相当の理由がある者を除く。）で、当該届出の日から起算して五年を経過しないものであるとき。
A51: 11 | B51: 申請者が、指定の申請前五年以内に相談支援に関し不正又は著しく不当な行為をした者であるとき。
A52: 12 | B52: 申請者が、法人で、その役員等のうちに第五号、第六号、第八号、第九号又は前号のいずれかに該当する者のあるものであるとき。

Sheet 参考様式9別紙
A1: 参考様式9別紙
A2: 役 員 等 名 簿
J4: 申請者（法人）名 | M4: （ ）
A5: （ふりがな） | E5: 生年月日 | J5: 住 所
A6: 氏 名 | E6: 役職名・呼称 | J6: TEL | N6: FAX
A39: 注 | B39: 当該法人の役員（業務を執行する社員、取締役、執行役又はこれらに準ずる者をいい、相談役、顧問その他いかなる名称を有する者であるかを問わず、法人に対し業務を執行する社員、取締役、執行役又はこれらに準ずる者と同等以上の支配力を有するものと認められる者を含む。）及び事業所を管理する者について記入・押印してください。

Sheet 参考様式10
A2: 参考様式10
A3: 関係機関との協力体制
A5: 事業所の名称 | C5: =IF(参考様式1!D3="","",参考様式1!D3)
A6: サービスの種類 | C6: =IF(参考様式2!D4="▼選択してください。","",参考様式2!D4)
A8: 関係機関の名称
A9: 所在地
A10: 電話番号
A11: 協力体制の内容
A47: 備考
A48: １ | B48: 「協力の内容」は、契約書の写し等の添付でもかまいません。
A49: ２ | B49: 「地域移行支援」を行う場合であって、「障害福祉サービス事業の体験的な利用（生活介護、自立訓練、就労移行支援又は就労継続支援に限る）」、「一人暮らしに向けた体験的な宿泊」を他の指定障害福祉サービス事業者に委託する場合も作成すること。
A50: ３ | B50: 「地域定着支援」を行う場合であって、「緊急の場合における一時的な滞在による支援」を他の指定障害福祉サービス事業者等に委託する場合も作成すること。

Sheet 管理者誓約書
A1: 指定一般相談支援事業所管理者誓約書
A5: 「障害者の日常生活を総合的に支援するための法律に基づく指定地域相談支援の事業の人員及び運営に関する基準（平成24年3月13日厚生労働省令第27号）」の規定に従い、運営に関する基準を遵守し、当該指定一般相談支援事業所の管理者の責務を適正に果たすことを誓約します。
A10: 令和 年 月 日
A13: 川崎市長
D16: 事業者名（開設法人名）
D19: 代表者氏名
D22: 事業所名
D25: 管理者氏名 | I25: 印
A31: 障害者の日常生活及び社会生活を総合的に支援するための法律に基づく指定地域相談支援の事業の人員及び運営に関する基準【抜粋】
A34: （管理者の責務）
A35: 第29条 指定地域移行支援事業所の管理者は、当該指定地域移行支援事業所の職務に従事する者その他 の従業者の管理、指定地域移行支援の利用の申込みに係る調整、業務の実施状況の把握その他の管理 を一元的に行わなければならない。
A38: ２ 指定地域移行支援事業所の管理者は、当該指定地域移行支援事業所の職務に従事する者その他の従 業者にこの章の規定を遵守させるため必要な指揮命令を行うものとする。
A42: ＊第29条は、指定一般相談支援（地域移行支援）について準用されます。

Sheet 参考様式11
A1: 参考様式11
A3: 事 業 計 画 書
B5: 事業所名又は施設名 | D5: =IF(参考様式1!D3="","",参考様式1!D3)
B6: サービス種類 | D6: =IF(参考様式2!D4="▼選択してください。","",参考様式2!D4)
A8: 項 目 | D8: 内 容
A10: １ 事業の内容
A27: ２ 事業開始年月日
A29: ３ 従業者等の人員
A39: ４ 利用者の定員
A44: ５ 研修計画
A50: ６ その他
A54: ※事業計画書は、当該事業所の年間事業計画を作成してください。

Sheet 収支予算書
A1: 収支予算書
A2: 事業所名： | E2: =IF(参考様式1!D3="","",参考様式1!D3)
A3: サービス種類： | E3: =IF(参考様式2!D4="▼選択してください。","",参考様式2!D4)
AD4: （単位：人、千円）
F5: ４月 | H5: ５月 | J5: ６月 | L5: ７月 | N5: ８月 | P5: ９月 | R5: １０月 | T5: １１月 | V5: １２月 | X5: １月 | Z5: ２月 | AB5: ３月 | AD5: 合計
A6: 収入見込み | B6: 利用者見込数 （１月当たり） | AD6: =SUM(F6:AC6) -> 0
B7: 算定額（＊） (１月当たり)
B8: 相談支援費 受入れ額（Ａ） | J8: =F6*F7 -> 0 | L8: =H6*H7 -> 0 | N8: =J6*J7 -> 0 | P8: =L6*L7 -> 0 | R8: =N6*N7 -> 0 | T8: =P6*P7 -> 0 | V8: =R6*R7 -> 0 | X8: =T6*T7 -> 0 | Z8: =V6*V7 -> 0 | AB8: =X6*X7 -> 0 | AD8: =SUM(J8:AC8) -> 0
A9: 支出見込み | B9: 人件費
B10: 旅費、交通費
B11: 事務所賃借費
B12: 通信費
B13: 諸経費
B14: 合計(Ｂ) | F14: =SUM(F9:G13) -> 0 | H14: =SUM(H9:I13) -> 0 | J14: =SUM(J9:K13) -> 0 | L14: =SUM(L9:M13) -> 0 | N14: =SUM(N9:O13) -> 0 | P14: =SUM(P9:Q13) -> 0 | R14: =SUM(R9:S13) -> 0 | T14: =SUM(T9:U13) -> 0 | V14: =SUM(V9:W13) -> 0 | X14: =SUM(X9:Y13) -> 0 | Z14: =SUM(Z9:AA13) -> 0 | AB14: =SUM(AB9:AC13) -> 0 | AD14: =SUM(F14:AC14) -> 0
A15: 利益(Ａ－Ｂ) | F15: =F8-F14 -> 0 | H15: =H8-H14 -> 0 | J15: =J8-J14 -> 0 | L15: =L8-L14 -> 0 | N15: =N8-N14 -> 0 | P15: =P8-P14 -> 0 | R15: =R8-R14 -> 0 | T15: =T8-T14 -> 0 | V15: =V8-V14 -> 0 | X15: =X8-X14 -> 0 | Z15: =Z8-Z14 -> 0 | AB15: =AB8-AB14 -> 0 | AD15: =AD8-AD14 -> 0
A16: 累積収支 | F16: =F15 -> 0 | H16: =F16+H15 -> 0 | J16: =H16+J15 -> 0 | L16: =J16+L15 -> 0 | N16: =L16+N15 -> 0 | P16: =N16+P15 -> 0 | R16: =P16+R15 -> 0 | T16: =R16+T15 -> 0 | V16: =T16+V15 -> 0 | X16: =V16+X15 -> 0 | Z16: =X16+Z15 -> 0 | AB16: =Z16+AB15 -> 0 | AD16: =AD8-AD14 -> 0
B18: ＊ 算定額 ＝ （ 本体報酬 ＋ 各種加算 ） × 地域区分の単位
B19: ※ 諸経費には、消耗品費、光熱水費、車両管理費、研修費、宣伝広告費、租税公課、社会保険料、借入金返済、レンタル料等が見込まれます。

Sheet 参考様式12
A1: 一般相談支援事業 開始届出書
F2: 令和 年 月 日
A3: 川崎市長
D5: 法人名
D6: 届出者 住所
D7: 氏名
A9: 次のとおり一般相談支援事業を開始しますので、届け出ます。
A11: １ 経営者の氏名及び住所（法人であるときは、その名称及び主たる事務所の所在地）
A14: ２ 職員の定数及び職務の内容
A17: ３ 主な職員の氏名及び経歴
A20: ４ 事業を行おうとする区域（市町村の委託を受けて事業を行おうとする者にあって は、当該市町村の名称を含みます。）
A23: ５ 事業開始の予定年月日
A26: 備考 １ この届出書は、指定申請書と同時に提出してください。

Sheet 参考様式13
A2: 参考様式1３
A3: 常時の連絡体制の確保の具体的方法
A5: 事業所の名称 | C5: =IF(参考様式1!D3="","",参考様式1!D3)
A6: サービスの種類 | C6: =IF(参考様式2!D4="▼選択してください。","",参考様式2!D4)
A8: 連絡体制の内容 | C8: ※営業時間外の事業所の人員体制（宿直等）や利用者との連絡体制を含め、具体的に記載してください。

Sheet 社会保険等確認票
A2: 社会福祉事業等の事業所用
A3: 社会保険及び労働保険への加入状況にかかる確認票
A5: 貴事業所の現状等について、下記の項目に回答してください。
A6: Ⅰ．現在、厚生年金保険・健康保険に加入していますか。 （該当する番号に○を付してください。また、必要事項をご記入ください。）
B7: 加入状況
A8: 1 | B8: 加入している。 →下記のいずれかの書類の写しを提出してください。（提示も可）
B9: ●保険料の領収証書 ●社会保険料納入証明書
B10: ●社会保険料納入確認書
B11: ●健康保険・厚生年金保険資格取得確認および標準報酬決定通知書
B12: ●健康保険・厚生年金保険適用通知書
B13: ※上記の書類の提出とあわせて下記事業所整理番号を記入してください。
B14: 上記書類をやむを得ず所持していない場合には事業所整理番号を下記に記載するのみで可。
A17: 2 | B17: 現在、加入手続中である。
A18: 3 | B18: 今後、加入手続を行う。
B19: （申請から３ヶ月以内に適用要件（法人事業所または従業員５人以上の個人事業所）に該当する予定の場合を含む。）
B20: 令和（ ）年（ ）月頃に手続予定。（申請から３ヶ月以内の年月をご記入ください。）
A21: 4 | B21: 適用要件に該当しない。（個人事業所（法人ではない事業所）であって従業員が４名以下の場合。申請から３ヶ月以内に適用要件に該当する予定がない。）
A22: 5 | B22: 適用要件に該当するか不明である。
B23: （個人事業所（法人ではない事業所）であって、正社員と、正社員以外で１週間の所定労働時間及び１ヶ月の所定労働日数が同じ事業所で同様の業務に従事している正社員の４分の３以上である者との合計が５人以上か不明な場合。）
A25: Ⅱ．現在、労働者災害補償保険・雇用保険に加入していますか。 （該当する番号に○を付してください。また、必要事項をご記入ください。）
B26: 加入状況
A27: 1 | B27: 加入している。 →下記のいずれかの書類の写しを提出してください。（提示も可）
B28: ●労働保険概算・確定保険料申告書
B29: ●納付書・領収証等 ●保険関係成立届
B30: ※上記の書類の提出とあわせて下記労働保険番号を記入してください。
B31: 上記書類をやむを得ず所持していない場合には労働保険番号を下記に記載するのみで可。
M32: －
A34: 2 | B34: 現在、加入手続中である。
A35: 3 | B35: 今後、加入手続を行う。（申請から３ヶ月以内に従業員（パート・アルバイトを含む）を雇う予定がある場合を含む。） 令和（ ）年（ ）月頃に手続予定。（申請から３ヶ月以内の年月をご記入ください。）
A36: 4 | B36: 適用要件に該当しない。（事業主・役員・同居の親族のみで経営、従業員（パート・アルバイトを含む）がいない、申請から３ヶ月以内に従業員を雇う予定がない。）
A38: 回答年月日 令和 年 月 日
A39: 事 業 所 名 称
A40: 事業所 所在地
A41: 会社等法人番号
A42: 電 話 番 号
A44: ※ 事業主の皆様には、全ての法令を遵守していただきたいと考えています。社会保険・労働保険の適用が確認できない場合は、厚生労働省からの依頼に基づき、厚生労働省に情報提供いたします。
A45: ※ 社会保険・労働保険の適用促進以外の目的では使用いたしません。

Sheet WAMNET回答票
R1: サービスコード | S1: サービス種類
A2: 情報公表システム(WAMNET)新規登録用 基礎情報回答票 | R2: 11 | S2: 居宅介護 | T2: =R2&"("&S2&")" -> 11(居宅介護)
A3: 川崎市健康福祉局障害者施設指導課 事業者指導担当宛 電話：044-200-0082 メール：40sidou@city.kawasaki.jp | R3: 12 | S3: 重度訪問介護 | T3: =R3&"("&S3&")" -> 12(重度訪問介護)
A4: ※川崎市内事業所を新規開設する法人のうち、本市情報公表システムに未登録の法人が対象です。 | R4: 13 | S4: 行動援護 | T4: =R4&"("&S4&")" -> 13(行動援護)
A5: 回答年月日 | B5: 令和 年 月 日 | R5: 15 | S5: 同行援護 | T5: =R5&"("&S5&")" -> 15(同行援護)
A6: 法人名称 | B6: (ﾌﾘｶﾞﾅ) | R6: 21 | S6: 療養介護 | T6: =R6&"("&S6&")" -> 21(療養介護)
R7: 22 | S7: 生活介護 | T7: =R7&"("&S7&")" -> 22(生活介護)
A8: 事業所名 | B8: (ﾌﾘｶﾞﾅ) | R8: 24 | S8: 短期入所 | T8: =R8&"("&S8&")" -> 24(短期入所)
R9: 32 | S9: 施設入所支援 | T9: =R9&"("&S9&")" -> 32(施設入所支援)
A10: サービス種類 | R10: 33 | S10: 共同生活援助 | T10: =R10&"("&S10&")" -> 33(共同生活援助)
A11: 指定年月日 | B11: 令和 年 月 日 | R11: 34 | S11: 宿泊型自立訓練 | T11: =R11&"("&S11&")" -> 34(宿泊型自立訓練)
A12: WAMNET担当者氏名 | R12: 35 | S12: 自立生活援助 | T12: =R12&"("&S12&")" -> 35(自立生活援助)
A13: WAMNET担当者 電話番号 | R13: 41 | S13: 自立訓練（機能訓練） | T13: =R13&"("&S13&")" -> 41(自立訓練（機能訓練）)
A14: 法人の代表メールアドレス | B14: @ | R14: 42 | S14: 自立訓練（生活訓練） | T14: =R14&"("&S14&")" -> 42(自立訓練（生活訓練）)
A15: ※必須です。 | B15: WAMNETからのお知らせを受け取る法人メールアドレスを登録してください。 | R15: 43 | S15: 就労移行支援（一般型） | T15: =R15&"("&S15&")" -> 43(就労移行支援（一般型）)
R16: 45 | S16: 就労継続支援（Ａ型） | T16: =R16&"("&S16&")" -> 45(就労継続支援（Ａ型）)
R17: 46 | S17: 就労継続支援（Ｂ型） | T17: =R17&"("&S17&")" -> 46(就労継続支援（Ｂ型）)
R18: 47 | S18: 就労定着支援 | T18: =R18&"("&S18&")" -> 47(就労定着支援)
R19: 48 | S19: 就労選択支援 | T19: =R19&"("&S19&")" -> 48(就労選択支援)
R20: 52 | S20: 計画相談支援 | T20: =R20&"("&S20&")" -> 52(計画相談支援)
R21: 53 | S21: 地域移行支援 | T21: =R21&"("&S21&")" -> 53(地域移行支援)
R22: 54 | S22: 地域定着支援 | T22: =R22&"("&S22&")" -> 54(地域定着支援)
R23: 55 | S23: 障害児相談支援 | T23: =R23&"("&S23&")" -> 55(障害児相談支援)
R24: 61 | S24: 児童発達支援 | T24: =R24&"("&S24&")" -> 61(児童発達支援)
R25: 62 | S25: 旧医療型児童発達支援 | T25: =R25&"("&S25&")" -> 62(旧医療型児童発達支援)
R26: 63 | S26: 放課後等デイサービス | T26: =R26&"("&S26&")" -> 63(放課後等デイサービス)
R27: 64 | S27: 保育所等訪問支援 | T27: =R27&"("&S27&")" -> 64(保育所等訪問支援)
... R30: 72 | S30: 医療型障害児入所施設 | T30: =R30&"("&S30&")" -> 72(医療型障害児入所施設)
