Workbook
Name _________kk29: #REF!
Name _________kk29: #REF!
Name ________kk06: #REF!
Name ________kk06: #REF!
Name ________kk29: #REF!
Name ________kk29: #REF!
Name _______kk06: #REF!
Name _______kk06: #REF!
Name _______kk29: #REF!
Name _______kk29: #REF!
Name ______kk06: #REF!
Name ______kk06: #REF!
Name ______kk29: #REF!
Name ______kk29: #REF!
Name _____kk06: #REF!
Name _____kk06: #REF!
Name _____kk29: #REF!
Name _____kk29: #REF!
Name ____kk06: #REF!
Name ____kk06: #REF!
Name ____kk29: #REF!
Name ____kk29: #REF!
Name ___kk06: #REF!
Name ___kk06: #REF!
Name ___kk29: #REF!
Name ___kk29: #REF!
Name __kk06: #REF!
Name __kk06: #REF!
Name __kk29: #REF!
Name __kk29: #REF!
Name _kk06: #REF!
Name _kk06: #REF!
Name _kk1: #REF!
Name _kk1: #REF!
Name _kk1: #REF!
Name _kk1: #REF!
Name _kk1: #REF!
Name _kk2: #REF!
Name _kk2: #REF!
Name _kk2: #REF!
Name _kk2: #REF!
Name _kk29: #REF!
Name _kk29: #REF!
Name ▼選択してください。: #REF!
Name ▼選択してください。: #REF!
Name ▼選択してください。: #REF!
Name ▼選択してください。: #REF!
Name as: #REF!
Name as: #REF!
Name as: #REF!
Name Avrg: #REF!
Name Avrg: #REF!
Name Avrg: #REF!
Name avrg1: #REF!
Name avrg1: #REF!
Name CSV_サービス情報: #REF!
Name CSV_サービス情報: #REF!
Name CSV_サービス情報: #REF!
Name CSV_口座振込依頼書: #REF!
Name CSV_口座振込依頼書: #REF!

Sheet 必要書類一覧
D1: R8.3更新
B2: 障害児相談支援事業所指定更新に係る申請書類一覧
D3: ◎：必要 △：申請又はこれまでに届出済の内容から変更が なければ省略可能 ※変更申請をしたかどうかわからない場合、 省略せず提出してください。
C4: 確認 | D4: 障害児相談支援
B7: 別紙様式第一号（指定更新申請書） | D7: ◎
B8: 付表15
B9: 別紙１（他の法律において既に指定を受けている事業等について）
B10: 別紙２（他の事業所又は施設の従事者と兼務する相談支援専門員について）
B11: 管理者誓約書
B12: (参考様式３）誓約書、別紙⑦
B13: (様式第11号)同意書
B14: (様式第12号）役員等名簿
B15: (様式第15号）指定更新に関する誓約書
B16: 勤務形態一覧（児相談）
B17: 社会保険及び労働保険への加入状況にかかる確認票
B18: 職員の資格証の写し（資格要件に該当する職員及び加算要件に該当する職員）
B19: 運営規程
B20: 建物賃貸借契約書の写し ※ 更新後の期間が賃貸期間に含まれると確認できるもの
B21: (参考様式１)指定障害福祉サービス等の主たる対象者を特定する理由等 | D21: △
B22: (参考様式２)利用者(入所者)又はその家族からの苦情を解決するために講ずる措置の概要
B23: (参考様式４)事業所・施設の平面図
B24: (参考様式５)事業所の設備・備品等一覧表
B25: (参考様式６)管理者・相談支援専門員経歴書
B26: (参考様式８)組織体制図
B27: ＜提出上の注意＞ １ 実務経験証明書について 原本は必ず法人で保管し、こちらが依頼した際には提出ができるように保管して下さい。 ２ 職員の資格証の写しについて 資格証取得時と現在で氏名が異なる場合、以下のようにご提出ください。 ① 各法人において、公的証明等によって各種資格証が当該人物のものであることを確認（職員からの口頭申告のみでは不十分です） ② その公的証明等の写しを、各法人において保管 ③ 各種資格証の写しに記載されている変更前の氏等に、変更後の氏等を直接補記 ④ ③によって補記した各種資格証の写しを、横浜市宛てに提出

Sheet 指定(更新・変更)申請書
A1: 別紙様式第一号
A4: 指定障害児通所支援事業所/指定障害児入所施設/指定障害児相談支援事業所
E5: 指定更新 | G5: 申請書
K6: 令和 | O6: 年 | R6: 月 | U6: 日
D7: 横浜市長 殿
H8: 所在地
G9: 申請者 | H9: 名 称
H10: 代表者
B12: 表題の | C12: 事業所・施設 | D12: に係る | E12: 指定の更新 | F12: を受けたいので、下記のとおり、関係書類を添えて申請します。
F14: 法人番号(13桁)
A15: 申請者(設置者) | B15: フリガナ
B16: 名称
B17: 主たる事務所の所在地 | D17: (郵便番号 | F17: - | I17: ）
E18: 県 | H18: 市
B20: 連絡先 | D20: 電話番号 | E20: (内線)
D21: E-mailアドレス
B22: 法人等の種類
B23: 代表者の職名・氏名・生年月日 | D23: 職名 | G23: フリガナ | M23: 生年月日
G24: 氏名
B25: 代表者の住所 | D25: (郵便番号 | F25: - | I25: ）
E26: 県 | H26: 市
A28: 指定を受けようとする事業所・施設の種類 | B28: フリガナ
B29: 名称
B30: 事業所(施設)の所在地 | D30: (郵便番号 | F30: - | I30: ）
E31: 県 | H31: 市
B33: 多機能型事業所に係る指定の申請の場合は○
B34: 同一所在地において 行う事業等の種類 | F34: 今回の指定(更新・変更)申請をする対象事業等に○ | H34: 既に指定を受けている事業に○ | L34: 事業の開始予定年月日 | R34: 本申請書に添付して提出する様式(付表)
E35: 共生型サービスの指定を申請するものに○
B36: 指定障害福祉サービス事業所 | C36: 居宅介護 | R36: 付表１
C37: 重度訪問介護 | R37: 付表１
C38: 同行援護 | R38: 付表１
C39: 行動援護 | R39: 付表１
C40: 療養介護 | R40: 付表２
C41: 生活介護 | R41: 付表３
C42: 短期入所 | R42: 付表４
C43: 重度障害者等包括支援 | R43: 付表５
C44: 自立訓練(機能訓練) | R44: 付表６
C45: 自立訓練(生活訓練) | R45: 付表６
C46: 就労選択支援 | R46: 付表７
C47: 就労移行支援 | R47: 付表８
...

Sheet 付表１５（児相談）
A1: 付表１５ 指定特定相談支援事業所及び指定障害児相談支援事業所の指定等に係る記載事項
A3: サービス種別(申請するものに○) | E3: 特定相談支援 | H3: 障害児相談支援 | L3: ○
A4: 事業所 | B4: フリガナ
B5: 名 称
B6: 所在地 | C6: (郵便番号 | E6: - | G6: )
D7: 県 | F7: 市
B9: 電話番号
B10: E-Mail
A11: 管理者 | B11: フリガナ | F11: 生年月日
B12: 氏 名 | H12: 年 | J12: 月 | L12: 日
B13: 住 所 | C13: (郵便番号 | E13: - | G13: )
D14: 県 | F14: 市
B16: 当該事業所における相談支援専門員との兼務の有無 | H16: 有 | K16: 無
B17: 他の事業所又は施設の従業者との兼務(兼務の場合記入) | D17: 事業所等の名称
D18: 兼務する職種及び勤務時間等
A20: 相談支援専門員 | B20: フリガナ | F20: 生年月日 | I20: 年 | K20: 月 | M20: 日
B21: 氏 名 | F21: 主任相談支援専門員に該当 | H21: 有 | K21: 無
B22: 住 所 | C22: (郵便番号 | E22: - | G22: )
D23: 県 | F23: 市
B25: フリガナ | F25: 生年月日 | I25: 年 | K25: 月 | M25: 日
B26: 氏 名 | F26: 主任相談支援専門員に該当 | H26: 有 | K26: 無
B27: 住 所 | C27: (郵便番号 | E27: - | G27: )
D28: 県 | F28: 市
A30: 相談支援員 | B30: フリガナ | F30: 生年月日 | I30: 年 | K30: 月 | M30: 日
B31: 氏 名 | F31: 保有資格 | H31: 社会福祉士 | K31: 精神保健福祉士
B32: 住 所 | C32: (郵便番号 | E32: - | G32: )
D33: 県 | F33: 市
A35: 実施主体が地方公共団体である場合は、当該事業の実施について定めてある条例等 | H35: 第 条 第 項 第 号
A36: ○人員に関する基準の確認に必要な事項
A37: 従業者の職種・員数 | C37: 居宅介護等従業者 | E37: その他の従業者
C38: 専従 | D38: 兼務 | E38: 専従 | F38: 兼務
A39: 常勤(人)
A40: 非常勤(人)
A41: 常勤換算後の人数(人)
A42: 基準上の必要人数(人)
A43: ○運営・設備に関する基準の確認に必要な事項
A44: 営業日(該当する日に○) | C44: 日 | D44: 月 | E44: 火 | F44: 水 | G44: 木 | H44: 金 | J44: 土 | L44: 祝
C46: その他(年末年始等)
A47: 営業時間 | C47: 平日 | E47: ： | G47: ～ | J47: ：
C48: 土曜 | E48: ： | G48: ～ | J48: ：
...

Sheet 別紙１
AD1: （別紙１）
G3: 他の法律において既に指定を受けている事業等について
A5: 法律の名称 | G5: サービスの種類 | K5: 事業所・施設名称 | O5: 指定年月日 | T5: 指定事業所番号

Sheet 別紙２
X1: （別紙２）
F2: 他の事業所又は施設の従事者と兼務する相談支援専門員について
A5: 他の事業所又は施設の従業者と兼務する相談支援専門員を全て記載してください。 ※記入欄が不足する場合は追加して記入してください。
A6: 1 | C6: 氏 名 | K6: 事業所の名称
C7: フリガナ | K7: 事業の種類 | T7: 兼務する職種
C8: 氏名 | K8: 勤務時間
A9: 2 | C9: 氏 名 | K9: 事業所の名称
C10: フリガナ | K10: 事業の種類 | T10: 兼務する職種
C11: 氏名 | K11: 勤務時間
A12: 3 | C12: 氏 名 | K12: 事業所の名称
C13: フリガナ | K13: 事業の種類 | T13: 兼務する職種
C14: 氏名 | K14: 勤務時間
A15: 4 | C15: 氏 名 | K15: 事業所の名称
C16: フリガナ | K16: 事業の種類 | T16: 兼務する職種
C17: 氏名 | K17: 勤務時間
A18: 5 | C18: 氏 名 | K18: 事業所の名称
C19: フリガナ | K19: 事業の種類 | T19: 兼務する職種
C20: 氏名 | K20: 勤務時間

Sheet 管理者誓約書（障害児相談） 
A1: 指定障害児相談支援事業所管理者誓約書
A5: 「児童福祉法に基づく指定障害児相談支援の事業の人員及び運営に関する基準（平成24年3月13日厚生労働省令第29号）」の規定に従い、運営に関する基準を遵守し、当指定障害児相談支援事業所の管理者の責務を適正に果たすことを誓約します。
A10: 令和 年 月 日
A13: 横浜市長 様
A16: 事業者名（開設法人名）
A19: 代表者氏名
A22: 事業所名
A25: 管理者氏名
A32: 児童福祉法に基づく指定障害児相談支援の事業の人員及び運営に関する基準【抜粋】
A34: （管理者の責務）
A35: 第18条 指定障害児相談支援事業所の管理者は、当該指定障害児相談支援事業所の相談支援専門員その他の従業者の管理、指定障害児相談支援の利用の申込みに係る調整、業務の実施状況の把握その他の管理を一元的に行わなければならない。
A38: ２ 指定障害児相談支援事業所の管理者は、当該指定障害児相談支援事業所の相談支援専門員その他の従業者にこの章の規定を遵守させるため必要な指揮命令を行うものとする。

Sheet 参考様式３（誓約書）
A1: (参考様式３)
A2: 誓 約 書
H4: 年 | J4: 月 | L4: 日
A5: 横浜市長 | C5: 殿
A7: 申請者 | D7: （名称）
D9: （代表者の職名・氏名）
A13: 申請者が別紙のいずれにも該当しない者であることを誓約します。
C15: 別紙①： 障害福祉サービス事業者向け
C16: 別紙②： 障害者支援施設向け
C17: 別紙③： 一般相談支援事業者向け
C18: 別紙④： 特定相談支援事業者向け
C19: 別紙⑤： 障害児通所支援事業者向け
C20: 別紙⑥： 障害児入所施設向け
B21: ○ | C21: 別紙⑦： 障害児相談支援事業者向け
B22: 注 該当する種別に○を付けてください。

Sheet 別紙⑦
B1: （別紙⑦： 障害児相談支援事業者向け）
C2: 児童福祉法第２４条の２８第２項
B4: 一 | C4: 申請者が法人でないとき。
B5: 二 | C5: 当該申請に係る障害児相談支援事業所（第二十四条の二十八第一項に規定する障害児相談支援事業所をいう。以下この項において同じ。）の従業者の知識及び技能並びに人員が、第二十四条の三十一第一項の内閣府令で定める基準を満たしていないとき。
B6: 三 | C6: 申請者が、第二十四条の三十一第二項の内閣府令で定める指定障害児相談支援の事業の運営に関する基準に従って適正な障害児相談支援事業の運営をすることができないと認められるとき。
B7: 五 | C7: 申請者が、この法律その他国民の保健医療若しくは福祉に関する法律で政令で定めるものの規定により罰金の刑に処せられ、その執行を終わり、又は執行を受けることがなくなるまでの者であるとき。
B8: 五の二 | C8: 申請者が、労働に関する法律の規定であって政令で定めるものにより罰金の刑に処せられ、その執行を終わり、又は執行を受けることがなくなるまでの者であるとき。
B9: 六 | C9: 申請者が、第二十四条の三十六又は第三十三条の十八第六項の規定により指定を取り消され、その取消しの日から起算して五年を経過しない者（当該指定を取り消された者が法人である場合においては、当該取消しの処分に係る行政手続法（平成五年法律第八十八号）第十五条の規定による通知があった日前六十日以内に当該法人の役員又はその障害児相談支援事業所を管理する者その他の政令で定める使用人（以下「役員等」という。）であった者で当該取消しの日から起算して五年を経過しないものを含み、当該指定を取り消された者が法人でない場合においては、当該通知があった日前六十日以内に当該者の管理者であった者で当該取消しの日から起算して五年を経過しないものを含む。）であるとき。ただし、当該指定の取消しが、指定障害児相談支援事業者（第二十四条の二十六第一項第一号に規定する指定障害児相談支援事業者をいう。以下この項において同じ。）の指定の取消しのうち当該指定の取消しの処分の理由となった事実及び当該事実の発生を防止するための当該指定障害児相談支援事業者による業務管理体制の整備についての取組の状況その他の当該事実に関して当該指定障害児相談支援事業者が有していた責任の程度を考慮して、この号本文に規定する指定の取消しに該当しないこととすることが相当であると認められるものとして内閣府令で定めるものに該当する場合を除く。
B10: 七 | C10: 申請者と密接な関係を有する者（申請者（法人に限る。以下この号において同じ。）の株式の所有その他の事由を通じて当該申請者の事業を実質的に支配し、若しくはその事業に重要な影響を与える関係にある者として内閣府令で定めるもの（以下この号において「申請者の親会社等」という。）、申請者の親会社等が株式の所有その他の事由を通じてその事業を実質的に支配し、若しくはその事業に重要な影響を与える関係にある者として内閣府令で定めるもの又は当該申請者が株式の所有その他の事由を通じてその事業を実質的に支配し、若しくはその事業に重要な影響を与える関係にある者として内閣府令で定めるもののうち、当該申請者と内閣府令で定める密接な関係を有する法人をいう。）が、第二十四条の三十六又は第三十三条の十八第六項の規定により指定を取り消され、その取消しの日から起算して五年を経過していないとき。ただし、当該指定の取消しが、指定障害児相談支援事業者の指定の取消しのうち当該指定の取消しの処分の理由となった事実及び当該事実の発生を防止するための当該指定障害児相談支援事業者による業務管理体制の整備についての取組の状況その他の当該事実に関して当該指定障害児相談支援事業者が有していた責任の程度を考慮して、この号本文に規定する指定の取消しに該当しないこととすることが相当であると認められるものとして内閣府令で定めるものに該当する場合を除く。
B11: 九 | C11: 申請者が、第二十四条の三十六又は第三十三条の十八第六項の規定による指定の取消しの処分に係る行政手続法第十五条の規定による通知があった日から当該処分をする日又は処分をしないことを決定する日までの間に第二十四条の三十二第二項の規定による事業の廃止の届出をした者（当該事業の廃止について相当の理由がある者を除く。）で、当該届出の日から起算して五年を経過しないものであるとき。
B12: 十 | C12: 申請者が、第二十四条の三十四第一項の規定による検査が行われた日から聴聞決定予定日（当該検査の結果に基づき第二十四条の三十六の規定による指定の取消しの処分に係る聴聞を行うか否かの決定をすることが見込まれる日として内閣府令で定めるところにより市町村長が当該申請者に当該検査が行われた日から十日以内に特定の日を通知した場合における当該特定の日をいう。）までの間に第二十四条の三十二第二項の規定による事業の廃止の届出をした者（当該事業の廃止について相当の理由がある者を除く。）で、当該届出の日から起算して五年を経過しないものであるとき。
B13: 十二 | C13: 申請者が、指定の申請前五年以内に障害児相談支援に関し不正又は著しく不当な行為をした者であるとき。
B14: 十三 | C14: 申請者が、法人で、その役員等のうちに第四号から第六号まで又は第九号から前号のいずれかに該当する者のあるものであるとき。

Sheet 様式第11号（相談）
A1: 様式第11号
A2: 同 意 書
O8: 令和 | R8: 年 | T8: 月 | V8: 日
A13: 横 浜 市 長
J18: （申請者）
J20: 所 在 地
J22: 名 称
J24: 代表者氏名
A32: 令和 | D32: 年 | F32: 月 | H32: 日 | I32: に申請した、児童福祉法に規定する障害児相談支援に係る指
A35: 定申請書の内容について、児童福祉法に基づく指定障害児通所支援事業者、指定障害児入所
A38: 施設及び指定障害児相談支援事業者の指定等に関する要綱第４条に基づき、暴力団員でない
A41: ことを確認するため、記載された情報を神奈川県警察本部長に照会することについて同意します。
A58: 児童福祉法に基づく指定障害児通所支援事業者、指定障害児入所施設及び指定障害児相談支援事業者の指定等に関する要綱【抜粋】
A61: 第14条 第２条の指定及び指定の更新の申請をしようとする指定障害児通所支援事業者等及び
C62: 指定障害児相談支援事業者は、法第 21 条の５の15第３項各号の規定に該当しない旨の
C63: 誓約書（様式第10号）、神奈川県警察本部（以下「県警」という。）への照会について
C64: の同意書（様式第11号）及び役員等の名簿（様式第12号）を市長に提出しなければな
C65: らない。
A67: ２ 第９条により法人の役員等について変更の届出を行う指定障害児通所支援事業所等は、
C68: 役員等の名簿（様式第12号）を市長に提出しなければならない。
A70: ３ 市長は、前２項の書類を受理した時ときは、当該役員等について、暴排条例及び県警
A71: と締結した横浜市暴力団排除条例に基づく排除措置連絡体制等に関する合意書（平成24
C72: 年３月29日締結）に基づき、暴排条例第２条第２号に規定する暴力団、同条第３号に規
C73: 定する暴力団員、同条第４号に規定する暴力団員等及び同条第５号暴力団経営支配法人
C74: 等の該当の有無を県警に照会するものとする。
A76: ４ 前３項の「役員等」とは、当該法人の役員（業務を執行する社員、取締役、執行役又
C77: はこれらに準ずる者をいい、相談役、顧問その他いかなる名称を有する者であるかを問わ
C78: ず、法人に対し業務を執行する社員、取締役、執行役又はこれらに準ずる者と同等以上の
C79: 支配力を有するものと認められる者を含む。）及び事業所を管理する者をいう。

Sheet 様式第12号
A1: 様式第12号 | C1: 役 員 等 名 簿 | K1: 申請者（法人）名（ ）
B2: 氏名（姓と名を１字開けてください） | E2: 生年月日 | I2: 性別 | J2: 住 所 | L2: 役職名 ・呼称 | M2: TEL | N2: FAX
B3: ｶﾅ（半角） | D3: 漢 字 | E3: m（明治） t（大正） s（昭和） h（平成） | F3: 年 | G3: 月 | H3: 日 | I3: 男性（m）女性（f）
A4: 1
A5: 2
A6: 3
A7: 4
A8: 5
A9: 6
A10: 7
A11: 8
A12: 9
A13: 10
A14: 11
A15: 12
A16: ・役員等名簿に記載するのは当該法人の役員及び事業所の管理者です。 ・当該法人の役員とは、業務を執行する社員、取締役、執行役又はこれらに準ずる者をいい、相談役、顧問その他いかなる名称を有する者であるかを問わず、法人に対し業務を執行する社員、取締役、執行役、幹事又はこれらに準ずる者と同等以上の支配力を有するものと認められる者を含みます。 ・当該法人の役員が変わる場合には、新たに就任する役員のみ記載してください（退任する役員については記載不要です）。

Sheet 様式15号
A1: （様式第15号）
H2: 指定更新に関する誓約書
R4: 令和 年 月 日
B6: 横 浜 市 長
I8: (申請者)
I9: 法人所在地
I11: 名 称
I12: 代表者職･氏名
A16: 児童福祉法第21条の５の16に基づく「障害児通所支援事業」及び第24条の10に基づく「障害児入所支援施設」及び法第24条の29に基づく「障害児相談支援事業」の指定更新にあたり、申請内容の一切について事実と相違ないことを誓約します。

Sheet 勤務形態一覧（児相談）
A1: 従業者の勤務の体制及び勤務形態一覧表 | AI1: サービス種別 | AK1: 障害児相談支援
M2: 2026 | Q2: 年 | U2: 月 | AI2: 事業所名
AI3: (1)記載する期間 | AK3: ４週
AI4: (2)予定/実績の別
AG5: (3)事業所における常勤の従業者が勤務すべき時間数 | AK5: 時間/週 | AM5: 時間/月
A7: No. | B7: (4)職種 | C7: (5)勤務形態 | D7: (6)資格 | E7: (7)氏名 | F7: (8) | AK7: (9)勤務時間数合計 | AL7: (10)週平均の勤務時間数 | AM7: (11)兼務状況 （兼務先／兼務する職務の内容）等
F8: 第１週 | M8: 第２週 | T8: 第３週 | AA8: 第４週 | AH8: 第５週
F9: =DATE($M$2,$S$2,1) -> 45992 | G9: =DATE($M$2,$S$2,2) -> 45993 | H9: =DATE($M$2,$S$2,3) -> 45994 | I9: =DATE($M$2,$S$2,4) -> 45995 | J9: =DATE($M$2,$S$2,5) -> 45996 | K9: =DATE($M$2,$S$2,6) -> 45997 | L9: =DATE($M$2,$S$2,7) -> 45998 | M9: =DATE($M$2,$S$2,8) -> 45999 | N9: =DATE($M$2,$S$2,9) -> 46000 | O9: =DATE($M$2,$S$2,10) -> 46001 | P9: =DATE($M$2,$S$2,11) -> 46002 | Q9: =DATE($M$2,$S$2,12) -> 46003 | R9: =DATE($M$2,$S$2,13) -> 46004 | S9: =DATE($M$2,$S$2,14) -> 46005 | T9: =DATE($M$2,$S$2,15) -> 46006 | U9: =DATE($M$2,$S$2,16) -> 46007 | V9: =DATE($M$2,$S$2,17) -> 46008 | W9: =DATE($M$2,$S$2,18) -> 46009 | X9: =DATE($M$2,$S$2,19) -> 46010 | Y9: =DATE($M$2,$S$2,20) -> 46011 | Z9: =DATE($M$2,$S$2,21) -> 46012 | AA9: =DATE($M$2,$S$2,22) -> 46013 | AB9: =DATE($M$2,$S$2,23) -> 46014 | AC9: =DATE($M$2,$S$2,24) -> 46015 | AD9: =DATE($M$2,$S$2,25) -> 46016 | AE9: =DATE($M$2,$S$2,26) -> 46017 | AF9: =DATE($M$2,$S$2,27) -> 46018 | AG9: =DATE($M$2,$S$2,28) -> 46019 | AH9: =IF(DAY(EOMONTH(F9,0))<29,"",DATE($M$2,$S$2,29)) -> 46020 | AI9: =IF(DAY(EOMONTH(F9,0))<30,"",DATE($M$2,$S$2,30)) -> 46021 | AJ9: =IF(DAY(EOMONTH(F9,0))<31,"",DATE($M$2,$S$2,31)) -> 46022
F10: =DATE($M$2,$S$2,1) -> 45992 | G10: =DATE($M$2,$S$2,2) -> 45993 | H10: =DATE($M$2,$S$2,3) -> 45994 | I10: =DATE($M$2,$S$2,4) -> 45995 | J10: =DATE($M$2,$S$2,5) -> 45996 | K10: =DATE($M$2,$S$2,6) -> 45997 | L10: =DATE($M$2,$S$2,7) -> 45998 | M10: =DATE($M$2,$S$2,8) -> 45999 | N10: =DATE($M$2,$S$2,9) -> 46000 | O10: =DATE($M$2,$S$2,10) -> 46001 | P10: =DATE($M$2,$S$2,11) -> 46002 | Q10: =DATE($M$2,$S$2,12) -> 46003 | R10: =DATE($M$2,$S$2,13) -> 46004 | S10: =DATE($M$2,$S$2,14) -> 46005 | T10: =DATE($M$2,$S$2,15) -> 46006 | U10: =DATE($M$2,$S$2,16) -> 46007 | V10: =DATE($M$2,$S$2,17) -> 46008 | W10: =DATE($M$2,$S$2,18) -> 46009 | X10: =DATE($M$2,$S$2,19) -> 46010 | Y10: =DATE($M$2,$S$2,20) -> 46011 | Z10: =DATE($M$2,$S$2,21) -> 46012 | AA10: =DATE($M$2,$S$2,22) -> 46013 | AB10: =DATE($M$2,$S$2,23) -> 46014 | AC10: =DATE($M$2,$S$2,24) -> 46015 | AD10: =DATE($M$2,$S$2,25) -> 46016 | AE10: =DATE($M$2,$S$2,26) -> 46017 | AF10: =DATE($M$2,$S$2,27) -> 46018 | AG10: =DATE($M$2,$S$2,28) -> 46019 | AH10: =IF(DAY(EOMONTH(F10,0))<29,"",DATE($M$2,$S$2,29)) -> 46020 | AI10: =IF(DAY(EOMONTH(F10,0))<30,"",DATE($M$2,$S$2,30)) -> 46021 | AJ10: =IF(DAY(EOMONTH(F10,0))<31,"",DATE($M$2,$S$2,31)) -> 46022
A11: 1 | C11: A | E11: A | AK11: =+SUM(F11:AJ11) -> 0 | AL11: =IF($AK$3="４週",AK11/4,AK11/(DAY(EOMONTH($F$9,0))/7)) -> 0
A12: 2 | C12: B | E12: B | AK12: =+SUM(F12:AJ12) -> 0 | AL12: =IF($AK$3="４週",AK12/4,AK12/(DAY(EOMONTH($F$9,0))/7)) -> 0
A13: 3 | C13: C | E13: C | AK13: =+SUM(F13:AJ13) -> 0 | AL13: =IF($AK$3="４週",AK13/4,AK13/(DAY(EOMONTH($F$9,0))/7)) -> 0
A14: 4 | C14: D | E14: D | AK14: =+SUM(F14:AJ14) -> 0 | AL14: =IF($AK$3="４週",AK14/4,AK14/(DAY(EOMONTH($F$9,0))/7)) -> 0
A15: 5 | AK15: =+SUM(F15:AJ15) -> 0 | AL15: =IF($AK$3="４週",AK15/4,AK15/(DAY(EOMONTH($F$9,0))/7)) -> 0
A16: 6 | AK16: =+SUM(F16:AJ16) -> 0 | AL16: =IF($AK$3="４週",AK16/4,AK16/(DAY(EOMONTH($F$9,0))/7)) -> 0
A17: 7 | AK17: =+SUM(F17:AJ17) -> 0 | AL17: =IF($AK$3="４週",AK17/4,AK17/(DAY(EOMONTH($F$9,0))/7)) -> 0
A18: 8 | AK18: =+SUM(F18:AJ18) -> 0 | AL18: =IF($AK$3="４週",AK18/4,AK18/(DAY(EOMONTH($F$9,0))/7)) -> 0
A19: 9 | AK19: =+SUM(F19:AJ19) -> 0 | AL19: =IF($AK$3="４週",AK19/4,AK19/(DAY(EOMONTH($F$9,0))/7)) -> 0
A20: 10 | AK20: =+SUM(F20:AJ20) -> 0 | AL20: =IF($AK$3="４週",AK20/4,AK20/(DAY(EOMONTH($F$9,0))/7)) -> 0
A21: 11 | AK21: =+SUM(F21:AJ21) -> 0 | AL21: =IF($AK$3="４週",AK21/4,AK21/(DAY(EOMONTH($F$9,0))/7)) -> 0
A22: 12 | AK22: =+SUM(F22:AJ22) -> 0 | AL22: =IF($AK$3="４週",AK22/4,AK22/(DAY(EOMONTH($F$9,0))/7)) -> 0
A23: 13 | AK23: =+SUM(F23:AJ23) -> 0 | AL23: =IF($AK$3="４週",AK23/4,AK23/(DAY(EOMONTH($F$9,0))/7)) -> 0
A24: 14 | AK24: =+SUM(F24:AJ24) -> 0 | AL24: =IF($AK$3="４週",AK24/4,AK24/(DAY(EOMONTH($F$9,0))/7)) -> 0
A25: 15 | AK25: =+SUM(F25:AJ25) -> 0 | AL25: =IF($AK$3="４週",AK25/4,AK25/(DAY(EOMONTH($F$9,0))/7)) -> 0
A26: 16 | AK26: =+SUM(F26:AJ26) -> 0 | AL26: =IF($AK$3="４週",AK26/4,AK26/(DAY(EOMONTH($F$9,0))/7)) -> 0
... A30: 20 | AK30: =+SUM(F30:AJ30) -> 0 | AL30: =IF($AK$3="４週",AK30/4,AK30/(DAY(EOMONTH($F$9,0))/7)) -> 0
A31: 合計 | F31: =+SUM(F11:F30) -> 0 | G31: =+SUM(G11:G30) -> 0 | H31: =+SUM(H11:H30) -> 0 | I31: =+SUM(I11:I30) -> 0 | J31: =+SUM(J11:J30) -> 0 | K31: =+SUM(K11:K30) -> 0 | L31: =+SUM(L11:L30) -> 0 | M31: =+SUM(M11:M30) -> 0 | ... AJ31: =+SUM(AJ11:AJ30) -> 0 | AK31: =+SUM(F31:AJ31) -> 0 | AL31: =IF($AK$3="４週",AK31/4,AK31/(DAY(EOMONTH($F$9,0))/7)) -> 0
A32: サービス提供時間
A35: ＜前６か月の平均値＞※新規申請の場合は推定数を記載ください。
D36: =IF(MONTH($F$9)<7,MONTH($F$9)+6,MONTH($F$9)-6) -> 6 | E36: =IF(MONTH($F$9)<6,MONTH($F$9)+7,MONTH($F$9)-5) -> 7 | F36: =IF(MONTH($F$9)<5,MONTH($F$9)+8,MONTH($F$9)-4) -> 8 | I36: =IF(MONTH($F$9)<4,MONTH($F$9)+9,MONTH($F$9)-3) -> 9 | L36: =IF(MONTH($F$9)<3,MONTH($F$9)+10,MONTH($F$9)-2) -> 10 | O36: =IF(MONTH($F$9)<2,MONTH($F$9)+11,MONTH($F$9)-1) -> 11 | R36: 計 | V36: 平均利用者数 | Z36: 相談支援専門員の数の標準
A37: 障害者 | R37: =SUM(D37:Q37) -> 0 | V37: =ROUNDUP((R37+R38)/6,1) -> 0 | Z37: =ROUNDDOWN(V37/35,1) -> 0
A38: 障害児 | R38: =+SUM(D38:Q38) -> 0
A39: ＜実人数集計＞
C40: =IF(VLOOKUP($AK$1,[11]選択肢!$A$1:$K$9,C45,FALSE)=0,"-",VLOOKUP($AK$1,[11]選択肢!$A$1:$K$9,C45,FALSE)) -> 管理者 | E40: =IF(VLOOKUP($AK$1,[11]選択肢!$A$1:$K$9,E45,FALSE)=0,"-",VLOOKUP($AK$1,[11]選択肢!$A$1:$K$9,E45,FALSE)) -> 相談支援専門員 | I40: =IF(VLOOKUP($AK$1,[11]選択肢!$A$1:$K$9,I45,FALSE)=0,"-",VLOOKUP($AK$1,[11]選択肢!$A$1:$K$9,I45,FALSE)) -> 相談支援員 | O40: =IF(VLOOKUP($AK$1,[11]選択肢!$A$1:$K$9,O45,FALSE)=0,"-",VLOOKUP($AK$1,[11]選択肢!$A$1:$K$9,O45,FALSE)) -> - | U40: =IF(VLOOKUP($AK$1,[11]選択肢!$A$1:$K$9,U45,FALSE)=0,"-",VLOOKUP($AK$1,[11]選択肢!$A$1:$K$9,U45,FALSE)) -> - | AA40: =IF(VLOOKUP($AK$1,[11]選択肢!$A$1:$K$9,AA45,FALSE)=0,"-",VLOOKUP($AK$1,[11]選択肢!$A$1:$K$9,AA45,FALSE)) -> - | AG40: =IF(VLOOKUP($AK$1,[11]選択肢!$A$1:$K$9,AG45,FALSE)=0,"-",VLOOKUP($AK$1,[11]選択肢!$A$1:$K$9,AG45,FALSE)) -> - | AL40: =IF(VLOOKUP($AK$1,[11]選択肢!$A$1:$K$9,AL45,FALSE)=0,"-",VLOOKUP($AK$1,[11]選択肢!$A$1:$K$9,AL45,FALSE)) -> -
C41: 専従 | D41: 兼務 | E41: 専従 | F41: 兼務 | I41: 専従 | L41: 兼務 | O41: 専従 | R41: 兼務 | U41: 専従 | X41: 兼務 | AA41: 専従 | AD41: 兼務 | AG41: 専従 | AJ41: 兼務 | AL41: 専従 | AM41: 兼務
B42: 常勤 | C42: =COUNTIFS($B$11:$B$30,C$40,$C$11:$C$30,"A",$E$11:$E$30,"*") -> 0 | D42: =COUNTIFS($B$11:$B$30,C$40,$C$11:$C$30,"B",$E$11:$E$30,"*") -> 0 | E42: =COUNTIFS($B$11:$B$30,E$40,$C$11:$C$30,"A",$E$11:$E$30,"*") -> 0 | F42: =COUNTIFS($B$11:$B$30,E$40,$C$11:$C$30,"B",$E$11:$E$30,"*") -> 0 | I42: =COUNTIFS($B$11:$B$30,I$40,$C$11:$C$30,"A",$E$11:$E$30,"*") -> 0 | L42: =COUNTIFS($B$11:$B$30,I$40,$C$11:$C$30,"B",$E$11:$E$30,"*") -> 0 | O42: =COUNTIFS($B$11:$B$30,O$40,$C$11:$C$30,"A",$E$11:$E$30,"*") -> 0 | R42: =COUNTIFS($B$11:$B$30,O$40,$C$11:$C$30,"B",$E$11:$E$30,"*") -> 0 | U42: =COUNTIFS($B$11:$B$30,U$40,$C$11:$C$30,"A",$E$11:$E$30,"*") -> 0 | X42: =COUNTIFS($B$11:$B$30,U$40,$C$11:$C$30,"B",$E$11:$E$30,"*") -> 0 | AA42: =COUNTIFS($B$11:$B$30,AA$40,$C$11:$C$30,"A",$E$11:$E$30,"*") -> 0 | AD42: =COUNTIFS($B$11:$B$30,AA$40,$C$11:$C$30,"B",$E$11:$E$30,"*") -> 0 | AG42: =COUNTIFS($B$11:$B$30,AG$40,$C$11:$C$30,"A",$E$11:$E$30,"*") -> 0 | AJ42: =COUNTIFS($B$11:$B$30,AG$40,$C$11:$C$30,"B",$E$11:$E$30,"*") -> 0 | AL42: =COUNTIFS($B$11:$B$30,AL$40,$C$11:$C$30,"A",$E$11:$E$30,"*") -> 0 | AM42: =COUNTIFS($B$11:$B$30,AL$40,$C$11:$C$30,"B",$E$11:$E$30,"*") -> 0
B43: 非常勤 | C43: =COUNTIFS($B$11:$B$30,C$40,$C$11:$C$30,"C",$E$11:$E$30,"*") -> 0 | D43: =COUNTIFS($B$11:$B$30,C$40,$C$11:$C$30,"D",$E$11:$E$30,"*") -> 0 | E43: =COUNTIFS($B$11:$B$30,E$40,$C$11:$C$30,"C",$E$11:$E$30,"*") -> 0 | F43: =COUNTIFS($B$11:$B$30,E$40,$C$11:$C$30,"D",$E$11:$E$30,"*") -> 0 | I43: =COUNTIFS($B$11:$B$30,I$40,$C$11:$C$30,"C",$E$11:$E$30,"*") -> 0 | L43: =COUNTIFS($B$11:$B$30,I$40,$C$11:$C$30,"D",$E$11:$E$30,"*") -> 0 | O43: =COUNTIFS($B$11:$B$30,O$40,$C$11:$C$30,"C",$E$11:$E$30,"*") -> 0 | R43: =COUNTIFS($B$11:$B$30,O$40,$C$11:$C$30,"D",$E$11:$E$30,"*") -> 0 | U43: =COUNTIFS($B$11:$B$30,U$40,$C$11:$C$30,"C",$E$11:$E$30,"*") -> 0 | X43: =COUNTIFS($B$11:$B$30,U$40,$C$11:$C$30,"D",$E$11:$E$30,"*") -> 0 | AA43: =COUNTIFS($B$11:$B$30,AA$40,$C$11:$C$30,"C",$E$11:$E$30,"*") -> 0 | AD43: =COUNTIFS($B$11:$B$30,AA$40,$C$11:$C$30,"D",$E$11:$E$30,"*") -> 0 | AG43: =COUNTIFS($B$11:$B$30,AG$40,$C$11:$C$30,"C",$E$11:$E$30,"*") -> 0 | AJ43: =COUNTIFS($B$11:$B$30,AG$40,$C$11:$C$30,"D",$E$11:$E$30,"*") -> 0 | AL43: =COUNTIFS($B$11:$B$30,AL$40,$C$11:$C$30,"C",$E$11:$E$30,"*") -> 0 | AM43: =COUNTIFS($B$11:$B$30,AL$40,$C$11:$C$30,"D",$E$11:$E$30,"*") -> 0
B44: 常勤換算数 | C44: =IF($AK$3="４週",SUMIFS($AK$11:$AK$30,$B$11:$B$30,C40)/4/$AH$5,IF($AK$3="歴月",SUMIFS($AK$11:$AK$30,$B$11:$B$30,C40)/$AL$5,"記載する期間を選択してください")) -> #DIV/0! | E44: =IF($AK$3="４週",SUMIFS($AK$11:$AK$30,$B$11:$B$30,E40)/4/$AH$5,IF($AK$3="歴月",SUMIFS($AK$11:$AK$30,$B$11:$B$30,E40)/$AL$5,"記載する期間を選択してください")) -> #DIV/0! | I44: =IF($AK$3="４週",SUMIFS($AK$11:$AK$30,$B$11:$B$30,I40)/4/$AH$5,IF($AK$3="歴月",SUMIFS($AK$11:$AK$30,$B$11:$B$30,I40)/$AL$5,"記載する期間を選択してください")) -> #DIV/0! | O44: =IF($AK$3="４週",SUMIFS($AK$11:$AK$30,$B$11:$B$30,O40)/4/$AH$5,IF($AK$3="歴月",SUMIFS($AK$11:$AK$30,$B$11:$B$30,O40)/$AL$5,"記載する期間を選択してください")) -> #DIV/0! | U44: =IF($AK$3="４週",SUMIFS($AK$11:$AK$30,$B$11:$B$30,U40)/4/$AH$5,IF($AK$3="歴月",SUMIFS($AK$11:$AK$30,$B$11:$B$30,U40)/$AL$5,"記載する期間を選択してください")) -> #DIV/0! | AA44: =IF($AK$3="４週",SUMIFS($AK$11:$AK$30,$B$11:$B$30,AA40)/4/$AH$5,IF($AK$3="歴月",SUMIFS($AK$11:$AK$30,$B$11:$B$30,AA40)/$AL$5,"記載する期間を選択してください")) -> #DIV/0! | AG44: =IF($AK$3="４週",SUMIFS($AK$11:$AK$30,$B$11:$B$30,AG40)/4/$AH$5,IF($AK$3="歴月",SUMIFS($AK$11:$AK$30,$B$11:$B$30,AG40)/$AL$5,"記載する期間を選択してください")) -> #DIV/0! | AL44: =IF($AK$3="４週",SUMIFS($AK$11:$AK$30,$B$11:$B$30,AL40)/4/$AH$5,IF($AK$3="歴月",SUMIFS($AK$11:$AK$30,$B$11:$B$30,AL40)/$AL$5,"記載する期間を選択してください")) -> #DIV/0!
C45: 2 | E45: 3 | I45: 4 | O45: 5 | U45: 6 | AA45: 7 | AG45: 8 | AL45: 9
A46: ・最初に「年月欄」「サービス種別」「事業所名」を入力してください。 | R46: 6 | X46: 7 | AD46: 8 | AJ46: 9
...

Sheet 加入状況確認票（社会保険及び労働保険）
A2: 社会福祉事業等の事業所用
A3: 社会保険及び労働保険への加入状況にかかる確認票
A5: 貴事業所の現状等について、下記の項目に回答してください。
A6: Ⅰ．現在、厚生年金保険・健康保険に加入していますか。 （該当する番号に○を付してください。また、必要事項をご記入ください。）
B7: 加入状況
A8: 1 | B8: 加入している。 →下記のいずれかの書類の写しを提出してください。（提示も可）
B9: ●保険料の領収証書 ●社会保険料納入証明書
B10: ●社会保険料納入確認書
B11: ●健康保険・厚生年金保険資格取得確認および標準報酬決定通知書
B12: ●健康保険・厚生年金保険適用通知書
B13: ※上記書類を所持していない場合には事業所整理記号を下記に記載するのみで可。
B14: （本社等にて加入手続が行われている場合も事業所整理記号を下記に記載するのみで可。）
A17: 2 | B17: 現在、加入手続中である。
A18: 3 | B18: 今後、加入手続を行う。
B19: （申請から３か月以内に適用要件（法人事業所または従業員５人以上の個人事業所）に該当する予定の場合を含む。）
B20: 令和（ ）年（ ）月頃に手続予定。（申請から３か月以内の年月をご記入ください。）
A21: 4 | B21: 適用要件に該当しない。（個人事業所（法人ではない事業所）であって従業員が４名以下の場合。申請から３か月以内に適用要件に該当する予定がない。）
A22: 5 | B22: 適用要件に該当するか不明である。
B23: （個人事業所（法人ではない事業所）であって、正社員と、正社員以外で１週間の所定労働時間及び１か月の所定労働日数が同じ事業所で同様の業務に従事している正社員の４分の３以上である者との合計が５人以上か不明な場合。）
A25: Ⅱ．現在、労働者災害補償保険・雇用保険に加入していますか。 （該当する番号に○を付してください。また、必要事項をご記入ください。）
B26: 加入状況
A27: 1 | B27: 加入している。 →下記のいずれかの書類の写しを提出してください。（提示も可）
B28: ●労働保険概算・確定保険料申告書
B29: ●納付書・領収証等 ●保険関係成立届
B30: ※上記書類を所持していない場合には労働保険番号を下記に記載するのみで可。
B31: （本社等にて加入手続が行われている場合も労働保険番号を下記に記載するのみで可。）
M32: －
A34: 2 | B34: 現在、加入手続中である。
A35: 3 | B35: 今後、加入手続を行う。
B36: （申請から３か月以内に従業員（パート・アルバイトを含む）を雇う予定がある場合を含む。）
B37: 令和（ ）年（ ）月頃に手続予定。（申請から３か月以内の年月をご記入ください。）
A38: 4 | B38: 適用要件に該当しない。（事業主・役員・同居の親族のみで経営、従業員（パート・アルバイトを含む）がいない、申請から３か月以内に従業員を雇う予定がない。）
A40: 回答年月日 令和 年 月 日
A41: 事 業 所 名 称
A42: 事業所 所在地
A43: 会社等法人番号
A44: 電 話 番 号
A46: ※ 事業主の皆様には、全ての法令を遵守していただきたいと考えています。社会保険・労働保険の適用が確認できない場合は、厚生労働省からの依頼に基づき、厚生労働省に情報提供いたします。
A47: ※ 社会保険・労働保険の適用促進以外の目的では使用いたしません。

Sheet Sheet1
A1: 社会福祉法人(社協以外)
A2: 社会福祉法人(社協)
A3: 医療法人
A4: 社団・財団
A5: 営利法人
A6: 非営利法人(ＮＰＯ)
A7: 農協
A8: 生協
A9: その他法人
A10: 地方公共団体(都道府県)
A11: 地方公共団体(市町村)
A12: 地方公共団体(広域連合・一部事務組合等)
... A14: その他
A16: 児童発達支援 | D16: 61
A17: 放課後等デイサービス | D17: 63
A18: 居宅訪問型児童発達支援 | D18: 65
A19: 保育所等訪問支援 | D19: 64
A20: 障害児相談支援 | D20: 55
A21: 福祉型障害児入所施設 | D21: 71
A22: 医療型障害児入所施設 | D22: 72
A24: 事業所
A25: 施設
A27: 指定
A28: 指定の更新
A29: 指定の変更
A31: ○
